Workbook

Sheet read me
A1: This Excel file is provided in support of the manuscript entitled "Simple Method for Measuring the Spectral Absorption Cross-Section of Microalgae", Chemical Engineering Science, Vol. 146, No. 2, pp. 357-368.
A2: by Razmig Kandilian, Antoine Soulies, Jeremy Pruvost, Benoit Rousseau, Jack Legrand, and Laurent Pilon
A3: doi: 10.1016/j.ces.2016.02.039
A5: Software
A6: Excel has a built-in optimization package that you can activate by
A7: a. Under the menu Tools select Adds-In
A8: b. In Adds-In check the boxes for
A9: (i) Analysis ToolPak
A10: (ii) Analysis ToolPak- VBA
A11: (iii) Solver Add-in
A13: Data processing for a given dilution
A14: c. select the worksheet of interest
... A21: e. Note: you might have to optimize yourself manually before running the Excel Solver.

Sheet Low concentration
A1: Radiation characteristics obtained from direct measurements
A3: Cx (g/l) = | B3: 0.049 | F3: Cx (g/l) = | G3: 0.035
A4: Wavelength | B4: Abs(m2/kg) | C4: Ssca (m2/kg) | D4: Eext (m2/kg) | E4: Ssca,tr (m2/kg) | F4: Wavelength | G4: Abs(m2/kg) | H4: Ssca (m2/kg) | I4: Eext (m2/kg)
A5: 750 | B5: 0 | C5: 1559.2772 | D5: =B5+C5 -> 1559.2772 | E5: =C5*(1-0.97) -> 46.778315 | F5: 750 | G5: 0 | H5: 1570.2008 | I5: =G5+H5 -> 1570.2008
A6: 749 | B6: 0.040790902 | C6: 1562.034 | D6: =B6+C6 -> 1562.0748 | E6: =C6*(1-0.97) -> 46.86102 | F6: 749 | G6: -0.022986966 | H6: 1572.5986 | I6: =G6+H6 -> 1572.5757
A7: 748 | B7: 2.251428 | C7: 1564.9216 | D7: =B7+C7 -> 1567.173 | E7: =C7*(1-0.97) -> 46.947647 | F7: 748 | G7: -0.011799195 | H7: 1577.3785 | I7: =G7+H7 -> 1577.3667
A8: 747 | B8: 0.48816113 | C8: 1567.8072 | D8: =B8+C8 -> 1568.2954 | E8: =C8*(1-0.97) -> 47.034216 | F8: 747 | G8: -2.408963 | H8: 1581.0469 | I8: =G8+H8 -> 1578.6379
A9: 746 | B9: 0.29939191 | C9: 1571.2268 | D9: =B9+C9 -> 1571.5262 | E9: =C9*(1-0.97) -> 47.136804 | F9: 746 | G9: -2.2434274 | H9: 1584.5905 | I9: =G9+H9 -> 1582.347
A10: 745 | B10: -0.53907615 | C10: 1573.9758 | D10: =B10+C10 -> 1573.4367 | E10: =C10*(1-0.97) -> 47.219274 | F10: 745 | G10: -3.4801571 | H10: 1589.2421 | I10: =G10+H10 -> 1585.7619
A11: 744 | B11: 1.4155111 | C11: 1576.7978 | D11: =B11+C11 -> 1578.2133 | E11: =C11*(1-0.97) -> 47.303934 | F11: 744 | G11: -1.586857 | H11: 1591.0103 | I11: =G11+H11 -> 1589.4235
A12: 743 | B12: 0.6200166 | C12: 1580.6656 | D12: =B12+C12 -> 1581.2856 | E12: =C12*(1-0.97) -> 47.419967 | F12: 743 | G12: -0.88961817 | H12: 1593.5018 | I12: =G12+H12 -> 1592.6121
A13: 742 | B13: -0.8214718 | C13: 1583.7867 | D13: =B13+C13 -> 1582.9652 | E13: =C13*(1-0.97) -> 47.5136 | F13: 742 | G13: -1.8959939 | H13: 1598.0047 | I13: =G13+H13 -> 1596.1087
A14: 741 | B14: 1.5943434 | C14: 1586.9496 | D14: =B14+C14 -> 1588.5439 | E14: =C14*(1-0.97) -> 47.608488 | F14: 741 | G14: 0.33480788 | H14: 1600.9786 | I14: =G14+H14 -> 1601.3135
A15: 740 | B15: -0.98109793 | C15: 1592.3865 | D15: =B15+C15 -> 1591.4054 | E15: =C15*(1-0.97) -> 47.771594 | F15: 740 | G15: 0.82164918 | H15: 1604.4741 | I15: =G15+H15 -> 1605.2958
A16: 739 | B16: -1.3829379 | C16: 1596.731 | D16: =B16+C16 -> 1595.348 | E16: =C16*(1-0.97) -> 47.901929 | F16: 739 | G16: -2.9732185 | H16: 1609.3317 | I16: =G16+H16 -> 1606.3584
... A405: 350 | B405: 280.63603 | C405: 1705.2073 | D405: =B405+C405 -> 1985.8433 | E405: =C405*(1-0.97) -> 51.156218 | F405: 350 | G405: 289.22015 | H405: 1704.8952 | I405: =G405+H405 -> 1994.1154

Sheet Dilution6
A1: X= | B1: 0.1113 | C1: g/L | AI1: dilution 6
A3: l (nm) | B3: Abs,l (m2/kg) | C3: Ssca,l (m2/kg) | D3: n | E3: k (1/m) | F3: ss (1/m) | G3: g | H3: d (m) | J3: wtr | K3: ttr | L3: mc | M3: R1 | N3: Ctr | O3: Etr | P3: c | Q3: k2 | R3: g | S3: gbar | T3: j | U3: s | V3: c | W3: k1 | X3: k2 | Y3: D1 | Z3: D | AA3: A | AB3: B | AC3: R0dh | AD3: T0dh | AE3: Rdh | AF3: Tdh | AG3: Adh | AI3: l (nm) | AJ3: Rdh | AK3: Tdh | AL3: Rdh | AM3: Tdh | AO3: error
A4: 750 | B4: 42.908031 | C4: 120.03889 | D4: =1.32711+0.0026/(A4/1000)^2+0.00005/(A4/1000)^4 -> 1.3318902 | E4: =B4*B$1 -> 4.7756639 | F4: =C4*B$1 -> 13.360329 | G4: 0.39978825 | H4: 0.01 | J4: =F4*(1-G4)/(F4*(1-G4)+E4) -> 0.62674642 | K4: =(F4*(1-G4)+E4)*H4 -> 0.1279469 | L4: =SQRT(1-1/D4^2) -> 0.66051527 | M4: =(D4-1)^2/(D4+1)^2 -> 0.02025689 | N4: =M4*EXP(-2*K4) -> 0.015683374 | O4: =EXP(-K4) -> 0.8799001 | P4: =J4/(1-J4)*(1-M4)/(1-M4*N4) -> 1.6456524 | Q4: =4/(1+L4)^2*(1-J4)/(1-J4*L4) -> 0.92397987 | R4: =(1-M4)/(1+M4) -> 0.96029061 | S4: =R4/(1+L4) -> 0.57830881 | T4: =2*S4/SQRT(Q4) -> 1.2032574 | U4: =SINH(SQRT(Q4)*K4) -> 0.1232978 | V4: =COSH(SQRT(Q4)*K4) -> 1.0075725 | W4: =(1-2*S4)-(1+2*S4)*M4 -> -0.20030399 | X4: =(1-2*S4)*N4-(1+2*S4) -> -2.1590739 | Y4: =R4*(1-L4^2)*P4/2 -> 0.4454243 | Z4: =Y4*Q4/(Q4-1) -> -5.41387 | AA4: =(W4*(T4*U4+V4)*O4+X4)/((1+T4^2)*U4+2*T4*V4) -> -0.86659108 | AB4: =(W4*O4+X4*(T4*U4+V4))/((1+T4^2)*U4+2*T4*V4) -> -0.97998899 | AC4: =M4+(1-M4)^2*N4/(1-M4*N4) -> 0.035316091 | AD4: =(1-M4)^2/(1-M4*N4)*O4 -> 0.8448815 | AE4: =AC4+Z4*(1+AB4/SQRT(Q4)+N4) -> 0.05601329 | AF4: =AD4+Z4*(AA4/SQRT(Q4)+(1+M4)*O4) -> 0.86551713 | AG4: =1-AE4-AF4 -> 0.078469577 | AI4: 750 | AJ4: 5.6013234 | AK4: 86.551712 | AL4: =AJ4/100 -> 0.056013234 | AM4: =AK4/100 -> 0.86551712 | AO4: =(AJ4/100-AE4)^2+(AK4/100-AF4)^2 -> 3.2519433e-15
A5: 740 | B5: 44.333784 | C5: 197.96554 | D5: =1.32711+0.0026/(A5/1000)^2+0.00005/(A5/1000)^4 -> 1.3320247 | E5: =B5*B$1 -> 4.9343501 | F5: =C5*B$1 -> 22.033564 | G5: 0.63932258 | H5: 0.01 | J5: =F5*(1-G5)/(F5*(1-G5)+E5) -> 0.61693871 | K5: =(F5*(1-G5)+E5)*H5 -> 0.12881359 | L5: =SQRT(1-1/D5^2) -> 0.66060142 | M5: =(D5-1)^2/(D5+1)^2 -> 0.020270972 | N5: =M5*EXP(-2*K5) -> 0.015667096 | O5: =EXP(-K5) -> 0.87913783 | P5: =J5/(1-J5)*(1-M5)/(1-M5*N5) -> 1.5784022 | Q5: =4/(1+L5)^2*(1-J5)/(1-J5*L5) -> 0.93787763 | R5: =(1-M5)/(1+M5) -> 0.96026355 | S5: =R5/(1+L5) -> 0.57826251 | T5: =2*S5/SQRT(Q5) -> 1.1942134 | U5: =SINH(SQRT(Q5)*K5) -> 0.12507215 | V5: =COSH(SQRT(Q5)*K5) -> 1.0077912 | W5: =(1-2*S5)-(1+2*S5)*M5 -> -0.20023988 | X5: =(1-2*S5)*N5-(1+2*S5) -> -2.1589773 | Y5: =R5*(1-L5^2)*P5/2 -> 0.42712358 | Z5: =Y5*Q5/(Q5-1) -> -6.4483957 | AA5: =(W5*(T5*U5+V5)*O5+X5)/((1+T5^2)*U5+2*T5*V5) -> -0.87168399 | AB5: =(W5*O5+X5*(T5*U5+V5))/((1+T5^2)*U5+2*T5*V5) -> -0.98665512 | AC5: =M5+(1-M5)^2*N5/(1-M5*N5) -> 0.035314108 | AD5: =(1-M5)^2/(1-M5*N5)*O5 -> 0.8441252 | AE5: =AC5+Z5*(1+AB5/SQRT(Q5)+N5) -> 0.055566976 | AF5: =AD5+Z5*(AA5/SQRT(Q5)+(1+M5)*O5) -> 0.86431698 | AG5: =1-AE5-AF5 -> 0.080116043 | AI5: 740 | AJ5: 5.5566893 | AK5: 86.431688 | AL5: =AJ5/100 -> 0.055566893 | AM5: =AK5/100 -> 0.86431688 | AO5: =(AJ5/100-AE5)^2+(AK5/100-AF5)^2 -> 1.7918551e-14
A6: 730 | B6: 41.619884 | C6: 197.30954 | D6: =1.32711+0.0026/(A6/1000)^2+0.00005/(A6/1000)^4 -> 1.332165 | E6: =B6*B$1 -> 4.6322931 | F6: =C6*B$1 -> 21.960551 | G6: 0.64515778 | H6: 0.01 | J6: =F6*(1-G6)/(F6*(1-G6)+E6) -> 0.62717435 | K6: =(F6*(1-G6)+E6)*H6 -> 0.12424824 | L6: =SQRT(1-1/D6^2) -> 0.66069127 | M6: =(D6-1)^2/(D6+1)^2 -> 0.020285666 | N6: =M6*EXP(-2*K6) -> 0.015822263 | O6: =EXP(-K6) -> 0.88316058 | P6: =J6/(1-J6)*(1-M6)/(1-M6*N6) -> 1.6486231 | Q6: =4/(1+L6)^2*(1-J6)/(1-J6*L6) -> 0.92334421 | R6: =(1-M6)/(1+M6) -> 0.96023532 | S6: =R6/(1+L6) -> 0.57821423 | T6: =2*S6/SQRT(Q6) -> 1.2034747 | U6: =SINH(SQRT(Q6)*K6) -> 0.11967497 | V6: =COSH(SQRT(Q6)*K6) -> 1.0071356 | W6: =(1-2*S6)-(1+2*S6)*M6 -> -0.20017305 | X6: =(1-2*S6)*N6-(1+2*S6) -> -2.1589035 | Y6: =R6*(1-L6^2)*P6/2 -> 0.44601863 | Z6: =Y6*Q6/(Q6-1) -> -5.3724413 | AA6: =(W6*(T6*U6+V6)*O6+X6)/((1+T6^2)*U6+2*T6*V6) -> -0.86945081 | AB6: =(W6*O6+X6*(T6*U6+V6))/((1+T6^2)*U6+2*T6*V6) -> -0.97972147 | AC6: =M6+(1-M6)^2*N6/(1-M6*N6) -> 0.035477386 | AD6: =(1-M6)^2/(1-M6*N6)*O6 -> 0.84796517 | AE6: =AC6+Z6*(1+AB6/SQRT(Q6)+N6) -> 0.055659321 | AF6: =AD6+Z6*(AA6/SQRT(Q6)+(1+M6)*O6) -> 0.86809048 | AG6: =1-AE6-AF6 -> 0.076250199 | AI6: 730 | AJ6: 5.565922 | AK6: 86.809036 | AL6: =AJ6/100 -> 0.05565922 | AM6: =AK6/100 -> 0.86809036 | AO6: =(AJ6/100-AE6)^2+(AK6/100-AF6)^2 -> 2.4998925e-14
A7: 720 | B7: 42.656941 | C7: 210.12773 | D7: =1.32711+0.0026/(A7/1000)^2+0.00005/(A7/1000)^4 -> 1.3323115 | E7: =B7*B$1 -> 4.7477175 | F7: =C7*B$1 -> 23.387216 | G7: 0.66701949 | H7: 0.01 | J7: =F7*(1-G7)/(F7*(1-G7)+E7) -> 0.6212493 | K7: =(F7*(1-G7)+E7)*H7 -> 0.12535205 | L7: =SQRT(1-1/D7^2) -> 0.66078501 | M7: =(D7-1)^2/(D7+1)^2 -> 0.020301008 | N7: =M7*EXP(-2*K7) -> 0.015799313 | O7: =EXP(-K7) -> 0.88218628 | P7: =J7/(1-J7)*(1-M7)/(1-M7*N7) -> 1.6074758 | Q7: =4/(1+L7)^2*(1-J7)/(1-J7*L7) -> 0.9317766 | R7: =(1-M7)/(1+M7) -> 0.96020585 | S7: =R7/(1+L7) -> 0.57816385 | T7: =2*S7/SQRT(Q7) -> 1.1979123 | U7: =SINH(SQRT(Q7)*K7) -> 0.12129603 | V7: =COSH(SQRT(Q7)*K7) -> 1.0073295 | W7: =(1-2*S7)-(1+2*S7)*M7 -> -0.20010332 | X7: =(1-2*S7)*N7-(1+2*S7) -> -2.1587976 | Y7: =R7*(1-L7^2)*P7/2 -> 0.4347777 | Z7: =Y7*Q7/(Q7-1) -> -5.9380749 | AA7: =(W7*(T7*U7+V7)*O7+X7)/((1+T7^2)*U7+2*T7*V7) -> -0.87209176 | AB7: =(W7*O7+X7*(T7*U7+V7))/((1+T7^2)*U7+2*T7*V7) -> -0.98378825 | AC7: =M7+(1-M7)^2*N7/(1-M7*N7) -> 0.035470214 | AD7: =(1-M7)^2/(1-M7*N7)*O7 -> 0.84700298 | AE7: =AC7+Z7*(1+AB7/SQRT(Q7)+N7) -> 0.055473065 | AF7: =AD7+Z7*(AA7/SQRT(Q7)+(1+M7)*O7) -> 0.8669487 | AG7: =1-AE7-AF7 -> 0.077578238 | AI7: 720 | AJ7: 5.547302 | AK7: 86.694873 | AL7: =AJ7/100 -> 0.05547302 | AM7: =AK7/100 -> 0.86694873 | AO7: =(AJ7/100-AE7)^2+(AK7/100-AF7)^2 -> 3.065837e-15
A8: 710 | B8: 56.619725 | C8: 199.63287 | D8: =1.32711+0.0026/(A8/1000)^2+0.00005/(A8/1000)^4 -> 1.3324645 | E8: =B8*B$1 -> 6.3017754 | F8: =C8*B$1 -> 22.219139 | G8: 0.62672041 | H8: 0.01 | J8: =F8*(1-G8)/(F8*(1-G8)+E8) -> 0.56824517 | K8: =(F8*(1-G8)+E8)*H8 -> 0.14595726 | L8: =SQRT(1-1/D8^2) -> 0.66088288 | M8: =(D8-1)^2/(D8+1)^2 -> 0.020317038 | N8: =M8*EXP(-2*K8) -> 0.015173422 | O8: =EXP(-K8) -> 0.86419464 | P8: =J8/(1-J8)*(1-M8)/(1-M8*N8) -> 1.289787 | Q8: =4/(1+L8)^2*(1-J8)/(1-J8*L8) -> 1.0025753 | R8: =(1-M8)/(1+M8) -> 0.96017505 | S8: =R8/(1+L8) -> 0.57811123 | T8: =2*S8/SQRT(Q8) -> 1.1547365 | U8: =SINH(SQRT(Q8)*K8) -> 0.14666588 | V8: =COSH(SQRT(Q8)*K8) -> 1.0106982 | W8: =(1-2*S8)-(1+2*S8)*M8 -> -0.20003052 | X8: =(1-2*S8)*N8-(1+2*S8) -> -2.1585929 | Y8: =R8*(1-L8^2)*P8/2 -> 0.34876039 | Z8: =Y8*Q8/(Q8-1) -> 135.77487 | AA8: =(W8*(T8*U8+V8)*O8+X8)/((1+T8^2)*U8+2*T8*V8) -> -0.88274276 | AB8: =(W8*O8+X8*(T8*U8+V8))/((1+T8^2)*U8+2*T8*V8) -> -1.0163348 | AC8: =M8+(1-M8)^2*N8/(1-M8*N8) -> 0.034884656 | AD8: =(1-M8)^2/(1-M8*N8)*O8 -> 0.82969139 | AE8: =AC8+Z8*(1+AB8/SQRT(Q8)+N8) -> 0.054541671 | AF8: =AD8+Z8*(AA8/SQRT(Q8)+(1+M8)*O8) -> 0.8492722 | AG8: =1-AE8-AF8 -> 0.096186126 | AI8: 710 | AJ8: 5.4541671 | AK8: 84.927217 | AL8: =AJ8/100 -> 0.054541671 | AM8: =AK8/100 -> 0.84927217 | AO8: =(AJ8/100-AE8)^2+(AK8/100-AF8)^2 -> 1.195475e-15
A9: 700 | B9: 101.23723 | C9: 267.40946 | D9: =1.32711+0.0026/(A9/1000)^2+0.00005/(A9/1000)^4 -> 1.3326244 | E9: =B9*B$1 -> 11.267703 | F9: =C9*B$1 -> 29.762673 | G9: 0.67114426 | H9: 0.01 | J9: =F9*(1-G9)/(F9*(1-G9)+E9) -> 0.46485266 | K9: =(F9*(1-G9)+E9)*H9 -> 0.21055329 | L9: =SQRT(1-1/D9^2) -> 0.66098512 | M9: =(D9-1)^2/(D9+1)^2 -> 0.020333798 | N9: =M9*EXP(-2*K9) -> 0.013345481 | O9: =EXP(-K9) -> 0.81013588 | P9: =J9/(1-J9)*(1-M9)/(1-M9*N9) -> 0.85121239 | Q9: =4/(1+L9)^2*(1-J9)/(1-J9*L9) -> 1.1200362 | R9: =(1-M9)/(1+M9) -> 0.96014285 | S9: =R9/(1+L9) -> 0.57805626 | T9: =2*S9/SQRT(Q9) -> 1.092406 | U9: =SINH(SQRT(Q9)*K9) -> 0.22468093 | V9: =COSH(SQRT(Q9)*K9) -> 1.02493 | W9: =(1-2*S9)-(1+2*S9)*M9 -> -0.19995448 | X9: =(1-2*S9)*N9-(1+2*S9) -> -2.1581959 | Y9: =R9*(1-L9^2)*P9/2 -> 0.23010619 | Z9: =Y9*Q9/(Q9-1) -> 2.1470799 | AA9: =(W9*(T9*U9+V9)*O9+X9)/((1+T9^2)*U9+2*T9*V9) -> -0.86526783 | AB9: =(W9*O9+X9*(T9*U9+V9))/((1+T9^2)*U9+2*T9*V9) -> -1.0628166 | AC9: =M9+(1-M9)^2*N9/(1-M9*N9) -> 0.033145546 | AD9: =(1-M9)^2/(1-M9*N9)*O9 -> 0.77773561 | AE9: =AC9+Z9*(1+AB9/SQRT(Q9)+N9) -> 0.052671975 | AF9: =AD9+Z9*(AA9/SQRT(Q9)+(1+M9)*O9) -> 0.79710436 | AG9: =1-AE9-AF9 -> 0.15022366 | AI9: 700 | AJ9: 5.2671933 | AK9: 79.710415 | AL9: =AJ9/100 -> 0.052671933 | AM9: =AK9/100 -> 0.79710415 | AO9: =(AJ9/100-AE9)^2+(AK9/100-AF9)^2 -> 4.8427592e-14
A10: 690 | B10: 257.11766 | C10: 249.50817 | D10: =1.32711+0.0026/(A10/1000)^2+0.00005/(A10/1000)^4 -> 1.3327916 | E10: =B10*B$1 -> 28.617196 | F10: =C10*B$1 -> 27.77026 | G10: 0.52245499 | H10: 0.01 | J10: =F10*(1-G10)/(F10*(1-G10)+E10) -> 0.31666538 | K10: =(F10*(1-G10)+E10)*H10 -> 0.41878745 | L10: =SQRT(1-1/D10^2) -> 0.66109201 | M10: =(D10-1)^2/(D10+1)^2 -> 0.020351334 | N10: =M10*EXP(-2*K10) -> 0.0088072175 | O10: =EXP(-K10) -> 0.65784401 | P10: =J10/(1-J10)*(1-M10)/(1-M10*N10) -> 0.45406222 | Q10: =4/(1+L10)^2*(1-J10)/(1-J10*L10) -> 1.2529074 | R10: =(1-M10)/(1+M10) -> 0.96010916 | S10: =R10/(1+L10) -> 0.57799878 | T10: =2*S10/SQRT(Q10) -> 1.0327553 | U10: =SINH(SQRT(Q10)*K10) -> 0.48611996 | V10: =COSH(SQRT(Q10)*K10) -> 1.111896 | W10: =(1-2*S10)-(1+2*S10)*M10 -> -0.19987499 | X10: =(1-2*S10)*N10-(1+2*S10) -> -2.1573715 | Y10: =R10*(1-L10^2)*P10/2 -> 0.12271043 | Z10: =Y10*Q10/(Q10-1) -> 0.60790942 | AA10: =(W10*(T10*U10+V10)*O10+X10)/((1+T10^2)*U10+2*T10*V10) -> -0.71778559 | AB10: =(W10*O10+X10*(T10*U10+V10))/((1+T10^2)*U10+2*T10*V10) -> -1.0945439 | AC10: =M10+(1-M10)^2*N10/(1-M10*N10) -> 0.028805237 | AD10: =(1-M10)^2/(1-M10*N10)*O10 -> 0.63145365 | AE10: =AC10+Z10*(1+AB10/SQRT(Q10)+N10) -> 0.047622456 | AF10: =AD10+Z10*(AA10/SQRT(Q10)+(1+M10)*O10) -> 0.64967293 | AG10: =1-AE10-AF10 -> 0.30270461 | AI10: 690 | AJ10: 4.7622087 | AK10: 64.967306 | AL10: =AJ10/100 -> 0.047622087 | AM10: =AK10/100 -> 0.64967306 | AO10: =(AJ10/100-AE10)^2+(AK10/100-AF10)^2 -> 1.5288952e-13
A11: 680 | B11: 415.94397 | C11: 253.80439 | D11: =1.32711+0.0026/(A11/1000)^2+0.00005/(A11/1000)^4 -> 1.3329667 | E11: =B11*B$1 -> 46.294564 | F11: =C11*B$1 -> 28.248429 | G11: 0.42226734 | H11: 0.01 | J11: =F11*(1-G11)/(F11*(1-G11)+E11) -> 0.26064271 | K11: =(F11*(1-G11)+E11)*H11 -> 0.62614603 | L11: =SQRT(1-1/D11^2) -> 0.66120384 | M11: =(D11-1)^2/(D11+1)^2 -> 0.020369693 | N11: =M11*EXP(-2*K11) -> 0.0058226537 | O11: =EXP(-K11) -> 0.53464835 | P11: =J11/(1-J11)*(1-M11)/(1-M11*N11) -> 0.34538617 | Q11: =4/(1+L11)^2*(1-J11)/(1-J11*L11) -> 1.2948381 | R11: =(1-M11)/(1+M11) -> 0.9600739 | S11: =R11/(1+L11) -> 0.57793865 | T11: =2*S11/SQRT(Q11) -> 1.0157902 | U11: =SINH(SQRT(Q11)*K11) -> 0.77432987 | V11: =COSH(SQRT(Q11)*K11) -> 1.2647477 | W11: =(1-2*S11)-(1+2*S11)*M11 -> -0.19979185 | X11: =(1-2*S11)*N11-(1+2*S11) -> -2.1567849 | Y11: =R11*(1-L11^2)*P11/2 -> 0.093312757 | Z11: =Y11*Q11/(Q11-1) -> 0.4098009 | AA11: =(W11*(T11*U11+V11)*O11+X11)/((1+T11^2)*U11+2*T11*V11) -> -0.57350938 | AB11: =(W11*O11+X11*(T11*U11+V11))/((1+T11^2)*U11+2*T11*V11) -> -1.0937296 | AC11: =M11+(1-M11)^2*N11/(1-M11*N11) -> 0.025958215 | AD11: =(1-M11)^2/(1-M11*N11)*O11 -> 0.51314981 | AE11: =AC11+Z11*(1+AB11/SQRT(Q11)+N11) -> 0.044255063 | AF11: =AD11+Z11*(AA11/SQRT(Q11)+(1+M11)*O11) -> 0.53017144 | AG11: =1-AE11-AF11 -> 0.42557349 | AI11: 680 | AJ11: 4.425462 | AK11: 53.017152 | AL11: =AJ11/100 -> 0.04425462 | AM11: =AK11/100 -> 0.53017152 | AO11: =(AJ11/100-AE11)^2+(AK11/100-AF11)^2 -> 2.0251049e-13
A12: 670 | B12: 399.05416 | C12: 304.68229 | D12: =1.32711+0.0026/(A12/1000)^2+0.00005/(A12/1000)^4 -> 1.3331501 | E12: =B12*B$1 -> 44.414728 | F12: =C12*B$1 -> 33.911139 | G12: 0.5287421 | H12: 0.01 | J12: =F12*(1-G12)/(F12*(1-G12)+E12) -> 0.2646035 | K12: =(F12*(1-G12)+E12)*H12 -> 0.6039562 | L12: =SQRT(1-1/D12^2) -> 0.6613209 | M12: =(D12-1)^2/(D12+1)^2 -> 0.020388931 | N12: =M12*EXP(-2*K12) -> 0.0060926294 | O12: =EXP(-K12) -> 0.54664472 | P12: =J12/(1-J12)*(1-M12)/(1-M12*N12) -> 0.35251829 | Q12: =4/(1+L12)^2*(1-J12)/(1-J12*L12) -> 1.2918561 | R12: =(1-M12)/(1+M12) -> 0.96003694 | S12: =R12/(1+L12) -> 0.57787568 | T12: =2*S12/SQRT(Q12) -> 1.0168511 | U12: =SINH(SQRT(Q12)*K12) -> 0.74165237 | V12: =COSH(SQRT(Q12)*K12) -> 1.2450093 | W12: =(1-2*S12)-(1+2*S12)*M12 -> -0.19970482 | X12: =(1-2*S12)*N12-(1+2*S12) -> -2.1567003 | Y12: =R12*(1-L12^2)*P12/2 -> 0.095209774 | Z12: =Y12*Q12/(Q12-1) -> 0.42143142 | AA12: =(W12*(T12*U12+V12)*O12+X12)/((1+T12^2)*U12+2*T12*V12) -> -0.58778625 | AB12: =(W12*O12+X12*(T12*U12+V12))/((1+T12^2)*U12+2*T12*V12) -> -1.094114 | AC12: =M12+(1-M12)^2*N12/(1-M12*N12) -> 0.026236375 | AD12: =(1-M12)^2/(1-M12*N12)*O12 -> 0.52464613 | AE12: =AC12+Z12*(1+AB12/SQRT(Q12)+N12) -> 0.044556536 | AF12: =AD12+Z12*(AA12/SQRT(Q12)+(1+M12)*O12) -> 0.54177529 | AG12: =1-AE12-AF12 -> 0.41366817 | AI12: 670 | AJ12: 4.4555922 | AK12: 54.177542 | AL12: =AJ12/100 -> 0.044555922 | AM12: =AK12/100 -> 0.54177542 | AO12: =(AJ12/100-AE12)^2+(AK12/100-AF12)^2 -> 3.9317795e-13
A13: 660 | B13: 286.55043 | C13: 315.52738 | D13: =1.32711+0.0026/(A13/1000)^2+0.00005/(A13/1000)^4 -> 1.3333423 | E13: =B13*B$1 -> 31.893063 | F13: =C13*B$1 -> 35.118197 | G13: 0.60582833 | H13: 0.01 | J13: =F13*(1-G13)/(F13*(1-G13)+E13) -> 0.30266532 | K13: =(F13*(1-G13)+E13)*H13 -> 0.45735662 | L13: =SQRT(1-1/D13^2) -> 0.66144354 | M13: =(D13-1)^2/(D13+1)^2 -> 0.020409103 | N13: =M13*EXP(-2*K13) -> 0.0081765295 | O13: =EXP(-K13) -> 0.63295458 | P13: =J13/(1-J13)*(1-M13)/(1-M13*N13) -> 0.42524441 | Q13: =4/(1+L13)^2*(1-J13)/(1-J13*L13) -> 1.2634164 | R13: =(1-M13)/(1+M13) -> 0.95999819 | S13: =R13/(1+L13) -> 0.5778097 | T13: =2*S13/SQRT(Q13) -> 1.0281147 | U13: =SINH(SQRT(Q13)*K13) -> 0.53702112 | V13: =COSH(SQRT(Q13)*K13) -> 1.1350734 | W13: =(1-2*S13)-(1+2*S13)*M13 -> -0.19961366 | X13: =(1-2*S13)*N13-(1+2*S13) -> -2.1568918 | Y13: =R13*(1-L13^2)*P13/2 -> 0.11481423 | Z13: =Y13*Q13/(Q13-1) -> 0.5506801 | AA13: =(W13*(T13*U13+V13)*O13+X13)/((1+T13^2)*U13+2*T13*V13) -> -0.68924527 | AB13: =(W13*O13+X13*(T13*U13+V13))/((1+T13^2)*U13+2*T13*V13) -> -1.0950389 | AC13: =M13+(1-M13)^2*N13/(1-M13*N13) -> 0.028256597 | AD13: =(1-M13)^2/(1-M13*N13)*O13 -> 0.60748353 | AE13: =AC13+Z13*(1+AB13/SQRT(Q13)+N13) -> 0.046956693 | AF13: =AD13+Z13*(AA13/SQRT(Q13)+(1+M13)*O13) -> 0.62547694 | AG13: =1-AE13-AF13 -> 0.32756637 | AI13: 660 | AJ13: 4.6956682 | AK13: 62.54769 | AL13: =AJ13/100 -> 0.046956682 | AM13: =AK13/100 -> 0.6254769 | AO13: =(AJ13/100-AE13)^2+(AK13/100-AF13)^2 -> 1.6566185e-15
A14: 650 | B14: 248.14913 | C14: 219.59224 | D14: =1.32711+0.0026/(A14/1000)^2+0.00005/(A14/1000)^4 -> 1.3335439 | E14: =B14*B$1 -> 27.618999 | F14: =C14*B$1 -> 24.440616 | G14: 0.46301076 | H14: 0.01 | J14: =F14*(1-G14)/(F14*(1-G14)+E14) -> 0.32212248 | K14: =(F14*(1-G14)+E14)*H14 -> 0.40743346 | L14: =SQRT(1-1/D14^2) -> 0.66157212 | M14: =(D14-1)^2/(D14+1)^2 -> 0.020430273 | N14: =M14*EXP(-2*K14) -> 0.0090444456 | O14: =EXP(-K14) -> 0.66535572 | P14: =J14/(1-J14)*(1-M14)/(1-M14*N14) -> 0.46557045 | Q14: =4/(1+L14)^2*(1-J14)/(1-J14*L14) -> 1.2481227 | R14: =(1-M14)/(1+M14) -> 0.95995753 | S14: =R14/(1+L14) -> 0.57774052 | T14: =2*S14/SQRT(Q14) -> 1.0342706 | U14: =SINH(SQRT(Q14)*K14) -> 0.47106418 | V14: =COSH(SQRT(Q14)*K14) -> 1.1053965 | W14: =(1-2*S14)-(1+2*S14)*M14 -> -0.1995181 | X14: =(1-2*S14)*N14-(1+2*S14) -> -2.1568873 | Y14: =R14*(1-L14^2)*P14/2 -> 0.12565876 | Z14: =Y14*Q14/(Q14-1) -> 0.6320967 | AA14: =(W14*(T14*U14+V14)*O14+X14)/((1+T14^2)*U14+2*T14*V14) -> -0.72613417 | AB14: =(W14*O14+X14*(T14*U14+V14))/((1+T14^2)*U14+2*T14*V14) -> -1.0939104 | AC14: =M14+(1-M14)^2*N14/(1-M14*N14) -> 0.029110536 | AD14: =(1-M14)^2/(1-M14*N14)*O14 -> 0.63856463 | AE14: =AC14+Z14*(1+AB14/SQRT(Q14)+N14) -> 0.048001172 | AF14: =AD14+Z14*(AA14/SQRT(Q14)+(1+M14)*O14) -> 0.65688705 | AG14: =1-AE14-AF14 -> 0.29511178 | AI14: 650 | AJ14: 4.8001175 | AK14: 65.688694 | AL14: =AJ14/100 -> 0.048001175 | AM14: =AK14/100 -> 0.65688694 | AO14: =(AJ14/100-AE14)^2+(AK14/100-AF14)^2 -> 1.1627601e-14
A15: 640 | B15: 175.97706 | C15: 238.72779 | D15: =1.32711+0.0026/(A15/1000)^2+0.00005/(A15/1000)^4 -> 1.3337557 | E15: =B15*B$1 -> 19.586246 | F15: =C15*B$1 -> 26.570403 | G15: 0.56117142 | H15: 0.01 | J15: =F15*(1-G15)/(F15*(1-G15)+E15) -> 0.37316186 | K15: =(F15*(1-G15)+E15)*H15 -> 0.31246099 | L15: =SQRT(1-1/D15^2) -> 0.66170702 | M15: =(D15-1)^2/(D15+1)^2 -> 0.020452507 | N15: =M15*EXP(-2*K15) -> 0.010948292 | O15: =EXP(-K15) -> 0.73164417 | P15: =J15/(1-J15)*(1-M15)/(1-M15*N15) -> 0.58326322 | Q15: =4/(1+L15)^2*(1-J15)/(1-J15*L15) -> 1.2057786 | R15: =(1-M15)/(1+M15) -> 0.95991483 | S15: =R15/(1+L15) -> 0.57766791 | T15: =2*S15/SQRT(Q15) -> 1.0521422 | U15: =SINH(SQRT(Q15)*K15) -> 0.34987865 | V15: =COSH(SQRT(Q15)*K15) -> 1.0594409 | W15: =(1-2*S15)-(1+2*S15)*M15 -> -0.19941785 | X15: =(1-2*S15)*N15-(1+2*S15) -> -2.1570365 | Y15: =R15*(1-L15^2)*P15/2 -> 0.15736739 | Z15: =Y15*Q15/(Q15-1) -> 0.92210853 | AA15: =(W15*(T15*U15+V15)*O15+X15)/((1+T15^2)*U15+2*T15*V15) -> -0.79732811 | AB15: =(W15*O15+X15*(T15*U15+V15))/((1+T15^2)*U15+2*T15*V15) -> -1.0871878 | AC15: =M15+(1-M15)^2*N15/(1-M15*N15) -> 0.030959892 | AD15: =(1-M15)^2/(1-M15*N15)*O15 -> 0.70217954 | AE15: =AC15+Z15*(1+AB15/SQRT(Q15)+N15) -> 0.050201678 | AF15: =AD15+Z15*(AA15/SQRT(Q15)+(1+M15)*O15) -> 0.7210797 | AG15: =1-AE15-AF15 -> 0.22871862 | AI15: 640 | AJ15: 5.0201461 | AK15: 72.107965 | AL15: =AJ15/100 -> 0.050201461 | AM15: =AK15/100 -> 0.72107965 | AO15: =(AJ15/100-AE15)^2+(AK15/100-AF15)^2 -> 4.9483938e-14
... A26: 530 | B26: 96.352498 | C26: 279.54071 | D26: =1.32711+0.0026/(A26/1000)^2+0.00005/(A26/1000)^4 -> 1.3369996 | E26: =B26*B$1 -> 10.724033 | F26: =C26*B$1 -> 31.112881 | G26: 0.68075726 | H26: 0.01 | J26: =F26*(1-G26)/(F26*(1-G26)+E26) -> 0.48084216 | K26: =(F26*(1-G26)+E26)*H26 -> 0.20656595 | L26: =SQRT(1-1/D26^2) -> 0.66376256 | M26: =(D26-1)^2/(D26+1)^2 -> 0.020794169 | N26: =M26*EXP(-2*K26) -> 0.013756903 | O26: =EXP(-K26) -> 0.81337262 | P26: =J26/(1-J26)*(1-M26)/(1-M26*N26) -> 0.9071965 | Q26: =4/(1+L26)^2*(1-J26)/(1-J26*L26) -> 1.1018814 | R26: =(1-M26)/(1+M26) -> 0.95925884 | S26: =R26/(1+L26) -> 0.57655994 | T26: =2*S26/SQRT(Q26) -> 1.0985176 | U26: =SINH(SQRT(Q26)*K26) -> 0.21853652 | V26: =COSH(SQRT(Q26)*K26) -> 1.0236006 | W26: =(1-2*S26)-(1+2*S26)*M26 -> -0.19789222 | X26: =(1-2*S26)*N26-(1+2*S26) -> -2.1552263 | Y26: =R26*(1-L26^2)*P26/2 -> 0.24341347 | Z26: =Y26*Q26/(Q26-1) -> 2.6325978 | AA26: =(W26*(T26*U26+V26)*O26+X26)/((1+T26^2)*U26+2*T26*V26) -> -0.86360501 | AB26: =(W26*O26+X26*(T26*U26+V26))/((1+T26^2)*U26+2*T26*V26) -> -1.0561333 | AC26: =M26+(1-M26)^2*N26/(1-M26*N26) -> 0.033988669 | AD26: =(1-M26)^2/(1-M26*N26)*O26 -> 0.78012067 | AE26: =AC26+Z26*(1+AB26/SQRT(Q26)+N26) -> 0.054084157 | AF26: =AD26+Z26*(AA26/SQRT(Q26)+(1+M26)*O26) -> 0.80006058 | AG26: =1-AE26-AF26 -> 0.14585526 | AI26: 530 | AJ26: 5.4083755 | AK26: 80.006073 | AL26: =AJ26/100 -> 0.054083755 | AM26: =AK26/100 -> 0.80006073 | AO26: =(AJ26/100-AE26)^2+(AK26/100-AF26)^2 -> 1.8421682e-13
A27: 520 | B27: 126.25773 | C27: 302.78692 | D27: =1.32711+0.0026/(A27/1000)^2+0.00005/(A27/1000)^4 -> 1.3374092 | E27: =B27*B$1 -> 14.052486 | F27: =C27*B$1 -> 33.700184 | G27: 0.68037082 | H27: 0.01 | J27: =F27*(1-G27)/(F27*(1-G27)+E27) -> 0.43391642 | K27: =(F27*(1-G27)+E27)*H27 -> 0.24824048 | L27: =SQRT(1-1/D27^2) -> 0.66402058 | M27: =(D27-1)^2/(D27+1)^2 -> 0.020837442 | N27: =M27*EXP(-2*K27) -> 0.012683101 | O27: =EXP(-K27) -> 0.7801723 | P27: =J27/(1-J27)*(1-M27)/(1-M27*N27) -> 0.75074963 | Q27: =4/(1+L27)^2*(1-J27)/(1-J27*L27) -> 1.148741 | R27: =(1-M27)/(1+M27) -> 0.95917579 | S27: =R27/(1+L27) -> 0.57642063 | T27: =2*S27/SQRT(Q27) -> 1.075619 | U27: =SINH(SQRT(Q27)*K27) -> 0.26921269 | V27: =COSH(SQRT(Q27)*K27) -> 1.0356039 | W27: =(1-2*S27)-(1+2*S27)*M27 -> -0.19770096 | X27: =(1-2*S27)*N27-(1+2*S27) -> -2.1547798 | Y27: =R27*(1-L27^2)*P27/2 -> 0.2012958 | Z27: =Y27*Q27/(Q27-1) -> 1.5546267 | AA27: =(W27*(T27*U27+V27)*O27+X27)/((1+T27^2)*U27+2*T27*V27) -> -0.84000961 | AB27: =(W27*O27+X27*(T27*U27+V27))/((1+T27^2)*U27+2*T27*V27) -> -1.0716355 | AC27: =M27+(1-M27)^2*N27/(1-M27*N27) -> 0.033000698 | AD27: =(1-M27)^2/(1-M27*N27)*O27 -> 0.7481952 | AE27: =AC27+Z27*(1+AB27/SQRT(Q27)+N27) -> 0.052947205 | AF27: =AD27+Z27*(AA27/SQRT(Q27)+(1+M27)*O27) -> 0.7679187 | AG27: =1-AE27-AF27 -> 0.17913409 | AI27: 520 | AJ27: 5.2946663 | AK27: 76.791877 | AL27: =AJ27/100 -> 0.052946663 | AM27: =AK27/100 -> 0.76791877 | AO27: =(AJ27/100-AE27)^2+(AK27/100-AF27)^2 -> 2.9798148e-13 | AQ27: n_lambda = A + B/lambda^2 + C/lambda^4
A28: 510 | B28: 198.74426 | C28: 286.58254 | D28: =1.32711+0.0026/(A28/1000)^2+0.00005/(A28/1000)^4 -> 1.3378452 | E28: =B28*B$1 -> 22.120236 | F28: =C28*B$1 -> 31.896637 | G28: 0.60666364 | H28: 0.01 | J28: =F28*(1-G28)/(F28*(1-G28)+E28) -> 0.36191031 | K28: =(F28*(1-G28)+E28)*H28 -> 0.34666343 | L28: =SQRT(1-1/D28^2) -> 0.66429487 | M28: =(D28-1)^2/(D28+1)^2 -> 0.020883538 | N28: =M28*EXP(-2*K28) -> 0.010439893 | O28: =EXP(-K28) -> 0.70704326 | P28: =J28/(1-J28)*(1-M28)/(1-M28*N28) -> 0.55545424 | Q28: =4/(1+L28)^2*(1-J28)/(1-J28*L28) -> 1.2131231 | R28: =(1-M28)/(1+M28) -> 0.95908733 | S28: =R28/(1+L28) -> 0.57627248 | T28: =2*S28/SQRT(Q28) -> 1.0464186 | U28: =SINH(SQRT(Q28)*K28) -> 0.39116692 | V28: =COSH(SQRT(Q28)*K28) -> 1.0737838 | W28: =(1-2*S28)-(1+2*S28)*M28 -> -0.1974977 | X28: =(1-2*S28)*N28-(1+2*S28) -> -2.1541375 | Y28: =R28*(1-L28^2)*P28/2 -> 0.14882116 | Z28: =Y28*Q28/(Q28-1) -> 0.84710842 | AA28: =(W28*(T28*U28+V28)*O28+X28)/((1+T28^2)*U28+2*T28*V28) -> -0.76994895 | AB28: =(W28*O28+X28*(T28*U28+V28))/((1+T28^2)*U28+2*T28*V28) -> -1.0872952 | AC28: =M28+(1-M28)^2*N28/(1-M28*N28) -> 0.030894123 | AD28: =(1-M28)^2/(1-M28*N28)*O28 -> 0.6779683 | AE28: =AC28+Z28*(1+AB28/SQRT(Q28)+N28) -> 0.050600318 | AF28: =AD28+Z28*(AA28/SQRT(Q28)+(1+M28)*O28) -> 0.69724579 | AG28: =1-AE28-AF28 -> 0.2521539 | AI28: 510 | AJ28: 5.0599833 | AK28: 69.724598 | AL28: =AJ28/100 -> 0.050599833 | AM28: =AK28/100 -> 0.69724598 | AO28: =(AJ28/100-AE28)^2+(AK28/100-AF28)^2 -> 2.7301212e-13 | AQ28: =1.32711+0.0026/(A28/1000)^2+0.00005/(A28/1000)^4 -> 1.3378452
A29: 500 | B29: 303.77707 | C29: 286.41564 | D29: =1.32711+0.0026/(A29/1000)^2+0.00005/(A29/1000)^4 -> 1.33831 | E29: =B29*B$1 -> 33.810388 | F29: =C29*B$1 -> 31.878061 | G29: 0.53739372 | H29: 0.01 | J29: =F29*(1-G29)/(F29*(1-G29)+E29) -> 0.30370237 | K29: =(F29*(1-G29)+E29)*H29 -> 0.48557379 | L29: =SQRT(1-1/D29^2) -> 0.66458684 | M29: =(D29-1)^2/(D29+1)^2 -> 0.020932712 | N29: =M29*EXP(-2*K29) -> 0.0079261349 | O29: =EXP(-K29) -> 0.61534402 | P29: =J29/(1-J29)*(1-M29)/(1-M29*N29) -> 0.42710816 | Q29: =4/(1+L29)^2*(1-J29)/(1-J29*L29) -> 1.2593608 | R29: =(1-M29)/(1+M29) -> 0.95899296 | S29: =R29/(1+L29) -> 0.57611471 | T29: =2*S29/SQRT(Q29) -> 1.026748 | U29: =SINH(SQRT(Q29)*K29) -> 0.57228763 | V29: =COSH(SQRT(Q29)*K29) -> 1.1521776 | W29: =(1-2*S29)-(1+2*S29)*M29 -> -0.19728142 | X29: =(1-2*S29)*N29-(1+2*S29) -> -2.153436 | Y29: =R29*(1-L29^2)*P29/2 -> 0.11434307 | Z29: =Y29*Q29/(Q29-1) -> 0.55520789 | AA29: =(W29*(T29*U29+V29)*O29+X29)/((1+T29^2)*U29+2*T29*V29) -> -0.66767642 | AB29: =(W29*O29+X29*(T29*U29+V29))/((1+T29^2)*U29+2*T29*V29) -> -1.0921318 | AC29: =M29+(1-M29)^2*N29/(1-M29*N29) -> 0.02853175 | AD29: =(1-M29)^2/(1-M29*N29)*O29 -> 0.58994989 | AE29: =AC29+Z29*(1+AB29/SQRT(Q29)+N29) -> 0.047814615 | AF29: =AD29+Z29*(AA29/SQRT(Q29)+(1+M29)*O29) -> 0.60841637 | AG29: =1-AE29-AF29 -> 0.34376901 | AI29: 500 | AJ29: 4.7814624 | AK29: 60.841632 | AL29: =AJ29/100 -> 0.047814624 | AM29: =AK29/100 -> 0.60841632 | AO29: =(AJ29/100-AE29)^2+(AK29/100-AF29)^2 -> 2.7425435e-15 | AQ29: A = 1.32711
A30: 490 | B30: 387.69906 | C30: 271.7124 | D30: =1.32711+0.0026/(A30/1000)^2+0.00005/(A30/1000)^4 -> 1.3388062 | E30: =B30*B$1 -> 43.150905 | F30: =C30*B$1 -> 30.24159 | G30: 0.45667955 | H30: 0.01 | J30: =F30*(1-G30)/(F30*(1-G30)+E30) -> 0.27577012 | K30: =(F30*(1-G30)+E30)*H30 -> 0.59581779 | L30: =SQRT(1-1/D30^2) -> 0.66489805 | M30: =(D30-1)^2/(D30+1)^2 -> 0.020985249 | N30: =M30*EXP(-2*K30) -> 0.0063737256 | O30: =EXP(-K30) -> 0.55111169 | P30: =J30/(1-J30)*(1-M30)/(1-M30*N30) -> 0.37283621 | Q30: =4/(1+L30)^2*(1-J30)/(1-J30*L30) -> 1.2797642 | R30: =(1-M30)/(1+M30) -> 0.95889216 | S30: =R30/(1+L30) -> 0.57594647 | T30: =2*S30/SQRT(Q30) -> 1.0182329 | U30: =SINH(SQRT(Q30)*K30) -> 0.72623764 | V30: =COSH(SQRT(Q30)*K30) -> 1.2358888 | W30: =(1-2*S30)-(1+2*S30)*M30 -> -0.19705096 | X30: =(1-2*S30)*N30-(1+2*S30) -> -2.1528611 | Y30: =R30*(1-L30^2)*P30/2 -> 0.099729229 | Z30: =Y30*Q30/(Q30-1) -> 0.4562052 | AA30: =(W30*(T30*U30+V30)*O30+X30)/((1+T30^2)*U30+2*T30*V30) -> -0.59243085 | AB30: =(W30*O30+X30*(T30*U30+V30))/((1+T30^2)*U30+2*T30*V30) -> -1.0914016 | AC30: =M30+(1-M30)^2*N30/(1-M30*N30) -> 0.02709509 | AD30: =(1-M30)^2/(1-M30*N30)*O30 -> 0.52829461 | AE30: =AC30+Z30*(1+AB30/SQRT(Q30)+N30) -> 0.046079184 | AF30: =AD30+Z30*(AA30/SQRT(Q30)+(1+M30)*O30) -> 0.54608152 | AG30: =1-AE30-AF30 -> 0.40783929 | AI30: 490 | AJ30: 4.6079121 | AK30: 54.608118 | AL30: =AJ30/100 -> 0.046079121 | AM30: =AK30/100 -> 0.54608118 | AO30: =(AJ30/100-AE30)^2+(AK30/100-AF30)^2 -> 1.2028271e-13 | AQ30: B = 2.6 X 10^-3
A31: 480 | B31: 412.77839 | C31: 296.73884 | D31: =1.32711+0.0026/(A31/1000)^2+0.00005/(A31/1000)^4 -> 1.3393366 | E31: =B31*B$1 -> 45.942235 | F31: =C31*B$1 -> 33.027033 | G31: 0.48628048 | H31: 0.01 | J31: =F31*(1-G31)/(F31*(1-G31)+E31) -> 0.26970175 | K31: =(F31*(1-G31)+E31)*H31 -> 0.62908866 | L31: =SQRT(1-1/D31^2) -> 0.66523024 | M31: =(D31-1)^2/(D31+1)^2 -> 0.021041468 | N31: =M31*EXP(-2*K31) -> 0.0059793856 | O31: =EXP(-K31) -> 0.53307739 | P31: =J31/(1-J31)*(1-M31)/(1-M31*N31) -> 0.36157837 | Q31: =4/(1+L31)^2*(1-J31)/(1-J31*L31) -> 1.2837707 | R31: =(1-M31)/(1+M31) -> 0.9587843 | S31: =R31/(1+L31) -> 0.57576681 | T31: =2*S31/SQRT(Q31) -> 1.0163257 | U31: =SINH(SQRT(Q31)*K31) -> 0.7746873 | V31: =COSH(SQRT(Q31)*K31) -> 1.2649666 | W31: =(1-2*S31)-(1+2*S31)*M31 -> -0.19680505 | X31: =(1-2*S31)*N31-(1+2*S31) -> -2.1524397 | Y31: =R31*(1-L31^2)*P31/2 -> 0.096630422 | Z31: =Y31*Q31/(Q31-1) -> 0.43715338 | AA31: =(W31*(T31*U31+V31)*O31+X31)/((1+T31^2)*U31+2*T31*V31) -> -0.57107757 | AB31: =(W31*O31+X31*(T31*U31+V31))/((1+T31^2)*U31+2*T31*V31) -> -1.0907489 | AC31: =M31+(1-M31)^2*N31/(1-M31*N31) -> 0.026772591 | AD31: =(1-M31)^2/(1-M31*N31)*O31 -> 0.51094423 | AE31: =AC31+Z31*(1+AB31/SQRT(Q31)+N31) -> 0.045701919 | AF31: =AD31+Z31*(AA31/SQRT(Q31)+(1+M31)*O31) -> 0.52854837 | AG31: =1-AE31-AF31 -> 0.42574971 | AI31: 480 | AJ31: 4.5701401 | AK31: 52.854867 | AL31: =AJ31/100 -> 0.045701401 | AM31: =AK31/100 -> 0.52854867 | AO31: =(AJ31/100-AE31)^2+(AK31/100-AF31)^2 -> 3.5426293e-13 | AQ31: C = 5.0 X 10^-5
A32: 470 | B32: 422.12389 | C32: 300.45988 | D32: =1.32711+0.0026/(A32/1000)^2+0.00005/(A32/1000)^4 -> 1.3399047 | E32: =B32*B$1 -> 46.982389 | F32: =C32*B$1 -> 33.441185 | G32: 0.4872355 | H32: 0.01 | J32: =F32*(1-G32)/(F32*(1-G32)+E32) -> 0.26738648 | K32: =(F32*(1-G32)+E32)*H32 -> 0.64129842 | L32: =SQRT(1-1/D32^2) -> 0.66558535 | M32: =(D32-1)^2/(D32+1)^2 -> 0.021101726 | N32: =M32*EXP(-2*K32) -> 0.0058518508 | O32: =EXP(-K32) -> 0.52660822 | P32: =J32/(1-J32)*(1-M32)/(1-M32*N32) -> 0.35731866 | Q32: =4/(1+L32)^2*(1-J32)/(1-J32*L32) -> 1.2850283 | R32: =(1-M32)/(1+M32) -> 0.95866871 | S32: =R32/(1+L32) -> 0.57557465 | T32: =2*S32/SQRT(Q32) -> 1.0154892 | U32: =SINH(SQRT(Q32)*K32) -> 0.79271567 | V32: =COSH(SQRT(Q32)*K32) -> 1.276087 | W32: =(1-2*S32)-(1+2*S32)*M32 -> -0.19654227 | X32: =(1-2*S32)*N32-(1+2*S32) -> -2.1520338 | Y32: =R32*(1-L32^2)*P32/2 -> 0.095399576 | Z32: =Y32*Q32/(Q32-1) -> 0.43010171 | AA32: =(W32*(T32*U32+V32)*O32+X32)/((1+T32^2)*U32+2*T32*V32) -> -0.56342046 | AB32: =(W32*O32+X32*(T32*U32+V32))/((1+T32^2)*U32+2*T32*V32) -> -1.0904771 | AC32: =M32+(1-M32)^2*N32/(1-M32*N32) -> 0.026709907 | AD32: =(1-M32)^2/(1-M32*N32)*O32 -> 0.50468035 | AE32: =AC32+Z32*(1+AB32/SQRT(Q32)+N32) -> 0.045584836 | AF32: =AD32+Z32*(AA32/SQRT(Q32)+(1+M32)*O32) -> 0.52218455 | AG32: =1-AE32-AF32 -> 0.43223062 | AI32: 470 | AJ32: 4.5584719 | AK32: 52.218419 | AL32: =AJ32/100 -> 0.045584719 | AM32: =AK32/100 -> 0.52218419 | AO32: =(AJ32/100-AE32)^2+(AK32/100-AF32)^2 -> 1.4021702e-13
A33: 460 | B33: 419.59371 | C33: 296.95286 | D33: =1.32711+0.0026/(A33/1000)^2+0.00005/(A33/1000)^4 -> 1.340514 | E33: =B33*B$1 -> 46.70078 | F33: =C33*B$1 -> 33.050853 | G33: 0.48153029 | H33: 0.01 | J33: =F33*(1-G33)/(F33*(1-G33)+E33) -> 0.26843306 | K33: =(F33*(1-G33)+E33)*H33 -> 0.63836647 | L33: =SQRT(1-1/D33^2) -> 0.66596556 | M33: =(D33-1)^2/(D33+1)^2 -> 0.021166427 | N33: =M33*EXP(-2*K33) -> 0.0059043144 | O33: =EXP(-K33) -> 0.52815448 | P33: =J33/(1-J33)*(1-M33)/(1-M33*N33) -> 0.35920723 | Q33: =4/(1+L33)^2*(1-J33)/(1-J33*L33) -> 1.2838543 | R33: =(1-M33)/(1+M33) -> 0.95854461 | S33: =R33/(1+L33) -> 0.5753688 | T33: =2*S33/SQRT(Q33) -> 1.0155901 | U33: =SINH(SQRT(Q33)*K33) -> 0.78805777 | V33: =COSH(SQRT(Q33)*K33) -> 1.2731987 | W33: =(1-2*S33)-(1+2*S33)*M33 -> -0.19626104 | X33: =(1-2*S33)*N33-(1+2*S33) -> -2.1516276 | Y33: =R33*(1-L33^2)*P33/2 -> 0.095804226 | Z33: =Y33*Q33/(Q33-1) -> 0.43331626 | AA33: =(W33*(T33*U33+V33)*O33+X33)/((1+T33^2)*U33+2*T33*V33) -> -0.56522026 | AB33: =(W33*O33+X33*(T33*U33+V33))/((1+T33^2)*U33+2*T33*V33) -> -1.0903211 | AC33: =M33+(1-M33)^2*N33/(1-M33*N33) -> 0.026824147 | AD33: =(1-M33)^2/(1-M33*N33)*O33 -> 0.50609606 | AE33: =AC33+Z33*(1+AB33/SQRT(Q33)+N33) -> 0.045731962 | AF33: =AD33+Z33*(AA33/SQRT(Q33)+(1+M33)*O33) -> 0.52364331 | AG33: =1-AE33-AF33 -> 0.43062473 | AI33: 460 | AJ33: 4.573179 | AK33: 52.364334 | AL33: =AJ33/100 -> 0.04573179 | AM33: =AK33/100 -> 0.52364334 | AO33: =(AJ33/100-AE33)^2+(AK33/100-AF33)^2 -> 3.0892172e-14
A34: 450 | B34: 458.22728 | C34: 283.32766 | D34: =1.32711+0.0026/(A34/1000)^2+0.00005/(A34/1000)^4 -> 1.3411688 | E34: =B34*B$1 -> 51.000696 | F34: =C34*B$1 -> 31.534369 | G34: 0.42982939 | H34: 0.01 | J34: =F34*(1-G34)/(F34*(1-G34)+E34) -> 0.26065232 | K34: =(F34*(1-G34)+E34)*H34 -> 0.68980666 | L34: =SQRT(1-1/D34^2) -> 0.6663733 | M34: =(D34-1)^2/(D34+1)^2 -> 0.021236025 | N34: =M34*EXP(-2*K34) -> 0.0053445947 | O34: =EXP(-K34) -> 0.50167305 | P34: =J34/(1-J34)*(1-M34)/(1-M34*N34) -> 0.34509617 | Q34: =4/(1+L34)^2*(1-J34)/(1-J34*L34) -> 1.2889083 | R34: =(1-M34)/(1+M34) -> 0.95841113 | S34: =R34/(1+L34) -> 0.57514792 | T34: =2*S34/SQRT(Q34) -> 1.0132078 | U34: =SINH(SQRT(Q34)*K34) -> 0.86567958 | V34: =COSH(SQRT(Q34)*K34) -> 1.3226493 | W34: =(1-2*S34)-(1+2*S34)*M34 -> -0.19595957 | X34: =(1-2*S34)*N34-(1+2*S34) -> -2.1510991 | Y34: =R34*(1-L34^2)*P34/2 -> 0.091938008 | Z34: =Y34*Q34/(Q34-1) -> 0.41016358 | AA34: =(W34*(T34*U34+V34)*O34+X34)/((1+T34^2)*U34+2*T34*V34) -> -0.53383498 | AB34: =(W34*O34+X34*(T34*U34+V34))/((1+T34^2)*U34+2*T34*V34) -> -1.0892073 | AC34: =M34+(1-M34)^2*N34/(1-M34*N34) -> 0.026356615 | AD34: =(1-M34)^2/(1-M34*N34)*O34 -> 0.48064676 | AE34: =AC34+Z34*(1+AB34/SQRT(Q34)+N34) -> 0.04520157 | AF34: =AD34+Z34*(AA34/SQRT(Q34)+(1+M34)*O34) -> 0.49791961 | AG34: =1-AE34-AF34 -> 0.45687883 | AI34: 450 | AJ34: 4.5200315 | AK34: 49.791999 | AL34: =AJ34/100 -> 0.045200315 | AM34: =AK34/100 -> 0.49791999 | AO34: =(AJ34/100-AE34)^2+(AK34/100-AF34)^2 -> 1.725871e-12
A35: 440 | B35: 532.85264 | C35: 428.00687 | D35: =1.32711+0.0026/(A35/1000)^2+0.00005/(A35/1000)^4 -> 1.3418738 | E35: =B35*B$1 -> 59.306499 | F35: =C35*B$1 -> 47.637164 | G35: 0.58843773 | H35: 0.01 | J35: =F35*(1-G35)/(F35*(1-G35)+E35) -> 0.24844916 | K35: =(F35*(1-G35)+E35)*H35 -> 0.78912159 | L35: =SQRT(1-1/D35^2) -> 0.66681132 | M35: =(D35-1)^2/(D35+1)^2 -> 0.021311037 | N35: =M35*EXP(-2*K35) -> 0.0043972613 | O35: =EXP(-K35) -> 0.45424363 | P35: =J35/(1-J35)*(1-M35)/(1-M35*N35) -> 0.32356725 | Q35: =4/(1+L35)^2*(1-J35)/(1-J35*L35) -> 1.2969014 | R35: =(1-M35)/(1+M35) -> 0.95826729 | S35: =R35/(1+L35) -> 0.57491048 | T35: =2*S35/SQRT(Q35) -> 1.0096637 | U35: =SINH(SQRT(Q35)*K35) -> 1.0246032 | V35: =COSH(SQRT(Q35)*K35) -> 1.4317163 | W35: =(1-2*S35)-(1+2*S35)*M35 -> -0.19563587 | X35: =(1-2*S35)*N35-(1+2*S35) -> -2.1504798 | Y35: =R35*(1-L35^2)*P35/2 -> 0.08609896 | Z35: =Y35*Q35/(Q35-1) -> 0.37609077 | AA35: =(W35*(T35*U35+V35)*O35+X35)/((1+T35^2)*U35+2*T35*V35) -> -0.47773063 | AB35: =(W35*O35+X35*(T35*U35+V35))/((1+T35^2)*U35+2*T35*V35) -> -1.0871366 | AC35: =M35+(1-M35)^2*N35/(1-M35*N35) -> 0.02552327 | AD35: =(1-M35)^2/(1-M35*N35)*O35 -> 0.4351299 | AE35: =AC35+Z35*(1+AB35/SQRT(Q35)+N35) -> 0.044243951 | AF35: =AD35+Z35*(AA35/SQRT(Q35)+(1+M35)*O35) -> 0.45183823 | AG35: =1-AE35-AF35 -> 0.50391782 | AI35: 440 | AJ35: 4.4243994 | AK35: 45.183822 | AL35: =AJ35/100 -> 0.044243994 | AM35: =AK35/100 -> 0.45183822 | AO35: =(AJ35/100-AE35)^2+(AK35/100-AF35)^2 -> 1.8173152e-15
A36: 430 | B36: 522.9461 | C36: 1250.2215 | D36: =1.32711+0.0026/(A36/1000)^2+0.00005/(A36/1000)^4 -> 1.3426342 | E36: =B36*B$1 -> 58.203901 | F36: =C36*B$1 -> 139.14965 | G36: 0.86035048 | H36: 0.01 | J36: =F36*(1-G36)/(F36*(1-G36)+E36) -> 0.25029834 | K36: =(F36*(1-G36)+E36)*H36 -> 0.77636083 | L36: =SQRT(1-1/D36^2) -> 0.66728271 | M36: =(D36-1)^2/(D36+1)^2 -> 0.021392048 | N36: =M36*EXP(-2*K36) -> 0.0045280782 | O36: =EXP(-K36) -> 0.46007727 | P36: =J36/(1-J36)*(1-M36)/(1-M36*N36) -> 0.32675354 | Q36: =4/(1+L36)^2*(1-J36)/(1-J36*L36) -> 1.295076 | R36: =(1-M36)/(1+M36) -> 0.95811197 | S36: =R36/(1+L36) -> 0.57465478 | T36: =2*S36/SQRT(Q36) -> 1.0099256 | U36: =SINH(SQRT(Q36)*K36) -> 1.003023 | V36: =COSH(SQRT(Q36)*K36) -> 1.4163528 | W36: =(1-2*S36)-(1+2*S36)*M36 -> -0.19528769 | X36: =(1-2*S36)*N36-(1+2*S36) -> -2.1499856 | Y36: =R36*(1-L36^2)*P36/2 -> 0.086834276 | Z36: =Y36*Q36/(Q36-1) -> 0.3811119 | AA36: =(W36*(T36*U36+V36)*O36+X36)/((1+T36^2)*U36+2*T36*V36) -> -0.4846151 | AB36: =(W36*O36+X36*(T36*U36+V36))/((1+T36^2)*U36+2*T36*V36) -> -1.0871716 | AC36: =M36+(1-M36)^2*N36/(1-M36*N36) -> 0.025728889 | AD36: =(1-M36)^2/(1-M36*N36)*O36 -> 0.4406465 | AE36: =AC36+Z36*(1+AB36/SQRT(Q36)+N36) -> 0.044481326 | AF36: =AD36+Z36*(AA36/SQRT(Q36)+(1+M36)*O36) -> 0.45744457 | AG36: =1-AE36-AF36 -> 0.49807411 | AI36: 430 | AJ36: 4.4479933 | AK36: 45.744485 | AL36: =AJ36/100 -> 0.044479933 | AM36: =AK36/100 -> 0.45744485 | AO36: =(AJ36/100-AE36)^2+(AK36/100-AF36)^2 -> 2.0217926e-12
A37: 420 | B37: 495.28239 | C37: 615.71608 | D37: =1.32711+0.0026/(A37/1000)^2+0.00005/(A37/1000)^4 -> 1.3434561 | E37: =B37*B$1 -> 55.12493 | F37: =C37*B$1 -> 68.5292 | G37: 0.72229231 | H37: 0.01 | J37: =F37*(1-G37)/(F37*(1-G37)+E37) -> 0.25663576 | K37: =(F37*(1-G37)+E37)*H37 -> 0.74156015 | L37: =SQRT(1-1/D37^2) -> 0.66779096 | M37: =(D37-1)^2/(D37+1)^2 -> 0.021479727 | N37: =M37*EXP(-2*K37) -> 0.0048743622 | O37: =EXP(-K37) -> 0.47637012 | P37: =J37/(1-J37)*(1-M37)/(1-M37*N37) -> 0.33785536 | Q37: =4/(1+L37)^2*(1-J37)/(1-J37*L37) -> 1.2900974 | R37: =(1-M37)/(1+M37) -> 0.9579439 | S37: =R37/(1+L37) -> 0.57437888 | T37: =2*S37/SQRT(Q37) -> 1.0113866 | U37: =SINH(SQRT(Q37)*K37) -> 0.94546656 | V37: =COSH(SQRT(Q37)*K37) -> 1.3761929 | W37: =(1-2*S37)-(1+2*S37)*M37 -> -0.19491248 | X37: =(1-2*S37)*N37-(1+2*S37) -> -2.1494829 | Y37: =R37*(1-L37^2)*P37/2 -> 0.089659012 | Z37: =Y37*Q37/(Q37-1) -> 0.39872418 | AA37: =(W37*(T37*U37+V37)*O37+X37)/((1+T37^2)*U37+2*T37*V37) -> -0.50381001 | AB37: =(W37*O37+X37*(T37*U37+V37))/((1+T37^2)*U37+2*T37*V37) -> -1.0873121 | AC37: =M37+(1-M37)^2*N37/(1-M37*N37) -> 0.026147427 | AD37: =(1-M37)^2/(1-M37*N37)*O37 -> 0.45617307 | AE37: =AC37+Z37*(1+AB37/SQRT(Q37)+N37) -> 0.045120941 | AF37: =AD37+Z37*(AA37/SQRT(Q37)+(1+M37)*O37) -> 0.47333384 | AG37: =1-AE37-AF37 -> 0.48154522 | AI37: 420 | AJ37: 4.5120339 | AK37: 47.333331 | AL37: =AJ37/100 -> 0.045120339 | AM37: =AK37/100 -> 0.47333331 | AO37: =(AJ37/100-AE37)^2+(AK37/100-AF37)^2 -> 6.4510306e-13
A38: 410 | B38: 460.44817 | C38: 626.92972 | D38: =1.32711+0.0026/(A38/1000)^2+0.00005/(A38/1000)^4 -> 1.3443464 | E38: =B38*B$1 -> 51.247881 | F38: =C38*B$1 -> 69.777278 | G38: 0.73607709 | H38: 0.01 | J38: =F38*(1-G38)/(F38*(1-G38)+E38) -> 0.26435319 | K38: =(F38*(1-G38)+E38)*H38 -> 0.69663704 | L38: =SQRT(1-1/D38^2) -> 0.66834005 | M38: =(D38-1)^2/(D38+1)^2 -> 0.021574839 | N38: =M38*EXP(-2*K38) -> 0.0053561943 | O38: =EXP(-K38) -> 0.49825811 | P38: =J38/(1-J38)*(1-M38)/(1-M38*N38) -> 0.35163574 | Q38: =4/(1+L38)^2*(1-J38)/(1-J38*L38) -> 1.284075 | R38: =(1-M38)/(1+M38) -> 0.95776161 | S38: =R38/(1+L38) -> 0.57408057 | T38: =2*S38/SQRT(Q38) -> 1.0132291 | U38: =SINH(SQRT(Q38)*K38) -> 0.87398998 | V38: =COSH(SQRT(Q38)*K38) -> 1.3281033 | W38: =(1-2*S38)-(1+2*S38)*M38 -> -0.19450738 | X38: =(1-2*S38)*N38-(1+2*S38) -> -2.1489547 | Y38: =R38*(1-L38^2)*P38/2 -> 0.093174709 | Z38: =Y38*Q38/(Q38-1) -> 0.42116808 | AA38: =(W38*(T38*U38+V38)*O38+X38)/((1+T38^2)*U38+2*T38*V38) -> -0.52962158 | AB38: =(W38*O38+X38*(T38*U38+V38))/((1+T38^2)*U38+2*T38*V38) -> -1.0876971 | AC38: =M38+(1-M38)^2*N38/(1-M38*N38) -> 0.026703001 | AD38: =(1-M38)^2/(1-M38*N38)*O38 -> 0.47704549 | AE38: =AC38+Z38*(1+AB38/SQRT(Q38)+N38) -> 0.045860016 | AF38: =AD38+Z38*(AA38/SQRT(Q38)+(1+M38)*O38) -> 0.49457769 | AG38: =1-AE38-AF38 -> 0.45956229 | AI38: 410 | AJ38: 4.5859997 | AK38: 49.457741 | AL38: =AJ38/100 -> 0.045859997 | AM38: =AK38/100 -> 0.49457741 | AO38: =(AJ38/100-AE38)^2+(AK38/100-AF38)^2 -> 7.972944e-14
A39: 400 | B39: 406.35063 | C39: 430.69794 | D39: =1.32711+0.0026/(A39/1000)^2+0.00005/(A39/1000)^4 -> 1.3453131 | E39: =B39*B$1 -> 45.226825 | F39: =C39*B$1 -> 47.936681 | G39: 0.63435556 | H39: 0.01 | J39: =F39*(1-G39)/(F39*(1-G39)+E39) -> 0.27930668 | K39: =(F39*(1-G39)+E39)*H39 -> 0.62754605 | L39: =SQRT(1-1/D39^2) -> 0.66893448 | M39: =(D39-1)^2/(D39+1)^2 -> 0.021678264 | N39: =M39*EXP(-2*K39) -> 0.0061793803 | O39: =EXP(-K39) -> 0.53390036 | P39: =J39/(1-J39)*(1-M39)/(1-M39*N39) -> 0.37920209 | Q39: =4/(1+L39)^2*(1-J39)/(1-J39*L39) -> 1.2727842 | R39: =(1-M39)/(1+M39) -> 0.95756342 | S39: =R39/(1+L39) -> 0.57375735 | T39: =2*S39/SQRT(Q39) -> 1.0171403 | U39: =SINH(SQRT(Q39)*K39) -> 0.76862832 | V39: =COSH(SQRT(Q39)*K39) -> 1.261265 | W39: =(1-2*S39)-(1+2*S39)*M39 -> -0.19406909 | X39: =(1-2*S39)*N39-(1+2*S39) -> -2.1484262 | Y39: =R39*(1-L39^2)*P39/2 -> 0.10031399 | Z39: =Y39*Q39/(Q39-1) -> 0.46805523 | AA39: =(W39*(T39*U39+V39)*O39+X39)/((1+T39^2)*U39+2*T39*V39) -> -0.57151215 | AB39: =(W39*O39+X39*(T39*U39+V39))/((1+T39^2)*U39+2*T39*V39) -> -1.0879978 | AC39: =M39+(1-M39)^2*N39/(1-M39*N39) -> 0.027593424 | AD39: =(1-M39)^2/(1-M39*N39)*O39 -> 0.51107166 | AE39: =AC39+Z39*(1+AB39/SQRT(Q39)+N39) -> 0.047155303 | AF39: =AD39+Z39*(AA39/SQRT(Q39)+(1+M39)*O39) -> 0.52927636 | AG39: =1-AE39-AF39 -> 0.42356834 | AI39: 400 | AJ39: 4.7155287 | AK39: 52.927615 | AL39: =AJ39/100 -> 0.047155287 | AM39: =AK39/100 -> 0.52927615 | AO39: =(AJ39/100-AE39)^2+(AK39/100-AF39)^2 -> 4.3661601e-14
AJ40: 4.7768831 | AK40: 54.173581
AJ41: 4.8249624 | AK41: 54.870027
AJ42: 4.9097071 | AK42: 57.071188
AJ43: 4.9938095 | AK43: 59.010452
AJ44: 5.0588262 | AK44: 59.601741

Sheet Dilution5_quartz
A1: X= | B1: 0.5565 | C1: g/L | AI1: dilution 5
A3: l (nm) | B3: Abs,l (m2/kg) | C3: Ssca,l (m2/kg) | D3: n | E3: k (1/m) | F3: ss (1/m) | G3: g | H3: d (m) | I3: Ssca,tr,λ (m2/kg) | J3: wtr | K3: ttr | L3: mc | M3: R1 | N3: Ctr | O3: Etr | P3: c | Q3: k2 | R3: g | S3: gbar | T3: j | U3: s | V3: c | W3: k1 | X3: k2 | Y3: D1 | Z3: D | AA3: A | AB3: B | AC3: R0dh | AD3: T0dh | AE3: Rdh | AF3: Tdh | AG3: Adh | AI3: l (nm) | AJ3: Rdh | AK3: Tdh | AL3: Rdh | AM3: Tdh | AO3: error
A4: 750 | B4: 57.191617 | C4: 1.0014016 | D4: 1.4542411 | E4: =B4*B$1 -> 31.827135 | F4: =C4*B$1 -> 0.55727999 | G4: 0.0098324126 | H4: 0.01 | I4: =(1-G4)*C4 -> 0.9915554 | J4: =F4*(1-G4)/(F4*(1-G4)+E4) -> 0.017041962 | K4: =(F4*(1-G4)+E4)*H4 -> 0.32378935 | L4: =SQRT(1-1/D4^2) -> 0.72604812 | M4: =(D4-1)^2/(D4+1)^2 -> 0.034256135 | N4: =M4*EXP(-2*K4) -> 0.017926624 | O4: =EXP(-K4) -> 0.72340261 | P4: =J4/(1-J4)*(1-M4)/(1-M4*N4) -> 0.016753801 | Q4: =4/(1+L4)^2*(1-J4)/(1-J4*L4) -> 1.3362765 | R4: =(1-M4)/(1+M4) -> 0.93375696 | S4: =R4/(1+L4) -> 0.54097968 | T4: =2*S4/SQRT(Q4) -> 0.93597183 | U4: =SINH(SQRT(Q4)*K4) -> 0.38309297 | V4: =COSH(SQRT(Q4)*K4) -> 1.0708689 | W4: =(1-2*S4)-(1+2*S4)*M4 -> -0.15327924 | X4: =(1-2*S4)*N4-(1+2*S4) -> -2.0834286 | Y4: =R4*(1-L4^2)*P4/2 -> 0.0036986598 | Z4: =Y4*Q4/(Q4-1) -> 0.014697524 | AA4: =(W4*(T4*U4+V4)*O4+X4)/((1+T4^2)*U4+2*T4*V4) -> -0.82323782 | AB4: =(W4*O4+X4*(T4*U4+V4))/((1+T4^2)*U4+2*T4*V4) -> -1.1342851 | AC4: =M4+(1-M4)^2*N4/(1-M4*N4) -> 0.050985876 | AD4: =(1-M4)^2/(1-M4*N4)*O4 -> 0.67510413 | AE4: =AC4+Z4*(1+AB4/SQRT(Q4)+N4) -> 0.051525118 | AF4: =AD4+Z4*(AA4/SQRT(Q4)+(1+M4)*O4) -> 0.6756336 | AG4: =1-AE4-AF4 -> 0.27284128 | AI4: 750 | AJ4: 5.2243407 | AK4: 67.566328 | AL4: =AJ4/100 -> 0.052243407 | AM4: =AK4/100 -> 0.67566328 | AO4: =(AJ4/100-AE4)^2+(AK4/100-AF4)^2 -> 5.1681968e-07
A5: 740 | B5: 59.447268 | C5: 1.0018841 | D5: 1.4544398 | E5: =B5*B$1 -> 33.082405 | F5: =C5*B$1 -> 0.55754848 | G5: -0.14879127 | H5: 0.01 | I5: =(1-G5)*C5 -> 1.1509557 | J5: =F5*(1-G5)/(F5*(1-G5)+E5) -> 0.018993225 | K5: =(F5*(1-G5)+E5)*H5 -> 0.33722912 | L5: =SQRT(1-1/D5^2) -> 0.7261371 | M5: =(D5-1)^2/(D5+1)^2 -> 0.034280564 | N5: =M5*EXP(-2*K5) -> 0.017463628 | O5: =EXP(-K5) -> 0.71374529 | P5: =J5/(1-J5)*(1-M5)/(1-M5*N5) -> 0.018708447 | Q5: =4/(1+L5)^2*(1-J5)/(1-J5*L5) -> 1.3354043 | R5: =(1-M5)/(1+M5) -> 0.93371129 | S5: =R5/(1+L5) -> 0.54092533 | T5: =2*S5/SQRT(Q5) -> 0.9361834 | U5: =SINH(SQRT(Q5)*K5) -> 0.39963988 | V5: =COSH(SQRT(Q5)*K5) -> 1.0768993 | W5: =(1-2*S5)-(1+2*S5)*M5 -> -0.15321768 | X5: =(1-2*S5)*N5-(1+2*S5) -> -2.0832801 | Y5: =R5*(1-L5^2)*P5/2 -> 0.0041288476 | Z5: =Y5*Q5/(Q5-1) -> 0.01643891 | AA5: =(W5*(T5*U5+V5)*O5+X5)/((1+T5^2)*U5+2*T5*V5) -> -0.81047001 | AB5: =(W5*O5+X5*(T5*U5+V5))/((1+T5^2)*U5+2*T5*V5) -> -1.1323168 | AC5: =M5+(1-M5)^2*N5/(1-M5*N5) -> 0.050577145 | AD5: =(1-M5)^2/(1-M5*N5)*O5 -> 0.66604761 | AE5: =AC5+Z5*(1+AB5/SQRT(Q5)+N5) -> 0.051195399 | AF5: =AD5+Z5*(AA5/SQRT(Q5)+(1+M5)*O5) -> 0.66665371 | AG5: =1-AE5-AF5 -> 0.28215089 | AI5: 740 | AJ5: 5.1460538 | AK5: 66.666893 | AL5: =AJ5/100 -> 0.051460538 | AM5: =AK5/100 -> 0.66666893 | AO5: =(AJ5/100-AE5)^2+(AK5/100-AF5)^2 -> 7.0530098e-08
A6: 730 | B6: 62.745037 | C6: 1.0008161 | D6: 1.4546443 | E6: =B6*B$1 -> 34.917613 | F6: =C6*B$1 -> 0.55695418 | G6: 0.19897981 | H6: 0.01 | I6: =(1-G6)*C6 -> 0.80167394 | J6: =F6*(1-G6)/(F6*(1-G6)+E6) -> 0.012615506 | K6: =(F6*(1-G6)+E6)*H6 -> 0.35363745 | L6: =SQRT(1-1/D6^2) -> 0.72622859 | M6: =(D6-1)^2/(D6+1)^2 -> 0.034305704 | N6: =M6*EXP(-2*K6) -> 0.016912225 | O6: =EXP(-K6) -> 0.70212948 | P6: =J6/(1-J6)*(1-M6)/(1-M6*N6) -> 0.01234554 | Q6: =4/(1+L6)^2*(1-J6)/(1-J6*L6) -> 1.3376636 | R6: =(1-M6)/(1+M6) -> 0.93366429 | S6: =R6/(1+L6) -> 0.54086944 | T6: =2*S6/SQRT(Q6) -> 0.93529579 | U6: =SINH(SQRT(Q6)*K6) -> 0.42050732 | V6: =COSH(SQRT(Q6)*K6) -> 1.0848163 | W6: =(1-2*S6)-(1+2*S6)*M6 -> -0.15315439 | X6: =(1-2*S6)*N6-(1+2*S6) -> -2.0831213 | Y6: =R6*(1-L6^2)*P6/2 -> 0.0027236873 | Z6: =Y6*Q6/(Q6-1) -> 0.010789961 | AA6: =(W6*(T6*U6+V6)*O6+X6)/((1+T6^2)*U6+2*T6*V6) -> -0.79573547 | AB6: =(W6*O6+X6*(T6*U6+V6))/((1+T6^2)*U6+2*T6*V6) -> -1.1309696 | AC6: =M6+(1-M6)^2*N6/(1-M6*N6) -> 0.050086617 | AD6: =(1-M6)^2/(1-M6*N6)*O6 -> 0.65516183 | AE6: =AC6+Z6*(1+AB6/SQRT(Q6)+N6) -> 0.050507969 | AF6: =AD6+Z6*(AA6/SQRT(Q6)+(1+M6)*O6) -> 0.65557407 | AG6: =1-AE6-AF6 -> 0.29391797 | AI6: 730 | AJ6: 5.0942698 | AK6: 65.62122 | AL6: =AJ6/100 -> 0.050942698 | AM6: =AK6/100 -> 0.6562122 | AO6: =(AJ6/100-AE6)^2+(AK6/100-AF6)^2 -> 5.9620371e-07
A7: 720 | B7: 69.368522 | C7: 1.0024937 | D7: 1.4548549 | E7: =B7*B$1 -> 38.603582 | F7: =C7*B$1 -> 0.55788775 | G7: -0.32666469 | H7: 0.01 | I7: =(1-G7)*C7 -> 1.329973 | J7: =F7*(1-G7)/(F7*(1-G7)+E7) -> 0.0188119 | K7: =(F7*(1-G7)+E7)*H7 -> 0.39343712 | L7: =SQRT(1-1/D7^2) -> 0.72632277 | M7: =(D7-1)^2/(D7+1)^2 -> 0.0343316 | N7: =M7*EXP(-2*K7) -> 0.015629997 | O7: =EXP(-K7) -> 0.67473374 | P7: =J7/(1-J7)*(1-M7)/(1-M7*N7) -> 0.018524288 | Q7: =4/(1+L7)^2*(1-J7)/(1-J7*L7) -> 1.3351903 | R7: =(1-M7)/(1+M7) -> 0.93361587 | S7: =R7/(1+L7) -> 0.54081189 | T7: =2*S7/SQRT(Q7) -> 0.93606206 | U7: =SINH(SQRT(Q7)*K7) -> 0.47044085 | V7: =COSH(SQRT(Q7)*K7) -> 1.105131 | W7: =(1-2*S7)-(1+2*S7)*M7 -> -0.15308925 | X7: =(1-2*S7)*N7-(1+2*S7) -> -2.0828996 | Y7: =R7*(1-L7^2)*P7/2 -> 0.0040854548 | Z7: =Y7*Q7/(Q7-1) -> 0.016273919 | AA7: =(W7*(T7*U7+V7)*O7+X7)/((1+T7^2)*U7+2*T7*V7) -> -0.75977387 | AB7: =(W7*O7+X7*(T7*U7+V7))/((1+T7^2)*U7+2*T7*V7) -> -1.1256312 | AC7: =M7+(1-M7)^2*N7/(1-M7*N7) -> 0.048914639 | AD7: =(1-M7)^2/(1-M7*N7)*O7 -> 0.62953746 | AE7: =AC7+Z7*(1+AB7/SQRT(Q7)+N7) -> 0.049589729 | AF7: =AD7+Z7*(AA7/SQRT(Q7)+(1+M7)*O7) -> 0.63019448 | AG7: =1-AE7-AF7 -> 0.32021579 | AI7: 720 | AJ7: 4.9853308 | AK7: 63.022367 | AL7: =AJ7/100 -> 0.049853308 | AM7: =AK7/100 -> 0.63022367 | AO7: =(AJ7/100-AE7)^2+(AK7/100-AF7)^2 -> 7.0326059e-08
A8: 710 | B8: 90.396196 | C8: 1.4852605 | D8: 1.455072 | E8: =B8*B$1 -> 50.305483 | F8: =C8*B$1 -> 0.82654748 | G8: -0.15483707 | H8: 0.01 | I8: =(1-G8)*C8 -> 1.7152339 | J8: =F8*(1-G8)/(F8*(1-G8)+E8) -> 0.018621293 | K8: =(F8*(1-G8)+E8)*H8 -> 0.51260011 | L8: =SQRT(1-1/D8^2) -> 0.72641981 | M8: =(D8-1)^2/(D8+1)^2 -> 0.034358302 | N8: =M8*EXP(-2*K8) -> 0.012325169 | O8: =EXP(-K8) -> 0.59893625 | P8: =J8/(1-J8)*(1-M8)/(1-M8*N8) -> 0.018330451 | Q8: =4/(1+L8)^2*(1-J8)/(1-J8*L8) -> 1.3351146 | R8: =(1-M8)/(1+M8) -> 0.93356596 | S8: =R8/(1+L8) -> 0.54075258 | T8: =2*S8/SQRT(Q8) -> 0.93598593 | U8: =SINH(SQRT(Q8)*K8) -> 0.62753822 | V8: =COSH(SQRT(Q8)*K8) -> 1.1805949 | W8: =(1-2*S8)-(1+2*S8)*M8 -> -0.15302213 | X8: =(1-2*S8)*N8-(1+2*S8) -> -2.0825097 | Y8: =R8*(1-L8^2)*P8/2 -> 0.0040412827 | Z8: =Y8*Q8/(Q8-1) -> 0.016100688 | AA8: =(W8*(T8*U8+V8)*O8+X8)/((1+T8^2)*U8+2*T8*V8) -> -0.66262628 | AB8: =(W8*O8+X8*(T8*U8+V8))/((1+T8^2)*U8+2*T8*V8) -> -1.1139837 | AC8: =M8+(1-M8)^2*N8/(1-M8*N8) -> 0.045855946 | AD8: =(1-M8)^2/(1-M8*N8)*O8 -> 0.55872303 | AE8: =AC8+Z8*(1+AB8/SQRT(Q8)+N8) -> 0.046632494 | AF8: =AD8+Z8*(AA8/SQRT(Q8)+(1+M8)*O8) -> 0.55946441 | AG8: =1-AE8-AF8 -> 0.39390309 | AI8: 710 | AJ8: 4.7454321 | AK8: 55.916736 | AL8: =AJ8/100 -> 0.047454321 | AM8: =AK8/100 -> 0.55916736 | AO8: =(AJ8/100-AE8)^2+(AK8/100-AF8)^2 -> 7.636404e-07
A9: 700 | B9: 146.24241 | C9: 1.4779229 | D9: 1.455296 | E9: =B9*B$1 -> 81.383901 | F9: =C9*B$1 -> 0.82246407 | G9: -2.6107557 | H9: 0.01 | I9: =(1-G9)*C9 -> 5.3364183 | J9: =F9*(1-G9)/(F9*(1-G9)+E9) -> 0.035205565 | K9: =(F9*(1-G9)+E9)*H9 -> 0.84353618 | L9: =SQRT(1-1/D9^2) -> 0.72651988 | M9: =(D9-1)^2/(D9+1)^2 -> 0.034385862 | N9: =M9*EXP(-2*K9) -> 0.0063634656 | O9: =EXP(-K9) -> 0.43018661 | P9: =J9/(1-J9)*(1-M9)/(1-M9*N9) -> 0.035243188 | Q9: =4/(1+L9)^2*(1-J9)/(1-J9*L9) -> 1.3286308 | R9: =(1-M9)/(1+M9) -> 0.93351444 | S9: =R9/(1+L9) -> 0.54069139 | T9: =2*S9/SQRT(Q9) -> 0.93816081 | U9: =SINH(SQRT(Q9)*K9) -> 1.1329222 | V9: =COSH(SQRT(Q9)*K9) -> 1.5111296 | W9: =(1-2*S9)-(1+2*S9)*M9 -> -0.15295293 | X9: =(1-2*S9)*N9-(1+2*S9) -> -2.0819007 | Y9: =R9*(1-L9^2)*P9/2 -> 0.0077671837 | Z9: =Y9*Q9/(Q9-1) -> 0.031402165 | AA9: =(W9*(T9*U9+V9)*O9+X9)/((1+T9^2)*U9+2*T9*V9) -> -0.45338828 | AB9: =(W9*O9+X9*(T9*U9+V9))/((1+T9^2)*U9+2*T9*V9) -> -1.0924738 | AC9: =M9+(1-M9)^2*N9/(1-M9*N9) -> 0.040320524 | AD9: =(1-M9)^2/(1-M9*N9)*O9 -> 0.40119837 | AE9: =AC9+Z9*(1+AB9/SQRT(Q9)+N9) -> 0.04216008 | AF9: =AD9+Z9*(AA9/SQRT(Q9)+(1+M9)*O9) -> 0.40281995 | AG9: =1-AE9-AF9 -> 0.55501997 | AI9: 700 | AJ9: 4.3125553 | AK9: 40.257836 | AL9: =AJ9/100 -> 0.043125553 | AM9: =AK9/100 -> 0.40257836 | AO9: =(AJ9/100-AE9)^2+(AK9/100-AF9)^2 -> 9.9050494e-07
A10: 690 | B10: 319.73122 | C10: 2.4529968 | D10: 1.4555274 | E10: =B10*B$1 -> 177.93042 | F10: =C10*B$1 -> 1.3650927 | G10: -4.5037393 | H10: 0.01 | I10: =(1-G10)*C10 -> 13.500655 | J10: =F10*(1-G10)/(F10*(1-G10)+E10) -> 0.040514296 | K10: =(F10*(1-G10)+E10)*H10 -> 1.8544354 | L10: =SQRT(1-1/D10^2) -> 0.72662319 | M10: =(D10-1)^2/(D10+1)^2 -> 0.034414338 | N10: =M10*EXP(-2*K10) -> 0.00084332953 | O10: =EXP(-K10) -> 0.1565413 | P10: =J10/(1-J10)*(1-M10)/(1-M10*N10) -> 0.040773051 | Q10: =4/(1+L10)^2*(1-J10)/(1-J10*L10) -> 1.3264178 | R10: =(1-M10)/(1+M10) -> 0.93346121 | S10: =R10/(1+L10) -> 0.54062821 | T10: =2*S10/SQRT(Q10) -> 0.93883338 | U10: =SINH(SQRT(Q10)*K10) -> 4.1726489 | V10: =COSH(SQRT(Q10)*K10) -> 4.2908039 | W10: =(1-2*S10)-(1+2*S10)*M10 -> -0.15288149 | X10: =(1-2*S10)*N10-(1+2*S10) -> -2.081325 | Y10: =R10*(1-L10^2)*P10/2 -> 0.008982531 | Z10: =Y10*Q10/(Q10-1) -> 0.036501036 | AA10: =(W10*(T10*U10+V10)*O10+X10)/((1+T10^2)*U10+2*T10*V10) -> -0.14319131 | AB10: =(W10*O10+X10*(T10*U10+V10))/((1+T10^2)*U10+2*T10*V10) -> -1.0754857 | AC10: =M10+(1-M10)^2*N10/(1-M10*N10) -> 0.035200644 | AD10: =(1-M10)^2/(1-M10*N10)*O10 -> 0.14595641 | AE10: =AC10+Z10*(1+AB10/SQRT(Q10)+N10) -> 0.037646964 | AF10: =AD10+Z10*(AA10/SQRT(Q10)+(1+M10)*O10) -> 0.14732879 | AG10: =1-AE10-AF10 -> 0.81502425 | AI10: 690 | AJ10: 3.8509189 | AK10: 14.734239 | AL10: =AJ10/100 -> 0.038509189 | AM10: =AK10/100 -> 0.14734239 | AO10: =(AJ10/100-AE10)^2+(AK10/100-AF10)^2 -> 7.4361659e-07
A11: 680 | B11: 486.7325 | C11: 2.1618915 | D11: 1.4557667 | E11: =B11*B$1 -> 270.86664 | F11: =C11*B$1 -> 1.2030926 | G11: -6.8996107 | H11: 0.01 | I11: =(1-G11)*C11 -> 17.078101 | J11: =F11*(1-G11)/(F11*(1-G11)+E11) -> 0.03389786 | K11: =(F11*(1-G11)+E11)*H11 -> 2.803706 | L11: =SQRT(1-1/D11^2) -> 0.72672996 | M11: =(D11-1)^2/(D11+1)^2 -> 0.034443791 | N11: =M11*EXP(-2*K11) -> 0.00012642788 | O11: =EXP(-K11) -> 0.060585118 | P11: =J11/(1-J11)*(1-M11)/(1-M11*N11) -> 0.033878852 | Q11: =4/(1+L11)^2*(1-J11)/(1-J11*L11) -> 1.3288221 | R11: =(1-M11)/(1+M11) -> 0.93340616 | S11: =R11/(1+L11) -> 0.54056291 | T11: =2*S11/SQRT(Q11) -> 0.93787037 | U11: =SINH(SQRT(Q11)*K11) -> 12.644879 | V11: =COSH(SQRT(Q11)*K11) -> 12.684359 | W11: =(1-2*S11)-(1+2*S11)*M11 -> -0.15280767 | X11: =(1-2*S11)*N11-(1+2*S11) -> -2.0811361 | Y11: =R11*(1-L11^2)*P11/2 -> 0.007460807 | Z11: =Y11*Q11/(Q11-1) -> 0.030150302 | AA11: =(W11*(T11*U11+V11)*O11+X11)/((1+T11^2)*U11+2*T11*V11) -> -0.048535806 | AB11: =(W11*O11+X11*(T11*U11+V11))/((1+T11^2)*U11+2*T11*V11) -> -1.0741795 | AC11: =M11+(1-M11)^2*N11/(1-M11*N11) -> 0.03456166 | AD11: =(1-M11)^2/(1-M11*N11)*O11 -> 0.056483678 | AE11: =AC11+Z11*(1+AB11/SQRT(Q11)+N11) -> 0.036620381 | AF11: =AD11+Z11*(AA11/SQRT(Q11)+(1+M11)*O11) -> 0.057103791 | AG11: =1-AE11-AF11 -> 0.90627583 | AI11: 680 | AJ11: 3.7573844 | AK11: 5.7125162 | AL11: =AJ11/100 -> 0.037573844 | AM11: =AK11/100 -> 0.057125162 | AO11: =(AJ11/100-AE11)^2+(AK11/100-AF11)^2 -> 9.0954839e-07
A12: 670 | B12: 464.96521 | C12: 3.4000303 | D12: 1.4560144 | E12: =B12*B$1 -> 258.75314 | F12: =C12*B$1 -> 1.8921169 | G12: -3.4997581 | H12: 0.01 | I12: =(1-G12)*C12 -> 15.299314 | J12: =F12*(1-G12)/(F12*(1-G12)+E12) -> 0.031856015 | K12: =(F12*(1-G12)+E12)*H12 -> 2.6726721 | L12: =SQRT(1-1/D12^2) -> 0.72684041 | M12: =(D12-1)^2/(D12+1)^2 -> 0.034474287 | N12: =M12*EXP(-2*K12) -> 0.00016445301 | O12: =EXP(-K12) -> 0.069067425 | P12: =J12/(1-J12)*(1-M12)/(1-M12*N12) -> 0.031770043 | Q12: =4/(1+L12)^2*(1-J12)/(1-J12*L12) -> 1.3294425 | R12: =(1-M12)/(1+M12) -> 0.93334917 | S12: =R12/(1+L12) -> 0.54049532 | T12: =2*S12/SQRT(Q12) -> 0.9375343 | U12: =SINH(SQRT(Q12)*K12) -> 10.874003 | V12: =COSH(SQRT(Q12)*K12) -> 10.919887 | W12: =(1-2*S12)-(1+2*S12)*M12 -> -0.15273132 | X12: =(1-2*S12)*N12-(1+2*S12) -> -2.081004 | Y12: =R12*(1-L12^2)*P12/2 -> 0.0069935972 | Z12: =Y12*Q12/(Q12-1) -> 0.028222183 | AA12: =(W12*(T12*U12+V12)*O12+X12)/((1+T12^2)*U12+2*T12*V12) -> -0.056315808 | AB12: =(W12*O12+X12*(T12*U12+V12))/((1+T12^2)*U12+2*T12*V12) -> -1.0743807 | AC12: =M12+(1-M12)^2*N12/(1-M12*N12) -> 0.034627598 | AD12: =(1-M12)^2/(1-M12*N12)*O12 -> 0.064387774 | AE12: =AC12+Z12*(1+AB12/SQRT(Q12)+N12) -> 0.036556949 | AF12: =AD12+Z12*(AA12/SQRT(Q12)+(1+M12)*O12) -> 0.065025772 | AG12: =1-AE12-AF12 -> 0.89841728 | AI12: 670 | AJ12: 3.7423329 | AK12: 6.5152155 | AL12: =AJ12/100 -> 0.037423329 | AM12: =AK12/100 -> 0.065152155 | AO12: =(AJ12/100-AE12)^2+(AK12/100-AF12)^2 -> 7.6658807e-07
A13: 660 | B13: 345.62518 | C13: 1.9791828 | D13: 1.4562711 | E13: =B13*B$1 -> 192.34041 | F13: =C13*B$1 -> 1.1014152 | G13: -3.3786698 | H13: 0.01 | I13: =(1-G13)*C13 -> 8.666188 | J13: =F13*(1-G13)/(F13*(1-G13)+E13) -> 0.024460624 | K13: =(F13*(1-G13)+E13)*H13 -> 1.9716315 | L13: =SQRT(1-1/D13^2) -> 0.72695479 | M13: =(D13-1)^2/(D13+1)^2 -> 0.034505898 | N13: =M13*EXP(-2*K13) -> 0.00066889198 | O13: =EXP(-K13) -> 0.13922952 | P13: =J13/(1-J13)*(1-M13)/(1-M13*N13) -> 0.024209308 | Q13: =4/(1+L13)^2*(1-J13)/(1-J13*L13) -> 1.332094 | R13: =(1-M13)/(1+M13) -> 0.93329009 | S13: =R13/(1+L13) -> 0.54042532 | T13: =2*S13/SQRT(Q13) -> 0.93647944 | U13: =SINH(SQRT(Q13)*K13) -> 4.8154404 | V13: =COSH(SQRT(Q13)*K13) -> 4.9181771 | W13: =(1-2*S13)-(1+2*S13)*M13 -> -0.15265226 | X13: =(1-2*S13)*N13-(1+2*S13) -> -2.0809047 | Y13: =R13*(1-L13^2)*P13/2 -> 0.0053270229 | Z13: =Y13*Q13/(Q13-1) -> 0.021367732 | AA13: =(W13*(T13*U13+V13)*O13+X13)/((1+T13^2)*U13+2*T13*V13) -> -0.12500094 | AB13: =(W13*O13+X13*(T13*U13+V13))/((1+T13^2)*U13+2*T13*V13) -> -1.0761302 | AC13: =M13+(1-M13)^2*N13/(1-M13*N13) -> 0.035129439 | AD13: =(1-M13)^2/(1-M13*N13)*O13 -> 0.12978981 | AE13: =AC13+Z13*(1+AB13/SQRT(Q13)+N13) -> 0.036588415 | AF13: =AD13+Z13*(AA13/SQRT(Q13)+(1+M13)*O13) -> 0.13055327 | AG13: =1-AE13-AF13 -> 0.83285832 | AI13: 660 | AJ13: 3.7543491 | AK13: 13.051939 | AL13: =AJ13/100 -> 0.037543491 | AM13: =AK13/100 -> 0.13051939 | AO13: =(AJ13/100-AE13)^2+(AK13/100-AF13)^2 -> 9.1331884e-07
A14: 650 | B14: 305.56662 | C14: 2.1191913 | D14: 1.4565374 | E14: =B14*B$1 -> 170.04782 | F14: =C14*B$1 -> 1.1793299 | G14: -2.4004862 | H14: 0.01 | I14: =(1-G14)*C14 -> 7.2062808 | J14: =F14*(1-G14)/(F14*(1-G14)+E14) -> 0.023039978 | K14: =(F14*(1-G14)+E14)*H14 -> 1.7405812 | L14: =SQRT(1-1/D14^2) -> 0.72707337 | M14: =(D14-1)^2/(D14+1)^2 -> 0.034538701 | N14: =M14*EXP(-2*K14) -> 0.0010628119 | O14: =EXP(-K14) -> 0.17541842 | P14: =J14/(1-J14)*(1-M14)/(1-M14*N14) -> 0.022769636 | Q14: =4/(1+L14)^2*(1-J14)/(1-J14*L14) -> 1.3324534 | R14: =(1-M14)/(1+M14) -> 0.93322879 | S14: =R14/(1+L14) -> 0.54035272 | T14: =2*S14/SQRT(Q14) -> 0.93622735 | U14: =SINH(SQRT(Q14)*K14) -> 3.6615761 | V14: =COSH(SQRT(Q14)*K14) -> 3.7956738 | W14: =(1-2*S14)-(1+2*S14)*M14 -> -0.1525703 | X14: =(1-2*S14)*N14-(1+2*S14) -> -2.0807912 | Y14: =R14*(1-L14^2)*P14/2 -> 0.0050080761 | Z14: =Y14*Q14/(Q14-1) -> 0.02007207 | AA14: =(W14*(T14*U14+V14)*O14+X14)/((1+T14^2)*U14+2*T14*V14) -> -0.16269019 | AB14: =(W14*O14+X14*(T14*U14+V14))/((1+T14^2)*U14+2*T14*V14) -> -1.0772348 | AC14: =M14+(1-M14)^2*N14/(1-M14*N14) -> 0.035529401 | AD14: =(1-M14)^2/(1-M14*N14)*O14 -> 0.16351624 | AE14: =AC14+Z14*(1+AB14/SQRT(Q14)+N14) -> 0.036891133 | AF14: =AD14+Z14*(AA14/SQRT(Q14)+(1+M14)*O14) -> 0.16432989 | AG14: =1-AE14-AF14 -> 0.79877897 | AI14: 650 | AJ14: 3.7843511 | AK14: 16.427951 | AL14: =AJ14/100 -> 0.037843511 | AM14: =AK14/100 -> 0.16427951 | AO14: =(AJ14/100-AE14)^2+(AK14/100-AF14)^2 -> 9.0956258e-07
A15: 640 | B15: 227.80442 | C15: 1.7534067 | D15: 1.456814 | E15: =B15*B$1 -> 126.77316 | F15: =C15*B$1 -> 0.97577082 | G15: -1.0068906 | H15: 0.01 | I15: =(1-G15)*C15 -> 3.5188954 | J15: =F15*(1-G15)/(F15*(1-G15)+E15) -> 0.015212022 | K15: =(F15*(1-G15)+E15)*H15 -> 1.2873142 | L15: =SQRT(1-1/D15^2) -> 0.72719644 | M15: =(D15-1)^2/(D15+1)^2 -> 0.03457278 | N15: =M15*EXP(-2*K15) -> 0.0026338277 | O15: =EXP(-K15) -> 0.27601109 | P15: =J15/(1-J15)*(1-M15)/(1-M15*N15) -> 0.014914315 | Q15: =4/(1+L15)^2*(1-J15)/(1-J15*L15) -> 1.3352121 | R15: =(1-M15)/(1+M15) -> 0.93316511 | S15: =R15/(1+L15) -> 0.54027735 | T15: =2*S15/SQRT(Q15) -> 0.93512922 | U15: =SINH(SQRT(Q15)*K15) -> 2.1000616 | V15: =COSH(SQRT(Q15)*K15) -> 2.3259963 | W15: =(1-2*S15)-(1+2*S15)*M15 -> -0.15248525 | X15: =(1-2*S15)*N15-(1+2*S15) -> -2.0807669 | Y15: =R15*(1-L15^2)*P15/2 -> 0.0032788653 | Z15: =Y15*Q15/(Q15-1) -> 0.01306033 | AA15: =(W15*(T15*U15+V15)*O15+X15)/((1+T15^2)*U15+2*T15*V15) -> -0.27288459 | AB15: =(W15*O15+X15*(T15*U15+V15))/((1+T15^2)*U15+2*T15*V15) -> -1.0822406 | AC15: =M15+(1-M15)^2*N15/(1-M15*N15) -> 0.037027861 | AD15: =(1-M15)^2/(1-M15*N15)*O15 -> 0.25727948 | AE15: =AC15+Z15*(1+AB15/SQRT(Q15)+N15) -> 0.037890438 | AF15: =AD15+Z15*(AA15/SQRT(Q15)+(1+M15)*O15) -> 0.2579246 | AG15: =1-AE15-AF15 -> 0.70418496 | AI15: 640 | AJ15: 3.8830434 | AK15: 25.775449 | AL15: =AJ15/100 -> 0.038830434 | AM15: =AK15/100 -> 0.25775449 | AO15: =(AJ15/100-AE15)^2+(AK15/100-AF15)^2 -> 9.1252924e-07
... A39: 400 | B39: 474.3065 | C39: 1.6106777 | D39: 1.4701092 | E39: =B39*B$1 -> 263.95157 | F39: =C39*B$1 -> 0.89634213 | G39: -9.1529113 | H39: 0.01 | I39: =(1-G39)*C39 -> 16.353068 | J39: =F39*(1-G39)/(F39*(1-G39)+E39) -> 0.033328745 | K39: =(F39*(1-G39)+E39)*H39 -> 2.7305205 | L39: =SQRT(1-1/D39^2) -> 0.73300656 | M39: =(D39-1)^2/(D39+1)^2 -> 0.036221399 | N39: =M39*EXP(-2*K39) -> 0.00015390943 | O39: =EXP(-K39) -> 0.065185351 | P39: =J39/(1-J39)*(1-M39)/(1-M39*N39) -> 0.033229198 | Q39: =4/(1+L39)^2*(1-J39)/(1-J39*L39) -> 1.3197146 | R39: =(1-M39)/(1+M39) -> 0.93008946 | S39: =R39/(1+L39) -> 0.53669125 | T39: =2*S39/SQRT(Q39) -> 0.93436056 | U39: =SINH(SQRT(Q39)*K39) -> 11.493201 | V39: =COSH(SQRT(Q39)*K39) -> 11.536623 | W39: =(1-2*S39)-(1+2*S39)*M39 -> -0.14848332 | X39: =(1-2*S39)*N39-(1+2*S39) -> -2.0733938 | Y39: =R39*(1-L39^2)*P39/2 -> 0.0071501538 | Z39: =Y39*Q39/(Q39-1) -> 0.029514328 | AA39: =(W39*(T39*U39+V39)*O39+X39)/((1+T39^2)*U39+2*T39*V39) -> -0.053126416 | AB39: =(W39*O39+X39*(T39*U39+V39))/((1+T39^2)*U39+2*T39*V39) -> -1.0721711 | AC39: =M39+(1-M39)^2*N39/(1-M39*N39) -> 0.036364361 | AD39: =(1-M39)^2/(1-M39*N39)*O39 -> 0.060549002 | AE39: =AC39+Z39*(1+AB39/SQRT(Q39)+N39) -> 0.038337331 | AF39: =AD39+Z39*(AA39/SQRT(Q39)+(1+M39)*O39) -> 0.061177682 | AG39: =1-AE39-AF39 -> 0.90048499 | AI39: 400 | AJ39: 3.9299335 | AK39: 6.1186711 | AL39: =AJ39/100 -> 0.039299335 | AM39: =AK39/100 -> 0.061186711 | AO39: =(AJ39/100-AE39)^2+(AK39/100-AF39)^2 -> 9.2553498e-07
AJ40: 3.9601928 | AK40: 6.7834917
AJ41: 3.9944682 | AK41: 7.2598921
AJ42: 4.0218277 | AK42: 8.7649253
AJ43: 4.0543931 | AK43: 10.237287
AJ44: 4.1057348 | AK44: 10.619392

Sheet Dilution5_water
A1: X= | B1: 0.5565 | C1: g/L | AI1: dilution 5
A3: l (nm) | B3: Abs,l (m2/kg) | C3: Ssca,l (m2/kg) | D3: n | E3: k (1/m) | F3: ss (1/m) | G3: g | H3: d (m) | I3: Ssca,tr,λ (m2/kg) | J3: wtr | K3: ttr | L3: mc | M3: R1 | N3: Ctr | O3: Etr | P3: c | Q3: k2 | R3: g | S3: gbar | T3: j | U3: s | V3: c | W3: k1 | X3: k2 | Y3: D1 | Z3: D | AA3: A | AB3: B | AC3: R0dh | AD3: T0dh | AE3: Rdh | AF3: Tdh | AG3: Adh | AI3: l (nm) | AJ3: Rdh | AK3: Tdh | AL3: Rdh | AM3: Tdh | AO3: error
A4: 750 | B4: 42.751004 | C4: 1067.7686 | D4: =1.32711+0.0026/(A4/1000)^2+0.00005/(A4/1000)^4 -> 1.3318902 | E4: =B4*B$1 -> 23.790934 | F4: =C4*B$1 -> 594.21321 | G4: 0.97524811 | H4: 0.01 | I4: =(1-G4)*C4 -> 26.429295 | J4: =F4*(1-G4)/(F4*(1-G4)+E4) -> 0.38203499 | K4: =(F4*(1-G4)+E4)*H4 -> 0.38498836 | L4: =SQRT(1-1/D4^2) -> 0.66051527 | M4: =(D4-1)^2/(D4+1)^2 -> 0.02025689 | N4: =M4*EXP(-2*K4) -> 0.0093794231 | O4: =EXP(-K4) -> 0.68045855 | P4: =J4/(1-J4)*(1-M4)/(1-M4*N4) -> 0.6058066 | Q4: =4/(1+L4)^2*(1-J4)/(1-J4*L4) -> 1.1990408 | R4: =(1-M4)/(1+M4) -> 0.96029061 | S4: =R4/(1+L4) -> 0.57830881 | T4: =2*S4/SQRT(Q4) -> 1.0562649 | U4: =SINH(SQRT(Q4)*K4) -> 0.43416301 | V4: =COSH(SQRT(Q4)*K4) -> 1.0901823 | W4: =(1-2*S4)-(1+2*S4)*M4 -> -0.20030399 | X4: =(1-2*S4)*N4-(1+2*S4) -> -2.1580866 | Y4: =R4*(1-L4^2)*P4/2 -> 0.16397204 | Z4: =Y4*Q4/(Q4-1) -> 0.98778338 | AA4: =(W4*(T4*U4+V4)*O4+X4)/((1+T4^2)*U4+2*T4*V4) -> -0.73540562 | AB4: =(W4*O4+X4*(T4*U4+V4))/((1+T4^2)*U4+2*T4*V4) -> -1.0798009 | AC4: =M4+(1-M4)^2*N4/(1-M4*N4) -> 0.029261877 | AD4: =(1-M4)^2/(1-M4*N4)*O4 -> 0.65329395 | AE4: =AC4+Z4*(1+AB4/SQRT(Q4)+N4) -> 0.052243996 | AF4: =AD4+Z4*(AA4/SQRT(Q4)+(1+M4)*O4) -> 0.67566096 | AG4: =1-AE4-AF4 -> 0.27209504 | AI4: 750 | AJ4: 5.2243407 | AK4: 67.566328 | AL4: =AJ4/100 -> 0.052243407 | AM4: =AK4/100 -> 0.67566328 | AO4: =(AJ4/100-AE4)^2+(AK4/100-AF4)^2 -> 5.7256842e-12
A5: 740 | B5: 45.078453 | C5: 1707.1709 | D5: =1.32711+0.0026/(A5/1000)^2+0.00005/(A5/1000)^4 -> 1.3320247 | E5: =B5*B$1 -> 25.086159 | F5: =C5*B$1 -> 950.04059 | G5: 0.98452361 | H5: 0.01 | I5: =(1-G5)*C5 -> 26.420835 | J5: =F5*(1-G5)/(F5*(1-G5)+E5) -> 0.36952585 | K5: =(F5*(1-G5)+E5)*H5 -> 0.39789354 | L5: =SQRT(1-1/D5^2) -> 0.66060142 | M5: =(D5-1)^2/(D5+1)^2 -> 0.020270972 | N5: =M5*EXP(-2*K5) -> 0.0091467883 | O5: =EXP(-K5) -> 0.67173354 | P5: =J5/(1-J5)*(1-M5)/(1-M5*N5) -> 0.57433336 | Q5: =4/(1+L5)^2*(1-J5)/(1-J5*L5) -> 1.2098665 | R5: =(1-M5)/(1+M5) -> 0.96026355 | S5: =R5/(1+L5) -> 0.57826251 | T5: =2*S5/SQRT(Q5) -> 1.0514444 | U5: =SINH(SQRT(Q5)*K5) -> 0.45176508 | V5: =COSH(SQRT(Q5)*K5) -> 1.0973111 | W5: =(1-2*S5)-(1+2*S5)*M5 -> -0.20023988 | X5: =(1-2*S5)*N5-(1+2*S5) -> -2.1579567 | Y5: =R5*(1-L5^2)*P5/2 -> 0.1554175 | Z5: =Y5*Q5/(Q5-1) -> 0.89597147 | AA5: =(W5*(T5*U5+V5)*O5+X5)/((1+T5^2)*U5+2*T5*V5) -> -0.72710697 | AB5: =(W5*O5+X5*(T5*U5+V5))/((1+T5^2)*U5+2*T5*V5) -> -1.0824767 | AC5: =M5+(1-M5)^2*N5/(1-M5*N5) -> 0.029052318 | AD5: =(1-M5)^2/(1-M5*N5)*O5 -> 0.64489575 | AE5: =AC5+Z5*(1+AB5/SQRT(Q5)+N5) -> 0.051472027 | AF5: =AD5+Z5*(AA5/SQRT(Q5)+(1+M5)*O5) -> 0.66667451 | AG5: =1-AE5-AF5 -> 0.28185346 | AI5: 740 | AJ5: 5.1460538 | AK5: 66.666893 | AL5: =AJ5/100 -> 0.051460538 | AM5: =AK5/100 -> 0.66666893 | AO5: =(AJ5/100-AE5)^2+(AK5/100-AF5)^2 -> 1.6320526e-10
A6: 730 | B6: 47.600259 | C6: 654.37217 | D6: =1.32711+0.0026/(A6/1000)^2+0.00005/(A6/1000)^4 -> 1.332165 | E6: =B6*B$1 -> 26.489544 | F6: =C6*B$1 -> 364.15811 | G6: 0.95913208 | H6: 0.01 | I6: =(1-G6)*C6 -> 26.74283 | J6: =F6*(1-G6)/(F6*(1-G6)+E6) -> 0.3597218 | K6: =(F6*(1-G6)+E6)*H6 -> 0.41371929 | L6: =SQRT(1-1/D6^2) -> 0.66069127 | M6: =(D6-1)^2/(D6+1)^2 -> 0.020285666 | N6: =M6*EXP(-2*K6) -> 0.0088682362 | O6: =EXP(-K6) -> 0.66118653 | P6: =J6/(1-J6)*(1-M6)/(1-M6*N6) -> 0.55052323 | Q6: =4/(1+L6)^2*(1-J6)/(1-J6*L6) -> 1.2181621 | R6: =(1-M6)/(1+M6) -> 0.96023532 | S6: =R6/(1+L6) -> 0.57821423 | T6: =2*S6/SQRT(Q6) -> 1.0477707 | U6: =SINH(SQRT(Q6)*K6) -> 0.47265786 | V6: =COSH(SQRT(Q6)*K6) -> 1.1060766 | W6: =(1-2*S6)-(1+2*S6)*M6 -> -0.20017305 | X6: =(1-2*S6)*N6-(1+2*S6) -> -2.1578157 | Y6: =R6*(1-L6^2)*P6/2 -> 0.1489386 | Z6: =Y6*Q6/(Q6-1) -> 0.83163565 | AA6: =(W6*(T6*U6+V6)*O6+X6)/((1+T6^2)*U6+2*T6*V6) -> -0.71607097 | AB6: =(W6*O6+X6*(T6*U6+V6))/((1+T6^2)*U6+2*T6*V6) -> -1.0840971 | AC6: =M6+(1-M6)^2*N6/(1-M6*N6) -> 0.028799287 | AD6: =(1-M6)^2/(1-M6*N6)*O6 -> 0.63474758 | AE6: =AC6+Z6*(1+AB6/SQRT(Q6)+N6) -> 0.050947962 | AF6: =AD6+Z6*(AA6/SQRT(Q6)+(1+M6)*O6) -> 0.65621215 | AG6: =1-AE6-AF6 -> 0.29283989 | AI6: 730 | AJ6: 5.0942698 | AK6: 65.62122 | AL6: =AJ6/100 -> 0.050942698 | AM6: =AK6/100 -> 0.6562122 | AO6: =(AJ6/100-AE6)^2+(AK6/100-AF6)^2 -> 2.7716865e-11
A7: 720 | B7: 53.940062 | C7: 994.09829 | D7: =1.32711+0.0026/(A7/1000)^2+0.00005/(A7/1000)^4 -> 1.3323115 | E7: =B7*B$1 -> 30.017644 | F7: =C7*B$1 -> 553.2157 | G7: 0.97209574 | H7: 0.01 | I7: =(1-G7)*C7 -> 27.739572 | J7: =F7*(1-G7)/(F7*(1-G7)+E7) -> 0.33961431 | K7: =(F7*(1-G7)+E7)*H7 -> 0.45454716 | L7: =SQRT(1-1/D7^2) -> 0.66078501 | M7: =(D7-1)^2/(D7+1)^2 -> 0.020301008 | N7: =M7*EXP(-2*K7) -> 0.0081790517 | O7: =EXP(-K7) -> 0.63473533 | P7: =J7/(1-J7)*(1-M7)/(1-M7*N7) -> 0.50391014 | Q7: =4/(1+L7)^2*(1-J7)/(1-J7*L7) -> 1.2348089 | R7: =(1-M7)/(1+M7) -> 0.96020585 | S7: =R7/(1+L7) -> 0.57816385 | T7: =2*S7/SQRT(Q7) -> 1.0405934 | U7: =SINH(SQRT(Q7)*K7) -> 0.52685492 | V7: =COSH(SQRT(Q7)*K7) -> 1.1302991 | W7: =(1-2*S7)-(1+2*S7)*M7 -> -0.20010332 | X7: =(1-2*S7)*N7-(1+2*S7) -> -2.1576063 | Y7: =R7*(1-L7^2)*P7/2 -> 0.13629374 | Z7: =Y7*Q7/(Q7-1) -> 0.71673905 | AA7: =(W7*(T7*U7+V7)*O7+X7)/((1+T7^2)*U7+2*T7*V7) -> -0.6872458 | AB7: =(W7*O7+X7*(T7*U7+V7))/((1+T7^2)*U7+2*T7*V7) -> -1.0866529 | AC7: =M7+(1-M7)^2*N7/(1-M7*N7) -> 0.028152648 | AD7: =(1-M7)^2/(1-M7*N7)*O7 -> 0.60932657 | AE7: =AC7+Z7*(1+AB7/SQRT(Q7)+N7) -> 0.049860442 | AF7: =AD7+Z7*(AA7/SQRT(Q7)+(1+M7)*O7) -> 0.63022686 | AG7: =1-AE7-AF7 -> 0.3199127 | AI7: 720 | AJ7: 4.9853308 | AK7: 63.022367 | AL7: =AJ7/100 -> 0.049853308 | AM7: =AK7/100 -> 0.63022367 | AO7: =(AJ7/100-AE7)^2+(AK7/100-AF7)^2 -> 6.1087887e-11
A8: 710 | B8: 72.534002 | C8: 1396.0804 | D8: =1.32711+0.0026/(A8/1000)^2+0.00005/(A8/1000)^4 -> 1.3324645 | E8: =B8*B$1 -> 40.365172 | F8: =C8*B$1 -> 776.91876 | G8: 0.97777268 | H8: 0.01 | I8: =(1-G8)*C8 -> 31.031133 | J8: =F8*(1-G8)/(F8*(1-G8)+E8) -> 0.29962915 | K8: =(F8*(1-G8)+E8)*H8 -> 0.57633998 | L8: =SQRT(1-1/D8^2) -> 0.66088288 | M8: =(D8-1)^2/(D8+1)^2 -> 0.020317038 | N8: =M8*EXP(-2*K8) -> 0.0064159039 | O8: =EXP(-K8) -> 0.56195136 | P8: =J8/(1-J8)*(1-M8)/(1-M8*N8) -> 0.4191777 | Q8: =4/(1+L8)^2*(1-J8)/(1-J8*L8) -> 1.2663285 | R8: =(1-M8)/(1+M8) -> 0.96017505 | S8: =R8/(1+L8) -> 0.57811123 | T8: =2*S8/SQRT(Q8) -> 1.0274678 | U8: =SINH(SQRT(Q8)*K8) -> 0.69499641 | V8: =COSH(SQRT(Q8)*K8) -> 1.2177931 | W8: =(1-2*S8)-(1+2*S8)*M8 -> -0.20003052 | X8: =(1-2*S8)*N8-(1+2*S8) -> -2.1572248 | Y8: =R8*(1-L8^2)*P8/2 -> 0.11334629 | Z8: =Y8*Q8/(Q8-1) -> 0.53893459 | AA8: =(W8*(T8*U8+V8)*O8+X8)/((1+T8^2)*U8+2*T8*V8) -> -0.60398665 | AB8: =(W8*O8+X8*(T8*U8+V8))/((1+T8^2)*U8+2*T8*V8) -> -1.0887067 | AC8: =M8+(1-M8)^2*N8/(1-M8*N8) -> 0.026475689 | AD8: =(1-M8)^2/(1-M8*N8)*O8 -> 0.53941926 | AE8: =AC8+Z8*(1+AB8/SQRT(Q8)+N8) -> 0.047464756 | AF8: =AD8+Z8*(AA8/SQRT(Q8)+(1+M8)*O8) -> 0.55916619 | AG8: =1-AE8-AF8 -> 0.39336905 | AI8: 710 | AJ8: 4.7454321 | AK8: 55.916736 | AL8: =AJ8/100 -> 0.047454321 | AM8: =AK8/100 -> 0.55916736 | AO8: =(AJ8/100-AE8)^2+(AK8/100-AF8)^2 -> 1.1025113e-10
A9: 700 | B9: 123.70425 | C9: 1638.06 | D9: =1.32711+0.0026/(A9/1000)^2+0.00005/(A9/1000)^4 -> 1.3326244 | E9: =B9*B$1 -> 68.841416 | F9: =C9*B$1 -> 911.58039 | G9: 0.97550685 | H9: 0.01 | I9: =(1-G9)*C9 -> 40.121246 | J9: =F9*(1-G9)/(F9*(1-G9)+E9) -> 0.24490233 | K9: =(F9*(1-G9)+E9)*H9 -> 0.91168889 | L9: =SQRT(1-1/D9^2) -> 0.66098512 | M9: =(D9-1)^2/(D9+1)^2 -> 0.020333798 | N9: =M9*EXP(-2*K9) -> 0.0032834893 | O9: =EXP(-K9) -> 0.40184498 | P9: =J9/(1-J9)*(1-M9)/(1-M9*N9) -> 0.3177583 | Q9: =4/(1+L9)^2*(1-J9)/(1-J9*L9) -> 1.3062424 | R9: =(1-M9)/(1+M9) -> 0.96014285 | S9: =R9/(1+L9) -> 0.57805626 | T9: =2*S9/SQRT(Q9) -> 1.011552 | U9: =SINH(SQRT(Q9)*K9) -> 1.2410312 | V9: =COSH(SQRT(Q9)*K9) -> 1.5937875 | W9: =(1-2*S9)-(1+2*S9)*M9 -> -0.19995448 | X9: =(1-2*S9)*N9-(1+2*S9) -> -2.1566251 | Y9: =R9*(1-L9^2)*P9/2 -> 0.085898832 | Z9: =Y9*Q9/(Q9-1) -> 0.36639179 | AA9: =(W9*(T9*U9+V9)*O9+X9)/((1+T9^2)*U9+2*T9*V9) -> -0.41594288 | AB9: =(W9*O9+X9*(T9*U9+V9))/((1+T9^2)*U9+2*T9*V9) -> -1.0853681 | AC9: =M9+(1-M9)^2*N9/(1-M9*N9) -> 0.023485324 | AD9: =(1-M9)^2/(1-M9*N9)*O9 -> 0.38569481 | AE9: =AC9+Z9*(1+AB9/SQRT(Q9)+N9) -> 0.043134924 | AF9: =AD9+Z9*(AA9/SQRT(Q9)+(1+M9)*O9) -> 0.40257913 | AG9: =1-AE9-AF9 -> 0.55428595 | AI9: 700 | AJ9: 4.3125553 | AK9: 40.257836 | AL9: =AJ9/100 -> 0.043125553 | AM9: =AK9/100 -> 0.40257836 | AO9: =(AJ9/100-AE9)^2+(AK9/100-AF9)^2 -> 8.840939e-11
A10: 690 | B10: 278.00378 | C10: 1723.3513 | D10: =1.32711+0.0026/(A10/1000)^2+0.00005/(A10/1000)^4 -> 1.3327916 | E10: =B10*B$1 -> 154.7091 | F10: =C10*B$1 -> 959.04497 | G10: 0.95905622 | H10: 0.01 | I10: =(1-G10)*C10 -> 70.560506 | J10: =F10*(1-G10)/(F10*(1-G10)+E10) -> 0.20243183 | K10: =(F10*(1-G10)+E10)*H10 -> 1.9397603 | L10: =SQRT(1-1/D10^2) -> 0.66109201 | M10: =(D10-1)^2/(D10+1)^2 -> 0.020351334 | N10: =M10*EXP(-2*K10) -> 0.0004204734 | O10: =EXP(-K10) -> 0.14373841 | P10: =J10/(1-J10)*(1-M10)/(1-M10*N10) -> 0.24864805 | Q10: =4/(1+L10)^2*(1-J10)/(1-J10*L10) -> 1.3348588 | R10: =(1-M10)/(1+M10) -> 0.96010916 | S10: =R10/(1+L10) -> 0.57799878 | T10: =2*S10/SQRT(Q10) -> 1.0005511 | U10: =SINH(SQRT(Q10)*K10) -> 4.6487739 | V10: =COSH(SQRT(Q10)*K10) -> 4.755113 | W10: =(1-2*S10)-(1+2*S10)*M10 -> -0.19987499 | X10: =(1-2*S10)*N10-(1+2*S10) -> -2.1560632 | Y10: =R10*(1-L10^2)*P10/2 -> 0.067197198 | Z10: =Y10*Q10/(Q10-1) -> 0.26787046 | AA10: =(W10*(T10*U10+V10)*O10+X10)/((1+T10^2)*U10+2*T10*V10) -> -0.12893452 | AB10: =(W10*O10+X10*(T10*U10+V10))/((1+T10^2)*U10+2*T10*V10) -> -1.079258 | AC10: =M10+(1-M10)^2*N10/(1-M10*N10) -> 0.02075487 | AD10: =(1-M10)^2/(1-M10*N10)*O10 -> 0.13794858 | AE10: =AC10+Z10*(1+AB10/SQRT(Q10)+N10) -> 0.038511964 | AF10: =AD10+Z10*(AA10/SQRT(Q10)+(1+M10)*O10) -> 0.14734198 | AG10: =1-AE10-AF10 -> 0.81414606 | AI10: 690 | AJ10: 3.8509189 | AK10: 14.734239 | AL10: =AJ10/100 -> 0.038509189 | AM10: =AK10/100 -> 0.14734239 | AO10: =(AJ10/100-AE10)^2+(AK10/100-AF10)^2 -> 7.8750678e-12
A11: 680 | B11: 420.81711 | C11: 1544.1398 | D11: =1.32711+0.0026/(A11/1000)^2+0.00005/(A11/1000)^4 -> 1.3329667 | E11: =B11*B$1 -> 234.18472 | F11: =C11*B$1 -> 859.31377 | G11: 0.93412261 | H11: 0.01 | I11: =(1-G11)*C11 -> 101.7239 | J11: =F11*(1-G11)/(F11*(1-G11)+E11) -> 0.19467161 | K11: =(F11*(1-G11)+E11)*H11 -> 2.9079407 | L11: =SQRT(1-1/D11^2) -> 0.66120384 | M11: =(D11-1)^2/(D11+1)^2 -> 0.020369693 | N11: =M11*EXP(-2*K11) -> 6.0698686e-05 | O11: =EXP(-K11) -> 0.054588027 | P11: =J11/(1-J11)*(1-M11)/(1-M11*N11) -> 0.23680582 | Q11: =4/(1+L11)^2*(1-J11)/(1-J11*L11) -> 1.3397637 | R11: =(1-M11)/(1+M11) -> 0.9600739 | S11: =R11/(1+L11) -> 0.57793865 | T11: =2*S11/SQRT(Q11) -> 0.99861394 | U11: =SINH(SQRT(Q11)*K11) -> 14.462334 | V11: =COSH(SQRT(Q11)*K11) -> 14.496866 | W11: =(1-2*S11)-(1+2*S11)*M11 -> -0.19979185 | X11: =(1-2*S11)*N11-(1+2*S11) -> -2.1558868 | Y11: =R11*(1-L11^2)*P11/2 -> 0.063977674 | Z11: =Y11*Q11/(Q11-1) -> 0.25227816 | AA11: =(W11*(T11*U11+V11)*O11+X11)/((1+T11^2)*U11+2*T11*V11) -> -0.042731384 | AB11: =(W11*O11+X11*(T11*U11+V11))/((1+T11^2)*U11+2*T11*V11) -> -1.0788804 | AC11: =M11+(1-M11)^2*N11/(1-M11*N11) -> 0.020427945 | AD11: =(1-M11)^2/(1-M11*N11)*O11 -> 0.052386859 | AE11: =AC11+Z11*(1+AB11/SQRT(Q11)+N11) -> 0.037574738 | AF11: =AD11+Z11*(AA11/SQRT(Q11)+(1+M11)*O11) -> 0.057125253 | AG11: =1-AE11-AF11 -> 0.90530001 | AI11: 680 | AJ11: 3.7573844 | AK11: 5.7125162 | AL11: =AJ11/100 -> 0.037573844 | AM11: =AK11/100 -> 0.057125162 | AO11: =(AJ11/100-AE11)^2+(AK11/100-AF11)^2 -> 8.0699292e-13
A12: 670 | B12: 402.03542 | C12: 1382.15 | D12: =1.32711+0.0026/(A12/1000)^2+0.00005/(A12/1000)^4 -> 1.3331501 | E12: =B12*B$1 -> 223.73271 | F12: =C12*B$1 -> 769.16646 | G12: 0.93042202 | H12: 0.01 | I12: =(1-G12)*C12 -> 96.167209 | J12: =F12*(1-G12)/(F12*(1-G12)+E12) -> 0.1930283 | K12: =(F12*(1-G12)+E12)*H12 -> 2.7724976 | L12: =SQRT(1-1/D12^2) -> 0.6613209 | M12: =(D12-1)^2/(D12+1)^2 -> 0.020388931 | N12: =M12*EXP(-2*K12) -> 7.9658771e-05 | O12: =EXP(-K12) -> 0.062505693 | P12: =J12/(1-J12)*(1-M12)/(1-M12*N12) -> 0.23432417 | Q12: =4/(1+L12)^2*(1-J12)/(1-J12*L12) -> 1.3406712 | R12: =(1-M12)/(1+M12) -> 0.96003694 | S12: =R12/(1+L12) -> 0.57787568 | T12: =2*S12/SQRT(Q12) -> 0.99816714 | U12: =SINH(SQRT(Q12)*K12) -> 12.371869 | V12: =COSH(SQRT(Q12)*K12) -> 12.412217 | W12: =(1-2*S12)-(1+2*S12)*M12 -> -0.19970482 | X12: =(1-2*S12)*N12-(1+2*S12) -> -2.1557638 | Y12: =R12*(1-L12^2)*P12/2 -> 0.063287357 | Z12: =Y12*Q12/(Q12-1) -> 0.24905989 | AA12: =(W12*(T12*U12+V12)*O12+X12)/((1+T12^2)*U12+2*T12*V12) -> -0.049817788 | AB12: =(W12*O12+X12*(T12*U12+V12))/((1+T12^2)*U12+2*T12*V12) -> -1.0791245 | AC12: =M12+(1-M12)^2*N12/(1-M12*N12) -> 0.020465374 | AD12: =(1-M12)^2/(1-M12*N12)*O12 -> 0.059982926 | AE12: =AC12+Z12*(1+AB12/SQRT(Q12)+N12) -> 0.037424229 | AF12: =AD12+Z12*(AA12/SQRT(Q12)+(1+M12)*O12) -> 0.065152134 | AG12: =1-AE12-AF12 -> 0.89742364 | AI12: 670 | AJ12: 3.7423329 | AK12: 6.5152155 | AL12: =AJ12/100 -> 0.037423329 | AM12: =AK12/100 -> 0.065152155 | AO12: =(AJ12/100-AE12)^2+(AK12/100-AF12)^2 -> 8.1047931e-13
A13: 660 | B13: 298.75659 | C13: 907.29338 | D13: =1.32711+0.0026/(A13/1000)^2+0.00005/(A13/1000)^4 -> 1.3333423 | E13: =B13*B$1 -> 166.25804 | F13: =C13*B$1 -> 504.90876 | G13: 0.92120774 | H13: 0.01 | I13: =(1-G13)*C13 -> 71.487695 | J13: =F13*(1-G13)/(F13*(1-G13)+E13) -> 0.19308251 | K13: =(F13*(1-G13)+E13)*H13 -> 2.0604094 | L13: =SQRT(1-1/D13^2) -> 0.66144354 | M13: =(D13-1)^2/(D13+1)^2 -> 0.020409103 | N13: =M13*EXP(-2*K13) -> 0.00033126459 | O13: =EXP(-K13) -> 0.1274018 | P13: =J13/(1-J13)*(1-M13)/(1-M13*N13) -> 0.23440209 | Q13: =4/(1+L13)^2*(1-J13)/(1-J13*L13) -> 1.3404747 | R13: =(1-M13)/(1+M13) -> 0.95999819 | S13: =R13/(1+L13) -> 0.5778097 | T13: =2*S13/SQRT(Q13) -> 0.99812632 | U13: =SINH(SQRT(Q13)*K13) -> 5.3863285 | V13: =COSH(SQRT(Q13)*K13) -> 5.4783697 | W13: =(1-2*S13)-(1+2*S13)*M13 -> -0.19961366 | X13: =(1-2*S13)*N13-(1+2*S13) -> -2.155671 | Y13: =R13*(1-L13^2)*P13/2 -> 0.063287595 | Z13: =Y13*Q13/(Q13-1) -> 0.24916803 | AA13: =(W13*(T13*U13+V13)*O13+X13)/((1+T13^2)*U13+2*T13*V13) -> -0.11211902 | AB13: =(W13*O13+X13*(T13*U13+V13))/((1+T13^2)*U13+2*T13*V13) -> -1.0800273 | AC13: =M13+(1-M13)^2*N13/(1-M13*N13) -> 0.020726986 | AD13: =(1-M13)^2/(1-M13*N13)*O13 -> 0.12225538 | AE13: =AC13+Z13*(1+AB13/SQRT(Q13)+N13) -> 0.037544582 | AF13: =AD13+Z13*(AA13/SQRT(Q13)+(1+M13)*O13) -> 0.13051854 | AG13: =1-AE13-AF13 -> 0.83193688 | AI13: 660 | AJ13: 3.7543491 | AK13: 13.051939 | AL13: =AJ13/100 -> 0.037543491 | AM13: =AK13/100 -> 0.13051939 | AO13: =(AJ13/100-AE13)^2+(AK13/100-AF13)^2 -> 1.905509e-12
A14: 650 | B14: 263.90652 | C14: 1305.8268 | D14: =1.32711+0.0026/(A14/1000)^2+0.00005/(A14/1000)^4 -> 1.3335439 | E14: =B14*B$1 -> 146.86398 | F14: =C14*B$1 -> 726.69262 | G14: 0.95098526 | H14: 0.01 | I14: =(1-G14)*C14 -> 64.004758 | J14: =F14*(1-G14)/(F14*(1-G14)+E14) -> 0.19518925 | K14: =(F14*(1-G14)+E14)*H14 -> 1.8248263 | L14: =SQRT(1-1/D14^2) -> 0.66157212 | M14: =(D14-1)^2/(D14+1)^2 -> 0.020430273 | N14: =M14*EXP(-2*K14) -> 0.00053119038 | O14: =EXP(-K14) -> 0.16124566 | P14: =J14/(1-J14)*(1-M14)/(1-M14*N14) -> 0.2375758 | Q14: =4/(1+L14)^2*(1-J14)/(1-J14*L14) -> 1.3389456 | R14: =(1-M14)/(1+M14) -> 0.95995753 | S14: =R14/(1+L14) -> 0.57774052 | T14: =2*S14/SQRT(Q14) -> 0.99857655 | U14: =SINH(SQRT(Q14)*K14) -> 4.0700258 | V14: =COSH(SQRT(Q14)*K14) -> 4.191075 | W14: =(1-2*S14)-(1+2*S14)*M14 -> -0.1995181 | X14: =(1-2*S14)*N14-(1+2*S14) -> -2.1555636 | Y14: =R14*(1-L14^2)*P14/2 -> 0.06412237 | Z14: =Y14*Q14/(Q14-1) -> 0.25330429 | AA14: =(W14*(T14*U14+V14)*O14+X14)/((1+T14^2)*U14+2*T14*V14) -> -0.14674792 | AB14: =(W14*O14+X14*(T14*U14+V14))/((1+T14^2)*U14+2*T14*V14) -> -1.0805106 | AC14: =M14+(1-M14)^2*N14/(1-M14*N14) -> 0.020939986 | AD14: =(1-M14)^2/(1-M14*N14)*O14 -> 0.15472605 | AE14: =AC14+Z14*(1+AB14/SQRT(Q14)+N14) -> 0.037846702 | AF14: =AD14+Z14*(AA14/SQRT(Q14)+(1+M14)*O14) -> 0.16428047 | AG14: =1-AE14-AF14 -> 0.79787283 | AI14: 650 | AJ14: 3.7843511 | AK14: 16.427951 | AL14: =AJ14/100 -> 0.037843511 | AM14: =AK14/100 -> 0.16427951 | AO14: =(AJ14/100-AE14)^2+(AK14/100-AF14)^2 -> 1.1099039e-11
A15: 640 | B15: 195.3447 | C15: 1309.7043 | D15: =1.32711+0.0026/(A15/1000)^2+0.00005/(A15/1000)^4 -> 1.3337557 | E15: =B15*B$1 -> 108.70933 | F15: =C15*B$1 -> 728.85042 | G15: 0.96211189 | H15: 0.01 | I15: =(1-G15)*C15 -> 49.622213 | J15: =F15*(1-G15)/(F15*(1-G15)+E15) -> 0.202567 | K15: =(F15*(1-G15)+E15)*H15 -> 1.3632409 | L15: =SQRT(1-1/D15^2) -> 0.66170702 | M15: =(D15-1)^2/(D15+1)^2 -> 0.020452507 | N15: =M15*EXP(-2*K15) -> 0.0013385993 | O15: =EXP(-K15) -> 0.25583032 | P15: =J15/(1-J15)*(1-M15)/(1-M15*N15) -> 0.24883524 | Q15: =4/(1+L15)^2*(1-J15)/(1-J15*L15) -> 1.3339743 | R15: =(1-M15)/(1+M15) -> 0.95991483 | S15: =R15/(1+L15) -> 0.57766791 | T15: =2*S15/SQRT(Q15) -> 1.0003098 | U15: =SINH(SQRT(Q15)*K15) -> 2.3106413 | V15: =COSH(SQRT(Q15)*K15) -> 2.5177496 | W15: =(1-2*S15)-(1+2*S15)*M15 -> -0.19941785 | X15: =(1-2*S15)*N15-(1+2*S15) -> -2.1555438 | Y15: =R15*(1-L15^2)*P15/2 -> 0.067137014 | Z15: =Y15*Q15/(Q15-1) -> 0.26816152 | AA15: =(W15*(T15*U15+V15)*O15+X15)/((1+T15^2)*U15+2*T15*V15) -> -0.24865085 | AB15: =(W15*O15+X15*(T15*U15+V15))/((1+T15^2)*U15+2*T15*V15) -> -1.0828792 | AC15: =M15+(1-M15)^2*N15/(1-M15*N15) -> 0.021736946 | AD15: =(1-M15)^2/(1-M15*N15)*O15 -> 0.24547931 | AE15: =AC15+Z15*(1+AB15/SQRT(Q15)+N15) -> 0.038835733 | AF15: =AD15+Z15*(AA15/SQRT(Q15)+(1+M15)*O15) -> 0.2577548 | AG15: =1-AE15-AF15 -> 0.70340947 | AI15: 640 | AJ15: 3.8830434 | AK15: 25.775449 | AL15: =AJ15/100 -> 0.038830434 | AM15: =AK15/100 -> 0.25775449 | AO15: =(AJ15/100-AE15)^2+(AK15/100-AF15)^2 -> 2.8173147e-11
... A39: 400 | B39: 406.7754 | C39: 1496.6689 | D39: =1.32711+0.0026/(A39/1000)^2+0.00005/(A39/1000)^4 -> 1.3453131 | E39: =B39*B$1 -> 226.37051 | F39: =C39*B$1 -> 832.89624 | G39: 0.93109026 | H39: 0.01 | I39: =(1-G39)*C39 -> 103.13506 | J39: =F39*(1-G39)/(F39*(1-G39)+E39) -> 0.20226112 | K39: =(F39*(1-G39)+E39)*H39 -> 2.8376517 | L39: =SQRT(1-1/D39^2) -> 0.66893448 | M39: =(D39-1)^2/(D39+1)^2 -> 0.021678264 | N39: =M39*EXP(-2*K39) -> 7.4348382e-05 | O39: =EXP(-K39) -> 0.058563026 | P39: =J39/(1-J39)*(1-M39)/(1-M39*N39) -> 0.24804705 | Q39: =4/(1+L39)^2*(1-J39)/(1-J39*L39) -> 1.3248797 | R39: =(1-M39)/(1+M39) -> 0.95756342 | S39: =R39/(1+L39) -> 0.57375735 | T39: =2*S39/SQRT(Q39) -> 0.99694234 | U39: =SINH(SQRT(Q39)*K39) -> 13.087145 | V39: =COSH(SQRT(Q39)*K39) -> 13.125295 | W39: =(1-2*S39)-(1+2*S39)*M39 -> -0.19406909 | X39: =(1-2*S39)*N39-(1+2*S39) -> -2.1475257 | Y39: =R39*(1-L39^2)*P39/2 -> 0.065618282 | Z39: =Y39*Q39/(Q39-1) -> 0.26759547 | AA39: =(W39*(T39*U39+V39)*O39+X39)/((1+T39^2)*U39+2*T39*V39) -> -0.046780756 | AB39: =(W39*O39+X39*(T39*U39+V39))/((1+T39^2)*U39+2*T39*V39) -> -1.0756268 | AC39: =M39+(1-M39)^2*N39/(1-M39*N39) -> 0.021749424 | AD39: =(1-M39)^2/(1-M39*N39)*O39 -> 0.056051548 | AE39: =AC39+Z39*(1+AB39/SQRT(Q39)+N39) -> 0.039300224 | AF39: =AD39+Z39*(AA39/SQRT(Q39)+(1+M39)*O39) -> 0.061186759 | AG39: =1-AE39-AF39 -> 0.89951302 | AI39: 400 | AJ39: 3.9299335 | AK39: 6.1186711 | AL39: =AJ39/100 -> 0.039299335 | AM39: =AK39/100 -> 0.061186711 | AO39: =(AJ39/100-AE39)^2+(AK39/100-AF39)^2 -> 7.9132281e-13
AJ40: 3.9601928 | AK40: 6.7834917
AJ41: 3.9944682 | AK41: 7.2598921
AJ42: 4.0218277 | AK42: 8.7649253
AJ43: 4.0543931 | AK43: 10.237287
AJ44: 4.1057348 | AK44: 10.619392

Sheet Dilution4
A1: X= | B1: 1.113 | C1: g/L | AI1: dilution 4 | AK1: 1.113 | AL1: g/L
A3: l (nm) | B3: Abs,l (m2/kg) | C3: Ssca,l (m2/kg) | D3: n | E3: k (1/m) | F3: ss (1/m) | G3: g | H3: d (m) | J3: wtr | K3: ttr | L3: mc | M3: R1 | N3: Ctr | O3: Etr | P3: c | Q3: k2 | R3: g | S3: gbar | T3: j | U3: s | V3: c | W3: k1 | X3: k2 | Y3: D1 | Z3: D | AA3: A | AB3: B | AC3: R0dh | AD3: T0dh | AE3: Rdh | AF3: Tdh | AG3: Adh | AI3: l (nm) | AJ3: Rdh | AK3: Tdh | AL3: Rdh | AM3: Tdh | AO3: error
A4: 750 | B4: 44.774693 | C4: 124.8424 | D4: =1.32711+0.0026/(A4/1000)^2+0.00005/(A4/1000)^4 -> 1.3318902 | E4: =B4*B$1 -> 49.834233 | F4: =C4*B$1 -> 138.94959 | G4: 0.80433133 | H4: 0.01 | J4: =F4*(1-G4)/(F4*(1-G4)+E4) -> 0.35298968 | K4: =(F4*(1-G4)+E4)*H4 -> 0.77022315 | L4: =SQRT(1-1/D4^2) -> 0.66051527 | M4: =(D4-1)^2/(D4+1)^2 -> 0.02025689 | N4: =M4*EXP(-2*K4) -> 0.0043407566 | O4: =EXP(-K4) -> 0.46290976 | P4: =J4/(1-J4)*(1-M4)/(1-M4*N4) -> 0.53456584 | Q4: =4/(1+L4)^2*(1-J4)/(1-J4*L4) -> 1.2239901 | R4: =(1-M4)/(1+M4) -> 0.96029061 | S4: =R4/(1+L4) -> 0.57830881 | T4: =2*S4/SQRT(Q4) -> 1.0454442 | U4: =SINH(SQRT(Q4)*K4) -> 0.95906415 | V4: =COSH(SQRT(Q4)*K4) -> 1.3855699 | W4: =(1-2*S4)-(1+2*S4)*M4 -> -0.20030399 | X4: =(1-2*S4)*N4-(1+2*S4) -> -2.1572975 | Y4: =R4*(1-L4^2)*P4/2 -> 0.1446895 | Z4: =Y4*Q4/(Q4-1) -> 0.7906533 | AA4: =(W4*(T4*U4+V4)*O4+X4)/((1+T4^2)*U4+2*T4*V4) -> -0.48502656 | AB4: =(W4*O4+X4*(T4*U4+V4))/((1+T4^2)*U4+2*T4*V4) -> -1.0694222 | AC4: =M4+(1-M4)^2*N4/(1-M4*N4) -> 0.024423934 | AD4: =(1-M4)^2/(1-M4*N4)*O4 -> 0.44438456 | AE4: =AC4+Z4*(1+AB4/SQRT(Q4)+N4) -> 0.054240148 | AF4: =AD4+Z4*(AA4/SQRT(Q4)+(1+M4)*O4) -> 0.47117252 | AG4: =1-AE4-AF4 -> 0.47458733 | AI4: 750 | AJ4: 5.4239638 | AK4: 47.117119 | AL4: =AJ4/100 -> 0.054239638 | AM4: =AK4/100 -> 0.47117119 | AO4: =(AJ4/100-AE4)^2+(AK4/100-AF4)^2 -> 2.0311376e-12
A5: 740 | B5: 47.013137 | C5: 147.22316 | D5: =1.32711+0.0026/(A5/1000)^2+0.00005/(A5/1000)^4 -> 1.3320247 | E5: =B5*B$1 -> 52.325622 | F5: =C5*B$1 -> 163.85937 | G5: 0.83218692 | H5: 0.01 | J5: =F5*(1-G5)/(F5*(1-G5)+E5) -> 0.34448241 | K5: =(F5*(1-G5)+E5)*H5 -> 0.79823368 | L5: =SQRT(1-1/D5^2) -> 0.66060142 | M5: =(D5-1)^2/(D5+1)^2 -> 0.020270972 | N5: =M5*EXP(-2*K5) -> 0.004107122 | O5: =EXP(-K5) -> 0.45012333 | P5: =J5/(1-J5)*(1-M5)/(1-M5*N5) -> 0.5149023 | Q5: =4/(1+L5)^2*(1-J5)/(1-J5*L5) -> 1.2309826 | R5: =(1-M5)/(1+M5) -> 0.96026355 | S5: =R5/(1+L5) -> 0.57826251 | T5: =2*S5/SQRT(Q5) -> 1.0423872 | U5: =SINH(SQRT(Q5)*K5) -> 1.0060392 | V5: =COSH(SQRT(Q5)*K5) -> 1.4184903 | W5: =(1-2*S5)-(1+2*S5)*M5 -> -0.20023988 | X5: =(1-2*S5)*N5-(1+2*S5) -> -2.1571679 | Y5: =R5*(1-L5^2)*P5/2 -> 0.13933516 | Z5: =Y5*Q5/(Q5-1) -> 0.74256314 | AA5: =(W5*(T5*U5+V5)*O5+X5)/((1+T5^2)*U5+2*T5*V5) -> -0.47059933 | AB5: =(W5*O5+X5*(T5*U5+V5))/((1+T5^2)*U5+2*T5*V5) -> -1.0703729 | AC5: =M5+(1-M5)^2*N5/(1-M5*N5) -> 0.024213599 | AD5: =(1-M5)^2/(1-M5*N5)*O5 -> 0.43209539 | AE5: =AC5+Z5*(1+AB5/SQRT(Q5)+N5) -> 0.053448064 | AF5: =AD5+Z5*(AA5/SQRT(Q5)+(1+M5)*O5) -> 0.45815343 | AG5: =1-AE5-AF5 -> 0.48839851 | AI5: 740 | AJ5: 5.3448076 | AK5: 45.815336 | AL5: =AJ5/100 -> 0.053448076 | AM5: =AK5/100 -> 0.45815336 | AO5: =(AJ5/100-AE5)^2+(AK5/100-AF5)^2 -> 5.5131892e-15
A6: 730 | B6: 49.891984 | C6: 100.63603 | D6: =1.32711+0.0026/(A6/1000)^2+0.00005/(A6/1000)^4 -> 1.332165 | E6: =B6*B$1 -> 55.529778 | F6: =C6*B$1 -> 112.0079 | G6: 0.74873846 | H6: 0.01 | J6: =F6*(1-G6)/(F6*(1-G6)+E6) -> 0.33634815 | K6: =(F6*(1-G6)+E6)*H6 -> 0.83673055 | L6: =SQRT(1-1/D6^2) -> 0.66069127 | M6: =(D6-1)^2/(D6+1)^2 -> 0.020285666 | N6: =M6*EXP(-2*K6) -> 0.0038055229 | O6: =EXP(-K6) -> 0.43312429 | P6: =J6/(1-J6)*(1-M6)/(1-M6*N6) -> 0.49657142 | Q6: =4/(1+L6)^2*(1-J6)/(1-J6*L6) -> 1.2375621 | R6: =(1-M6)/(1+M6) -> 0.96023532 | S6: =R6/(1+L6) -> 0.57821423 | T6: =2*S6/SQRT(Q6) -> 1.0395258 | U6: =SINH(SQRT(Q6)*K6) -> 1.0711898 | V6: =COSH(SQRT(Q6)*K6) -> 1.4654172 | W6: =(1-2*S6)-(1+2*S6)*M6 -> -0.20017305 | X6: =(1-2*S6)*N6-(1+2*S6) -> -2.1570238 | Y6: =R6*(1-L6^2)*P6/2 -> 0.13434247 | Z6: =Y6*Q6/(Q6-1) -> 0.69984712 | AA6: =(W6*(T6*U6+V6)*O6+X6)/((1+T6^2)*U6+2*T6*V6) -> -0.45126689 | AB6: =(W6*O6+X6*(T6*U6+V6))/((1+T6^2)*U6+2*T6*V6) -> -1.0709212 | AC6: =M6+(1-M6)^2*N6/(1-M6*N6) -> 0.023938641 | AD6: =(1-M6)^2/(1-M6*N6)*O6 -> 0.41576219 | AE6: =AC6+Z6*(1+AB6/SQRT(Q6)+N6) -> 0.052732506 | AF6: =AD6+Z6*(AA6/SQRT(Q6)+(1+M6)*O6) -> 0.44113999 | AG6: =1-AE6-AF6 -> 0.50612751 | AI6: 730 | AJ6: 5.2732525 | AK6: 44.113986 | AL6: =AJ6/100 -> 0.052732525 | AM6: =AK6/100 -> 0.44113986 | AO6: =(AJ6/100-AE6)^2+(AK6/100-AF6)^2 -> 1.6823812e-14
A7: 720 | B7: 57.105922 | C7: 455.84594 | D7: =1.32711+0.0026/(A7/1000)^2+0.00005/(A7/1000)^4 -> 1.3323115 | E7: =B7*B$1 -> 63.558891 | F7: =C7*B$1 -> 507.35653 | G7: 0.94204082 | H7: 0.01 | J7: =F7*(1-G7)/(F7*(1-G7)+E7) -> 0.31631273 | K7: =(F7*(1-G7)+E7)*H7 -> 0.92964859 | L7: =SQRT(1-1/D7^2) -> 0.66078501 | M7: =(D7-1)^2/(D7+1)^2 -> 0.020301008 | N7: =M7*EXP(-2*K7) -> 0.0031625332 | O7: =EXP(-K7) -> 0.39469238 | P7: =J7/(1-J7)*(1-M7)/(1-M7*N7) -> 0.45329374 | Q7: =4/(1+L7)^2*(1-J7)/(1-J7*L7) -> 1.253494 | R7: =(1-M7)/(1+M7) -> 0.96020585 | S7: =R7/(1+L7) -> 0.57816385 | T7: =2*S7/SQRT(Q7) -> 1.0328085 | U7: =SINH(SQRT(Q7)*K7) -> 1.2392029 | V7: =COSH(SQRT(Q7)*K7) -> 1.5923642 | W7: =(1-2*S7)-(1+2*S7)*M7 -> -0.20010332 | X7: =(1-2*S7)*N7-(1+2*S7) -> -2.1568221 | Y7: =R7*(1-L7^2)*P7/2 -> 0.1226034 | Z7: =Y7*Q7/(Q7-1) -> 0.60625753 | AA7: =(W7*(T7*U7+V7)*O7+X7)/((1+T7^2)*U7+2*T7*V7) -> -0.40744604 | AB7: =(W7*O7+X7*(T7*U7+V7))/((1+T7^2)*U7+2*T7*V7) -> -1.0724048 | AC7: =M7+(1-M7)^2*N7/(1-M7*N7) -> 0.023336634 | AD7: =(1-M7)^2/(1-M7*N7)*O7 -> 0.37885407 | AE7: =AC7+Z7*(1+AB7/SQRT(Q7)+N7) -> 0.050807547 | AF7: =AD7+Z7*(AA7/SQRT(Q7)+(1+M7)*O7) -> 0.40236624 | AG7: =1-AE7-AF7 -> 0.54682621 | AI7: 720 | AJ7: 5.0806718 | AK7: 40.236459 | AL7: =AJ7/100 -> 0.050806718 | AM7: =AK7/100 -> 0.40236459 | AO7: =(AJ7/100-AE7)^2+(AK7/100-AF7)^2 -> 3.3997983e-12
A8: 710 | B8: 77.323632 | C8: 1393.0524 | D8: =1.32711+0.0026/(A8/1000)^2+0.00005/(A8/1000)^4 -> 1.3324645 | E8: =B8*B$1 -> 86.061202 | F8: =C8*B$1 -> 1550.4673 | G8: 0.97880428 | H8: 0.01 | J8: =F8*(1-G8)/(F8*(1-G8)+E8) -> 0.27633734 | K8: =(F8*(1-G8)+E8)*H8 -> 1.1892447 | L8: =SQRT(1-1/D8^2) -> 0.66088288 | M8: =(D8-1)^2/(D8+1)^2 -> 0.020317038 | N8: =M8*EXP(-2*K8) -> 0.0018831961 | O8: =EXP(-K8) -> 0.30445111 | P8: =J8/(1-J8)*(1-M8)/(1-M8*N8) -> 0.37411539 | Q8: =4/(1+L8)^2*(1-J8)/(1-J8*L8) -> 1.2838008 | R8: =(1-M8)/(1+M8) -> 0.96017505 | S8: =R8/(1+L8) -> 0.57811123 | T8: =2*S8/SQRT(Q8) -> 1.020452 | U8: =SINH(SQRT(Q8)*K8) -> 1.7938969 | V8: =COSH(SQRT(Q8)*K8) -> 2.0537931 | W8: =(1-2*S8)-(1+2*S8)*M8 -> -0.20003052 | X8: =(1-2*S8)*N8-(1+2*S8) -> -2.1565167 | Y8: =R8*(1-L8^2)*P8/2 -> 0.10116138 | Z8: =Y8*Q8/(Q8-1) -> 0.45761339 | AA8: =(W8*(T8*U8+V8)*O8+X8)/((1+T8^2)*U8+2*T8*V8) -> -0.30471363 | AB8: =(W8*O8+X8*(T8*U8+V8))/((1+T8^2)*U8+2*T8*V8) -> -1.0743757 | AC8: =M8+(1-M8)^2*N8/(1-M8*N8) -> 0.022124559 | AD8: =(1-M8)^2/(1-M8*N8)*O8 -> 0.29221688 | AE8: =AC8+Z8*(1+AB8/SQRT(Q8)+N8) -> 0.04668331 | AF8: =AD8+Z8*(AA8/SQRT(Q8)+(1+M8)*O8) -> 0.31130133 | AG8: =1-AE8-AF8 -> 0.64201536 | AI8: 710 | AJ8: 4.6674981 | AK8: 31.129617 | AL8: =AJ8/100 -> 0.046674981 | AM8: =AK8/100 -> 0.31129617 | AO8: =(AJ8/100-AE8)^2+(AK8/100-AF8)^2 -> 9.5921522e-11
A9: 700 | B9: 131.58226 | C9: 1071.1965 | D9: =1.32711+0.0026/(A9/1000)^2+0.00005/(A9/1000)^4 -> 1.3326244 | E9: =B9*B$1 -> 146.45105 | F9: =C9*B$1 -> 1192.2418 | G9: 0.9635833 | H9: 0.01 | J9: =F9*(1-G9)/(F9*(1-G9)+E9) -> 0.2286714 | K9: =(F9*(1-G9)+E9)*H9 -> 1.8986856 | L9: =SQRT(1-1/D9^2) -> 0.66098512 | M9: =(D9-1)^2/(D9+1)^2 -> 0.020333798 | N9: =M9*EXP(-2*K9) -> 0.00045608014 | O9: =EXP(-K9) -> 0.14976534 | P9: =J9/(1-J9)*(1-M9)/(1-M9*N9) -> 0.29043875 | Q9: =4/(1+L9)^2*(1-J9)/(1-J9*L9) -> 1.3174561 | R9: =(1-M9)/(1+M9) -> 0.96014285 | S9: =R9/(1+L9) -> 0.57805626 | T9: =2*S9/SQRT(Q9) -> 1.0072378 | U9: =SINH(SQRT(Q9)*K9) -> 4.3635902 | V9: =COSH(SQRT(Q9)*K9) -> 4.4767085 | W9: =(1-2*S9)-(1+2*S9)*M9 -> -0.19995448 | X9: =(1-2*S9)*N9-(1+2*S9) -> -2.1561837 | Y9: =R9*(1-L9^2)*P9/2 -> 0.078513604 | Z9: =Y9*Q9/(Q9-1) -> 0.32583471 | AA9: =(W9*(T9*U9+V9)*O9+X9)/((1+T9^2)*U9+2*T9*V9) -> -0.13599254 | AB9: =(W9*O9+X9*(T9*U9+V9))/((1+T9^2)*U9+2*T9*V9) -> -1.0758366 | AC9: =M9+(1-M9)^2*N9/(1-M9*N9) -> 0.020771523 | AD9: =(1-M9)^2/(1-M9*N9)*O9 -> 0.143738 | AE9: =AC9+Z9*(1+AB9/SQRT(Q9)+N9) -> 0.041350245 | AF9: =AD9+Z9*(AA9/SQRT(Q9)+(1+M9)*O9) -> 0.15492394 | AG9: =1-AE9-AF9 -> 0.80372581 | AI9: 700 | AJ9: 4.1349881 | AK9: 15.492276 | AL9: =AJ9/100 -> 0.041349881 | AM9: =AK9/100 -> 0.15492276 | AO9: =(AJ9/100-AE9)^2+(AK9/100-AF9)^2 -> 1.5336999e-12
A10: 690 | B10: 291.1566 | C10: 1697.6894 | D10: =1.32711+0.0026/(A10/1000)^2+0.00005/(A10/1000)^4 -> 1.3327916 | E10: =B10*B$1 -> 324.05729 | F10: =C10*B$1 -> 1889.5283 | G10: 0.95661134 | H10: 0.01 | J10: =F10*(1-G10)/(F10*(1-G10)+E10) -> 0.20191069 | K10: =(F10*(1-G10)+E10)*H10 -> 4.0604139 | L10: =SQRT(1-1/D10^2) -> 0.66109201 | M10: =(D10-1)^2/(D10+1)^2 -> 0.020351334 | N10: =M10*EXP(-2*K10) -> 6.050095e-06 | O10: =EXP(-K10) -> 0.017241882 | P10: =J10/(1-J10)*(1-M10)/(1-M10*N10) -> 0.24784389 | Q10: =4/(1+L10)^2*(1-J10)/(1-J10*L10) -> 1.3351999 | R10: =(1-M10)/(1+M10) -> 0.96010916 | S10: =R10/(1+L10) -> 0.57799878 | T10: =2*S10/SQRT(Q10) -> 1.0004233 | U10: =SINH(SQRT(Q10)*K10) -> 54.522391 | V10: =COSH(SQRT(Q10)*K10) -> 54.531561 | W10: =(1-2*S10)-(1+2*S10)*M10 -> -0.19987499 | X10: =(1-2*S10)*N10-(1+2*S10) -> -2.1559985 | Y10: =R10*(1-L10^2)*P10/2 -> 0.066979874 | Z10: =Y10*Q10/(Q10-1) -> 0.26680057 | AA10: =(W10*(T10*U10+V10)*O10+X10)/((1+T10^2)*U10+2*T10*V10) -> -0.011603572 | AB10: =(W10*O10+X10*(T10*U10+V10))/((1+T10^2)*U10+2*T10*V10) -> -1.0777869 | AC10: =M10+(1-M10)^2*N10/(1-M10*N10) -> 0.02035714 | AD10: =(1-M10)^2/(1-M10*N10)*O10 -> 0.016547234 | AE10: =AC10+Z10*(1+AB10/SQRT(Q10)+N10) -> 0.038304234 | AF10: =AD10+Z10*(AA10/SQRT(Q10)+(1+M10)*O10) -> 0.018561796 | AG10: =1-AE10-AF10 -> 0.94313397 | AI10: 690 | AJ10: 3.830398 | AK10: 1.8561561 | AL10: =AJ10/100 -> 0.03830398 | AM10: =AK10/100 -> 0.018561561 | AO10: =(AJ10/100-AE10)^2+(AK10/100-AF10)^2 -> 1.1984417e-13
A11: 680 | B11: 429.97039 | C11: 1273.979 | D11: =1.32711+0.0026/(A11/1000)^2+0.00005/(A11/1000)^4 -> 1.3329667 | E11: =B11*B$1 -> 478.55705 | F11: =C11*B$1 -> 1417.9386 | G11: 0.91735332 | H11: 0.01 | J11: =F11*(1-G11)/(F11*(1-G11)+E11) -> 0.19670819 | K11: =(F11*(1-G11)+E11)*H11 -> 5.9574496 | L11: =SQRT(1-1/D11^2) -> 0.66120384 | M11: =(D11-1)^2/(D11+1)^2 -> 0.020369693 | N11: =M11*EXP(-2*K11) -> 1.362729e-07 | O11: =EXP(-K11) -> 0.0025865002 | P11: =J11/(1-J11)*(1-M11)/(1-M11*N11) -> 0.23988955 | Q11: =4/(1+L11)^2*(1-J11)/(1-J11*L11) -> 1.3384442 | R11: =(1-M11)/(1+M11) -> 0.9600739 | S11: =R11/(1+L11) -> 0.57793865 | T11: =2*S11/SQRT(Q11) -> 0.99910606 | U11: =SINH(SQRT(Q11)*K11) -> 492.30271 | V11: =COSH(SQRT(Q11)*K11) -> 492.30372 | W11: =(1-2*S11)-(1+2*S11)*M11 -> -0.19979185 | X11: =(1-2*S11)*N11-(1+2*S11) -> -2.1558773 | Y11: =R11*(1-L11^2)*P11/2 -> 0.064810803 | Z11: =Y11*Q11/(Q11-1) -> 0.25630706 | AA11: =(W11*(T11*U11+V11)*O11+X11)/((1+T11^2)*U11+2*T11*V11) -> -0.0013542671 | AB11: =(W11*O11+X11*(T11*U11+V11))/((1+T11^2)*U11+2*T11*V11) -> -1.0784209 | AC11: =M11+(1-M11)^2*N11/(1-M11*N11) -> 0.020369824 | AD11: =(1-M11)^2/(1-M11*N11)*O11 -> 0.0024822009 | AE11: =AC11+Z11*(1+AB11/SQRT(Q11)+N11) -> 0.03775899 | AF11: =AD11+Z11*(AA11/SQRT(Q11)+(1+M11)*O11) -> 0.002858613 | AG11: =1-AE11-AF11 -> 0.9593824 | AI11: 680 | AJ11: 3.7758956 | AK11: 0.2858596 | AL11: =AJ11/100 -> 0.037758956 | AM11: =AK11/100 -> 0.002858596 | AO11: =(AJ11/100-AE11)^2+(AK11/100-AF11)^2 -> 1.4207419e-15
A12: 670 | B12: 413.10608 | C12: 1343.6049 | D12: =1.32711+0.0026/(A12/1000)^2+0.00005/(A12/1000)^4 -> 1.3331501 | E12: =B12*B$1 -> 459.78706 | F12: =C12*B$1 -> 1495.4323 | G12: 0.9257168 | H12: 0.01 | J12: =F12*(1-G12)/(F12*(1-G12)+E12) -> 0.19458895 | K12: =(F12*(1-G12)+E12)*H12 -> 5.7087255 | L12: =SQRT(1-1/D12^2) -> 0.6613209 | M12: =(D12-1)^2/(D12+1)^2 -> 0.020388931 | N12: =M12*EXP(-2*K12) -> 2.2431507e-07 | O12: =EXP(-K12) -> 0.0033168971 | P12: =J12/(1-J12)*(1-M12)/(1-M12*N12) -> 0.23667603 | Q12: =4/(1+L12)^2*(1-J12)/(1-J12*L12) -> 1.3396634 | R12: =(1-M12)/(1+M12) -> 0.96003694 | S12: =R12/(1+L12) -> 0.57787568 | T12: =2*S12/SQRT(Q12) -> 0.99854252 | U12: =SINH(SQRT(Q12)*K12) -> 370.31299 | V12: =COSH(SQRT(Q12)*K12) -> 370.31434 | W12: =(1-2*S12)-(1+2*S12)*M12 -> -0.19970482 | X12: =(1-2*S12)*N12-(1+2*S12) -> -2.1557514 | Y12: =R12*(1-L12^2)*P12/2 -> 0.063922558 | Z12: =Y12*Q12/(Q12-1) -> 0.25211639 | AA12: =(W12*(T12*U12+V12)*O12+X12)/((1+T12^2)*U12+2*T12*V12) -> -0.0017889202 | AB12: =(W12*O12+X12*(T12*U12+V12))/((1+T12^2)*U12+2*T12*V12) -> -1.0786622 | AC12: =M12+(1-M12)^2*N12/(1-M12*N12) -> 0.020389146 | AD12: =(1-M12)^2/(1-M12*N12)*O12 -> 0.00318302 | AE12: =AC12+Z12*(1+AB12/SQRT(Q12)+N12) -> 0.037548427 | AF12: =AD12+Z12*(AA12/SQRT(Q12)+(1+M12)*O12) -> 0.0036466467 | AG12: =1-AE12-AF12 -> 0.95880493 | AI12: 670 | AJ12: 3.7548261 | AK12: 0.36467843 | AL12: =AJ12/100 -> 0.037548261 | AM12: =AK12/100 -> 0.0036467843 | AO12: =(AJ12/100-AE12)^2+(AK12/100-AF12)^2 -> 4.6462334e-14
A13: 660 | B13: 313.42834 | C13: 1380.7198 | D13: =1.32711+0.0026/(A13/1000)^2+0.00005/(A13/1000)^4 -> 1.3333423 | E13: =B13*B$1 -> 348.84574 | F13: =C13*B$1 -> 1536.7412 | G13: 0.94569735 | H13: 0.01 | J13: =F13*(1-G13)/(F13*(1-G13)+E13) -> 0.19303751 | K13: =(F13*(1-G13)+E13)*H13 -> 4.3229487 | L13: =SQRT(1-1/D13^2) -> 0.66144354 | M13: =(D13-1)^2/(D13+1)^2 -> 0.020409103 | N13: =M13*EXP(-2*K13) -> 3.5888757e-06 | O13: =EXP(-K13) -> 0.013260724 | P13: =J13/(1-J13)*(1-M13)/(1-M13*N13) -> 0.23433283 | Q13: =4/(1+L13)^2*(1-J13)/(1-J13*L13) -> 1.3405038 | R13: =(1-M13)/(1+M13) -> 0.95999819 | S13: =R13/(1+L13) -> 0.5778097 | T13: =2*S13/SQRT(Q13) -> 0.99811552 | U13: =SINH(SQRT(Q13)*K13) -> 74.583796 | V13: =COSH(SQRT(Q13)*K13) -> 74.5905 | W13: =(1-2*S13)-(1+2*S13)*M13 -> -0.19961366 | X13: =(1-2*S13)*N13-(1+2*S13) -> -2.15562 | Y13: =R13*(1-L13^2)*P13/2 -> 0.063268896 | Z13: =Y13*Q13/(Q13-1) -> 0.24907858 | AA13: =(W13*(T13*U13+V13)*O13+X13)/((1+T13^2)*U13+2*T13*V13) -> -0.0085635664 | AB13: =(W13*O13+X13*(T13*U13+V13))/((1+T13^2)*U13+2*T13*V13) -> -1.0788354 | AC13: =M13+(1-M13)^2*N13/(1-M13*N13) -> 0.020412547 | AD13: =(1-M13)^2/(1-M13*N13)*O13 -> 0.01272497 | AE13: =AC13+Z13*(1+AB13/SQRT(Q13)+N13) -> 0.037401414 | AF13: =AD13+Z13*(AA13/SQRT(Q13)+(1+M13)*O13) -> 0.014253057 | AG13: =1-AE13-AF13 -> 0.94834553 | AI13: 660 | AJ13: 3.740117 | AK13: 1.4252811 | AL13: =AJ13/100 -> 0.03740117 | AM13: =AK13/100 -> 0.014252811 | AO13: =(AJ13/100-AE13)^2+(AK13/100-AF13)^2 -> 1.2034093e-13
A14: 650 | B14: 278.54551 | C14: 982.64776 | D14: =1.32711+0.0026/(A14/1000)^2+0.00005/(A14/1000)^4 -> 1.3335439 | E14: =B14*B$1 -> 310.02115 | F14: =C14*B$1 -> 1093.687 | G14: 0.93217894 | H14: 0.01 | J14: =F14*(1-G14)/(F14*(1-G14)+E14) -> 0.19306546 | K14: =(F14*(1-G14)+E14)*H14 -> 3.8419616 | L14: =SQRT(1-1/D14^2) -> 0.66157212 | M14: =(D14-1)^2/(D14+1)^2 -> 0.020430273 | N14: =M14*EXP(-2*K14) -> 9.4013174e-06 | O14: =EXP(-K14) -> 0.021451481 | P14: =J14/(1-J14)*(1-M14)/(1-M14*N14) -> 0.23436983 | Q14: =4/(1+L14)^2*(1-J14)/(1-J14*L14) -> 1.3403164 | R14: =(1-M14)/(1+M14) -> 0.95995753 | S14: =R14/(1+L14) -> 0.57774052 | T14: =2*S14/SQRT(Q14) -> 0.99806575 | U14: =SINH(SQRT(Q14)*K14) -> 42.71854 | V14: =COSH(SQRT(Q14)*K14) -> 42.730242 | W14: =(1-2*S14)-(1+2*S14)*M14 -> -0.1995181 | X14: =(1-2*S14)*N14-(1+2*S14) -> -2.1554825 | Y14: =R14*(1-L14^2)*P14/2 -> 0.06325707 | Z14: =Y14*Q14/(Q14-1) -> 0.24913429 | AA14: =(W14*(T14*U14+V14)*O14+X14)/((1+T14^2)*U14+2*T14*V14) -> -0.014779199 | AB14: =(W14*O14+X14*(T14*U14+V14))/((1+T14^2)*U14+2*T14*V14) -> -1.0788098 | AC14: =M14+(1-M14)^2*N14/(1-M14*N14) -> 0.020439294 | AD14: =(1-M14)^2/(1-M14*N14)*O14 -> 0.020583919 | AE14: =AC14+Z14*(1+AB14/SQRT(Q14)+N14) -> 0.037422701 | AF14: =AD14+Z14*(AA14/SQRT(Q14)+(1+M14)*O14) -> 0.022857012 | AG14: =1-AE14-AF14 -> 0.93972029 | AI14: 650 | AJ14: 3.7422254 | AK14: 2.2857055 | AL14: =AJ14/100 -> 0.037422254 | AM14: =AK14/100 -> 0.022857055 | AO14: =(AJ14/100-AE14)^2+(AK14/100-AF14)^2 -> 2.0122694e-13
A15: 640 | B15: 208.82883 | C15: 1388.3033 | D15: =1.32711+0.0026/(A15/1000)^2+0.00005/(A15/1000)^4 -> 1.3337557 | E15: =B15*B$1 -> 232.42648 | F15: =C15*B$1 -> 1545.1816 | G15: 0.96376537 | H15: 0.01 | J15: =F15*(1-G15)/(F15*(1-G15)+E15) -> 0.19412642 | K15: =(F15*(1-G15)+E15)*H15 -> 2.8841557 | L15: =SQRT(1-1/D15^2) -> 0.66170702 | M15: =(D15-1)^2/(D15+1)^2 -> 0.020452507 | N15: =M15*EXP(-2*K15) -> 6.3914703e-05 | O15: =EXP(-K15) -> 0.05590197 | P15: =J15/(1-J15)*(1-M15)/(1-M15*N15) -> 0.23596294 | Q15: =4/(1+L15)^2*(1-J15)/(1-J15*L15) -> 1.3394549 | R15: =(1-M15)/(1+M15) -> 0.95991483 | S15: =R15/(1+L15) -> 0.57766791 | T15: =2*S15/SQRT(Q15) -> 0.99826121 | U15: =SINH(SQRT(Q15)*K15) -> 14.063229 | V15: =COSH(SQRT(Q15)*K15) -> 14.098738 | W15: =(1-2*S15)-(1+2*S15)*M15 -> -0.19941785 | X15: =(1-2*S15)*N15-(1+2*S15) -> -2.1553458 | Y15: =R15*(1-L15^2)*P15/2 -> 0.063664002 | Z15: =Y15*Q15/(Q15-1) -> 0.25121176 | AA15: =(W15*(T15*U15+V15)*O15+X15)/((1+T15^2)*U15+2*T15*V15) -> -0.043912366 | AB15: =(W15*O15+X15*(T15*U15+V15))/((1+T15^2)*U15+2*T15*V15) -> -1.0788101 | AC15: =M15+(1-M15)^2*N15/(1-M15*N15) -> 0.020513834 | AD15: =(1-M15)^2/(1-M15*N15)*O15 -> 0.053638753 | AE15: =AC15+Z15*(1+AB15/SQRT(Q15)+N15) -> 0.037577228 | AF15: =AD15+Z15*(AA15/SQRT(Q15)+(1+M15)*O15) -> 0.058437671 | AG15: =1-AE15-AF15 -> 0.9039851 | AI15: 640 | AJ15: 3.7577221 | AK15: 5.8437746 | AL15: =AJ15/100 -> 0.037577221 | AM15: =AK15/100 -> 0.058437746 | AO15: =(AJ15/100-AE15)^2+(AK15/100-AF15)^2 -> 5.6027474e-15
... A39: 400 | B39: 424.02549 | C39: 987.30972 | D39: =1.32711+0.0026/(A39/1000)^2+0.00005/(A39/1000)^4 -> 1.3453131 | E39: =B39*B$1 -> 471.94037 | F39: =C39*B$1 -> 1098.8757 | G39: 0.89093463 | H39: 0.01 | J39: =F39*(1-G39)/(F39*(1-G39)+E39) -> 0.20252008 | K39: =(F39*(1-G39)+E39)*H39 -> 5.9178965 | L39: =SQRT(1-1/D39^2) -> 0.66893448 | M39: =(D39-1)^2/(D39+1)^2 -> 0.021678264 | N39: =M39*EXP(-2*K39) -> 1.5696575e-07 | O39: =EXP(-K39) -> 0.0026908544 | P39: =J39/(1-J39)*(1-M39)/(1-M39*N39) -> 0.24844487 | Q39: =4/(1+L39)^2*(1-J39)/(1-J39*L39) -> 1.324715 | R39: =(1-M39)/(1+M39) -> 0.95756342 | S39: =R39/(1+L39) -> 0.57375735 | T39: =2*S39/SQRT(Q39) -> 0.99700431 | U39: =SINH(SQRT(Q39)*K39) -> 454.0146 | V39: =COSH(SQRT(Q39)*K39) -> 454.0157 | W39: =(1-2*S39)-(1+2*S39)*M39 -> -0.19406909 | X39: =(1-2*S39)*N39-(1+2*S39) -> -2.1475147 | Y39: =R39*(1-L39^2)*P39/2 -> 0.065723522 | Z39: =Y39*Q39/(Q39-1) -> 0.26812726 | AA39: =(W39*(T39*U39+V39)*O39+X39)/((1+T39^2)*U39+2*T39*V39) -> -0.0014475606 | AB39: =(W39*O39+X39*(T39*U39+V39))/((1+T39^2)*U39+2*T39*V39) -> -1.0753684 | AC39: =M39+(1-M39)^2*N39/(1-M39*N39) -> 0.021678414 | AD39: =(1-M39)^2/(1-M39*N39)*O39 -> 0.0025754528 | AE39: =AC39+Z39*(1+AB39/SQRT(Q39)+N39) -> 0.039288825 | AF39: =AD39+Z39*(AA39/SQRT(Q39)+(1+M39)*O39) -> 0.0029753624 | AG39: =1-AE39-AF39 -> 0.95773581 | AI39: 400 | AJ39: 3.9288769 | AK39: 0.29754013 | AL39: =AJ39/100 -> 0.039288769 | AM39: =AK39/100 -> 0.0029754013 | AO39: =(AJ39/100-AE39)^2+(AK39/100-AF39)^2 -> 4.7043526e-15
AJ40: 3.9580742 | AK40: 0.35811039
AJ41: 3.9813249 | AK41: 0.41540434
AJ42: 4.0085914 | AK42: 0.60455186
AJ43: 4.0239868 | AK43: 0.8361802
AJ44: 4.0899451 | AK44: 0.89540255

Sheet Dilution3
A1: X= | B1: 5.565 | C1: g/L | AI1: dilution 3 | AK1: 5.565 | AL1: g/L
A3: l (nm) | B3: Abs,l (m2/kg) | C3: Ssca,l (m2/kg) | D3: n | E3: k (1/m) | F3: ss (1/m) | G3: g | H3: d (m) | J3: wtr | K3: ttr | L3: mc | M3: R1 | N3: Ctr | O3: Etr | P3: c | Q3: k2 | R3: g | S3: gbar | T3: j | U3: s | V3: c | W3: k1 | X3: k2 | Y3: D1 | Z3: D | AA3: A | AB3: B | AC3: R0dh | AD3: T0dh | AE3: Rdh | AF3: Tdh | AG3: Adh | AI3: l (nm) | AJ3: Rdh | AK3: Tdh | AL3: Rdh | AM3: Tdh | AO3: error
A4: 750 | B4: 17.912455 | C4: 33.153744 | D4: =1.32711+0.0026/(A4/1000)^2+0.00005/(A4/1000)^4 -> 1.3318902 | E4: =B4*B$1 -> 99.682811 | F4: =C4*B$1 -> 184.50058 | G4: 0.23682871 | H4: 0.01 | J4: =F4*(1-G4)/(F4*(1-G4)+E4) -> 0.5854984 | K4: =(F4*(1-G4)+E4)*H4 -> 2.4048836 | L4: =SQRT(1-1/D4^2) -> 0.66051527 | M4: =(D4-1)^2/(D4+1)^2 -> 0.02025689 | N4: =M4*EXP(-2*K4) -> 0.00016508873 | O4: =EXP(-K4) -> 0.090276004 | P4: =J4/(1-J4)*(1-M4)/(1-M4*N4) -> 1.3839269 | Q4: =4/(1+L4)^2*(1-J4)/(1-J4*L4) -> 0.98050359 | R4: =(1-M4)/(1+M4) -> 0.96029061 | S4: =R4/(1+L4) -> 0.57830881 | T4: =2*S4/SQRT(Q4) -> 1.1680602 | U4: =SINH(SQRT(Q4)*K4) -> 5.3633999 | V4: =COSH(SQRT(Q4)*K4) -> 5.4558279 | W4: =(1-2*S4)-(1+2*S4)*M4 -> -0.20030399 | X4: =(1-2*S4)*N4-(1+2*S4) -> -2.1566435 | Y4: =R4*(1-L4^2)*P4/2 -> 0.37458378 | Z4: =Y4*Q4/(Q4-1) -> -18.838375 | AA4: =(W4*(T4*U4+V4)*O4+X4)/((1+T4^2)*U4+2*T4*V4) -> -0.093154098 | AB4: =(W4*O4+X4*(T4*U4+V4))/((1+T4^2)*U4+2*T4*V4) -> -0.99483762 | AC4: =M4+(1-M4)^2*N4/(1-M4*N4) -> 0.020415359 | AD4: =(1-M4)^2/(1-M4*N4)*O4 -> 0.086655915 | AE4: =AC4+Z4*(1+AB4/SQRT(Q4)+N4) -> 0.10546244 | AF4: =AD4+Z4*(AA4/SQRT(Q4)+(1+M4)*O4) -> 0.12378572 | AG4: =1-AE4-AF4 -> 0.77075184 | AI4: 750 | AJ4: 10.546313 | AK4: 12.37851 | AL4: =AJ4/100 -> 0.10546313 | AM4: =AK4/100 -> 0.1237851 | AO4: =(AJ4/100-AE4)^2+(AK4/100-AF4)^2 -> 8.7692275e-13
A5: 740 | B5: 19.149478 | C5: 78.968705 | D5: =1.32711+0.0026/(A5/1000)^2+0.00005/(A5/1000)^4 -> 1.3320247 | E5: =B5*B$1 -> 106.56684 | F5: =C5*B$1 -> 439.46085 | G5: 0.67154488 | H5: 0.01 | J5: =F5*(1-G5)/(F5*(1-G5)+E5) -> 0.57527862 | K5: =(F5*(1-G5)+E5)*H5 -> 2.5091001 | L5: =SQRT(1-1/D5^2) -> 0.66060142 | M5: =(D5-1)^2/(D5+1)^2 -> 0.020270972 | N5: =M5*EXP(-2*K5) -> 0.00013412135 | O5: =EXP(-K5) -> 0.081341406 | P5: =J5/(1-J5)*(1-M5)/(1-M5*N5) -> 1.3270316 | Q5: =4/(1+L5)^2*(1-J5)/(1-J5*L5) -> 0.99371659 | R5: =(1-M5)/(1+M5) -> 0.96026355 | S5: =R5/(1+L5) -> 0.57826251 | T5: =2*S5/SQRT(Q5) -> 1.1601757 | U5: =SINH(SQRT(Q5)*K5) -> 6.0575971 | V5: =COSH(SQRT(Q5)*K5) -> 6.1395833 | W5: =(1-2*S5)-(1+2*S5)*M5 -> -0.20023988 | X5: =(1-2*S5)*N5-(1+2*S5) -> -2.156546 | Y5: =R5*(1-L5^2)*P5/2 -> 0.35910144 | Z5: =Y5*Q5/(Q5-1) -> -56.791605 | AA5: =(W5*(T5*U5+V5)*O5+X5)/((1+T5^2)*U5+2*T5*V5) -> -0.083318747 | AB5: =(W5*O5+X5*(T5*U5+V5))/((1+T5^2)*U5+2*T5*V5) -> -0.99843139 | AC5: =M5+(1-M5)^2*N5/(1-M5*N5) -> 0.020399711 | AD5: =(1-M5)^2/(1-M5*N5)*O5 -> 0.078077304 | AE5: =AC5+Z5*(1+AB5/SQRT(Q5)+N5) -> 0.10268565 | AF5: =AD5+Z5*(AA5/SQRT(Q5)+(1+M5)*O5) -> 0.11166806 | AG5: =1-AE5-AF5 -> 0.78564629 | AI5: 740 | AJ5: 10.268555 | AK5: 11.166777 | AL5: =AJ5/100 -> 0.10268555 | AM5: =AK5/100 -> 0.11166777 | AO5: =(AJ5/100-AE5)^2+(AK5/100-AF5)^2 -> 9.3434951e-14
A6: 730 | B6: 21.903 | C6: 85.91632 | D6: =1.32711+0.0026/(A6/1000)^2+0.00005/(A6/1000)^4 -> 1.332165 | E6: =B6*B$1 -> 121.8902 | F6: =C6*B$1 -> 478.12432 | G6: 0.68911405 | H6: 0.01 | J6: =F6*(1-G6)/(F6*(1-G6)+E6) -> 0.54944314 | K6: =(F6*(1-G6)+E6)*H6 -> 2.7053233 | L6: =SQRT(1-1/D6^2) -> 0.66069127 | M6: =(D6-1)^2/(D6+1)^2 -> 0.020285666 | N6: =M6*EXP(-2*K6) -> 9.0651565e-05 | O6: =EXP(-K6) -> 0.066848709 | P6: =J6/(1-J6)*(1-M6)/(1-M6*N6) -> 1.19474 | Q6: =4/(1+L6)^2*(1-J6)/(1-J6*L6) -> 1.0258899 | R6: =(1-M6)/(1+M6) -> 0.96023532 | S6: =R6/(1+L6) -> 0.57821423 | T6: =2*S6/SQRT(Q6) -> 1.1417431 | U6: =SINH(SQRT(Q6)*K6) -> 7.7121384 | V6: =COSH(SQRT(Q6)*K6) -> 7.776701 | W6: =(1-2*S6)-(1+2*S6)*M6 -> -0.20017305 | X6: =(1-2*S6)*N6-(1+2*S6) -> -2.1564426 | Y6: =R6*(1-L6^2)*P6/2 -> 0.32322507 | Z6: =Y6*Q6/(Q6-1) -> 12.807847 | AA6: =(W6*(T6*U6+V6)*O6+X6)/((1+T6^2)*U6+2*T6*V6) -> -0.066950933 | AB6: =(W6*O6+X6*(T6*U6+V6))/((1+T6^2)*U6+2*T6*V6) -> -1.0069807 | AC6: =M6+(1-M6)^2*N6/(1-M6*N6) -> 0.020372677 | AD6: =(1-M6)^2/(1-M6*N6)*O6 -> 0.064164194 | AE6: =AC6+Z6*(1+AB6/SQRT(Q6)+N6) -> 0.095907211 | AF6: =AD6+Z6*(AA6/SQRT(Q6)+(1+M6)*O6) -> 0.091112517 | AG6: =1-AE6-AF6 -> 0.81298027 | AI6: 730 | AJ6: 9.590776 | AK6: 9.1112364 | AL6: =AJ6/100 -> 0.09590776 | AM6: =AK6/100 -> 0.091112364 | AO6: =(AJ6/100-AE6)^2+(AK6/100-AF6)^2 -> 3.2391777e-13
A7: 720 | B7: 30.067878 | C7: 71.68711 | D7: =1.32711+0.0026/(A7/1000)^2+0.00005/(A7/1000)^4 -> 1.3323115 | E7: =B7*B$1 -> 167.32774 | F7: =C7*B$1 -> 398.93877 | G7: 0.61423527 | H7: 0.01 | J7: =F7*(1-G7)/(F7*(1-G7)+E7) -> 0.47909368 | K7: =(F7*(1-G7)+E7)*H7 -> 3.2122424 | L7: =SQRT(1-1/D7^2) -> 0.66078501 | M7: =(D7-1)^2/(D7+1)^2 -> 0.020301008 | N7: =M7*EXP(-2*K7) -> 3.2915411e-05 | O7: =EXP(-K7) -> 0.040266218 | P7: =J7/(1-J7)*(1-M7)/(1-M7*N7) -> 0.90106011 | Q7: =4/(1+L7)^2*(1-J7)/(1-J7*L7) -> 1.1053601 | R7: =(1-M7)/(1+M7) -> 0.96020585 | S7: =R7/(1+L7) -> 0.57816385 | T7: =2*S7/SQRT(Q7) -> 1.0998388 | U7: =SINH(SQRT(Q7)*K7) -> 14.627643 | V7: =COSH(SQRT(Q7)*K7) -> 14.661785 | W7: =(1-2*S7)-(1+2*S7)*M7 -> -0.20010332 | X7: =(1-2*S7)*N7-(1+2*S7) -> -2.1563328 | Y7: =R7*(1-L7^2)*P7/2 -> 0.24371181 | Z7: =Y7*Q7/(Q7-1) -> 2.5568437 | AA7: =(W7*(T7*U7+V7)*O7+X7)/((1+T7^2)*U7+2*T7*V7) -> -0.037230619 | AB7: =(W7*O7+X7*(T7*U7+V7))/((1+T7^2)*U7+2*T7*V7) -> -1.0269746 | AC7: =M7+(1-M7)^2*N7/(1-M7*N7) -> 0.020332601 | AD7: =(1-M7)^2/(1-M7*N7)*O7 -> 0.038647949 | AE7: =AC7+Z7*(1+AB7/SQRT(Q7)+N7) -> 0.079723208 | AF7: =AD7+Z7*(AA7/SQRT(Q7)+(1+M7)*O7) -> 0.053149938 | AG7: =1-AE7-AF7 -> 0.86712685 | AI7: 720 | AJ7: 7.9722922 | AK7: 5.3149961 | AL7: =AJ7/100 -> 0.079722922 | AM7: =AK7/100 -> 0.053149961 | AO7: =(AJ7/100-AE7)^2+(AK7/100-AF7)^2 -> 8.2218774e-14
A8: 710 | B8: 53.909895 | C8: 55.384072 | D8: =1.32711+0.0026/(A8/1000)^2+0.00005/(A8/1000)^4 -> 1.3324645 | E8: =B8*B$1 -> 300.00856 | F8: =C8*B$1 -> 308.21236 | G8: 0.46764293 | H8: 0.01 | J8: =F8*(1-G8)/(F8*(1-G8)+E8) -> 0.35355185 | K8: =(F8*(1-G8)+E8)*H8 -> 4.6408759 | L8: =SQRT(1-1/D8^2) -> 0.66088288 | M8: =(D8-1)^2/(D8+1)^2 -> 0.020317038 | N8: =M8*EXP(-2*K8) -> 1.8916762e-06 | O8: =EXP(-K8) -> 0.0096492421 | P8: =J8/(1-J8)*(1-M8)/(1-M8*N8) -> 0.53580282 | Q8: =4/(1+L8)^2*(1-J8)/(1-J8*L8) -> 1.2231849 | R8: =(1-M8)/(1+M8) -> 0.96017505 | S8: =R8/(1+L8) -> 0.57811123 | T8: =2*S8/SQRT(Q8) -> 1.0454309 | U8: =SINH(SQRT(Q8)*K8) -> 84.734224 | V8: =COSH(SQRT(Q8)*K8) -> 84.740124 | W8: =(1-2*S8)-(1+2*S8)*M8 -> -0.20003052 | X8: =(1-2*S8)*N8-(1+2*S8) -> -2.1562228 | Y8: =R8*(1-L8^2)*P8/2 -> 0.1448819 | Z8: =Y8*Q8/(Q8-1) -> 0.79403824 | AA8: =(W8*(T8*U8+V8)*O8+X8)/((1+T8^2)*U8+2*T8*V8) -> -0.0070256861 | AB8: =(W8*O8+X8*(T8*U8+V8))/((1+T8^2)*U8+2*T8*V8) -> -1.0541702 | AC8: =M8+(1-M8)^2*N8/(1-M8*N8) -> 0.020318854 | AD8: =(1-M8)^2/(1-M8*N8)*O8 -> 0.0092611374 | AE8: =AC8+Z8*(1+AB8/SQRT(Q8)+N8) -> 0.057515103 | AF8: =AD8+Z8*(AA8/SQRT(Q8)+(1+M8)*O8) -> 0.012034566 | AG8: =1-AE8-AF8 -> 0.93045033 | AI8: 710 | AJ8: 5.7509336 | AK8: 1.2027879 | AL8: =AJ8/100 -> 0.057509336 | AM8: =AK8/100 -> 0.012027879 | AO8: =(AJ8/100-AE8)^2+(AK8/100-AF8)^2 -> 7.7969471e-11
A9: 700 | B9: 104.73619 | C9: 59.32407 | D9: =1.32711+0.0026/(A9/1000)^2+0.00005/(A9/1000)^4 -> 1.3326244 | E9: =B9*B$1 -> 582.85691 | F9: =C9*B$1 -> 330.13845 | G9: 0.4106373 | H9: 0.01 | J9: =F9*(1-G9)/(F9*(1-G9)+E9) -> 0.25027557 | K9: =(F9*(1-G9)+E9)*H9 -> 7.774282 | L9: =SQRT(1-1/D9^2) -> 0.66098512 | M9: =(D9-1)^2/(D9+1)^2 -> 0.020333798 | N9: =M9*EXP(-2*K9) -> 3.5938752e-09 | O9: =EXP(-K9) -> 0.00042040923 | P9: =J9/(1-J9)*(1-M9)/(1-M9*N9) -> 0.32703552 | Q9: =4/(1+L9)^2*(1-J9)/(1-J9*L9) -> 1.3024666 | R9: =(1-M9)/(1+M9) -> 0.96014285 | S9: =R9/(1+L9) -> 0.57805626 | T9: =2*S9/SQRT(Q9) -> 1.0130172 | U9: =SINH(SQRT(Q9)*K9) -> 3566.3686 | V9: =COSH(SQRT(Q9)*K9) -> 3566.3688 | W9: =(1-2*S9)-(1+2*S9)*M9 -> -0.19995448 | X9: =(1-2*S9)*N9-(1+2*S9) -> -2.1561125 | Y9: =R9*(1-L9^2)*P9/2 -> 0.088406721 | Z9: =Y9*Q9/(Q9-1) -> 0.38069266 | AA9: =(W9*(T9*U9+V9)*O9+X9)/((1+T9^2)*U9+2*T9*V9) -> -0.00019095317 | AB9: =(W9*O9+X9*(T9*U9+V9))/((1+T9^2)*U9+2*T9*V9) -> -1.071085 | AC9: =M9+(1-M9)^2*N9/(1-M9*N9) -> 0.020333802 | AD9: =(1-M9)^2/(1-M9*N9)*O9 -> 0.00040348602 | AE9: =AC9+Z9*(1+AB9/SQRT(Q9)+N9) -> 0.043741158 | AF9: =AD9+Z9*(AA9/SQRT(Q9)+(1+M9)*O9) -> 0.00050309022 | AG9: =1-AE9-AF9 -> 0.95575575 | AI9: 700 | AJ9: 4.373765 | AK9: 0.051438909 | AL9: =AJ9/100 -> 0.04373765 | AM9: =AK9/100 -> 0.00051438909 | AO9: =(AJ9/100-AE9)^2+(AK9/100-AF9)^2 -> 1.3997289e-10
A10: 690 | B10: 119.7759 | C10: 56.072427 | D10: =1.32711+0.0026/(A10/1000)^2+0.00005/(A10/1000)^4 -> 1.3327916 | E10: =B10*B$1 -> 666.55287 | F10: =C10*B$1 -> 312.04306 | G10: 0.4283864 | H10: 0.01 | J10: =F10*(1-G10)/(F10*(1-G10)+E10) -> 0.21110621 | K10: =(F10*(1-G10)+E10)*H10 -> 8.4492092 | L10: =SQRT(1-1/D10^2) -> 0.66109201 | M10: =(D10-1)^2/(D10+1)^2 -> 0.020351334 | N10: =M10*EXP(-2*K10) -> 9.3261627e-10 | O10: =EXP(-K10) -> 0.00021406963 | P10: =J10/(1-J10)*(1-M10)/(1-M10*N10) -> 0.26215179 | Q10: =4/(1+L10)^2*(1-J10)/(1-J10*L10) -> 1.3291404 | R10: =(1-M10)/(1+M10) -> 0.96010916 | S10: =R10/(1+L10) -> 0.57799878 | T10: =2*S10/SQRT(Q10) -> 1.0027011 | U10: =SINH(SQRT(Q10)*K10) -> 8499.8774 | V10: =COSH(SQRT(Q10)*K10) -> 8499.8775 | W10: =(1-2*S10)-(1+2*S10)*M10 -> -0.19987499 | X10: =(1-2*S10)*N10-(1+2*S10) -> -2.1559976 | Y10: =R10*(1-L10^2)*P10/2 -> 0.070846587 | Z10: =Y10*Q10/(Q10-1) -> 0.28609387 | AA10: =(W10*(T10*U10+V10)*O10+X10)/((1+T10^2)*U10+2*T10*V10) -> -8.46064e-05 | AB10: =(W10*O10+X10*(T10*U10+V10))/((1+T10^2)*U10+2*T10*V10) -> -1.0765449 | AC10: =M10+(1-M10)^2*N10/(1-M10*N10) -> 0.020351335 | AD10: =(1-M10)^2/(1-M10*N10)*O10 -> 0.00020544509 | AE10: =AC10+Z10*(1+AB10/SQRT(Q10)+N10) -> 0.039295161 | AF10: =AD10+Z10*(AA10/SQRT(Q10)+(1+M10)*O10) -> 0.00024693999 | AG10: =1-AE10-AF10 -> 0.9604579 | AI10: 690 | AJ10: 3.9295216 | AK10: 0.024675507 | AL10: =AJ10/100 -> 0.039295216 | AM10: =AK10/100 -> 0.00024675507 | AO10: =(AJ10/100-AE10)^2+(AK10/100-AF10)^2 -> 3.7203373e-14
A11: 680 | B11: 157.1175 | C11: 40.927242 | D11: =1.32711+0.0026/(A11/1000)^2+0.00005/(A11/1000)^4 -> 1.3329667 | E11: =B11*B$1 -> 874.35889 | F11: =C11*B$1 -> 227.7601 | G11: 0.00095353295 | H11: 0.01 | J11: =F11*(1-G11)/(F11*(1-G11)+E11) -> 0.20650018 | K11: =(F11*(1-G11)+E11)*H11 -> 11.019018 | L11: =SQRT(1-1/D11^2) -> 0.66120384 | M11: =(D11-1)^2/(D11+1)^2 -> 0.020369693 | N11: =M11*EXP(-2*K11) -> 5.4699954e-12 | O11: =EXP(-K11) -> 1.6387067e-05 | P11: =J11/(1-J11)*(1-M11)/(1-M11*N11) -> 0.25493873 | Q11: =4/(1+L11)^2*(1-J11)/(1-J11*L11) -> 1.3320426 | R11: =(1-M11)/(1+M11) -> 0.9600739 | S11: =R11/(1+L11) -> 0.57793865 | T11: =2*S11/SQRT(Q11) -> 1.001504 | U11: =SINH(SQRT(Q11)*K11) -> 166767.97 | V11: =COSH(SQRT(Q11)*K11) -> 166767.97 | W11: =(1-2*S11)-(1+2*S11)*M11 -> -0.19979185 | X11: =(1-2*S11)*N11-(1+2*S11) -> -2.1558773 | Y11: =R11*(1-L11^2)*P11/2 -> 0.068876631 | Z11: =Y11*Q11/(Q11-1) -> 0.27630977 | AA11: =(W11*(T11*U11+V11)*O11+X11)/((1+T11^2)*U11+2*T11*V11) -> -4.8627676e-06 | AB11: =(W11*O11+X11*(T11*U11+V11))/((1+T11^2)*U11+2*T11*V11) -> -1.0771287 | AC11: =M11+(1-M11)^2*N11/(1-M11*N11) -> 0.020369693 | AD11: =(1-M11)^2/(1-M11*N11)*O11 -> 1.5726268e-05 | AE11: =AC11+Z11*(1+AB11/SQRT(Q11)+N11) -> 0.038807118 | AF11: =AD11+Z11*(AA11/SQRT(Q11)+(1+M11)*O11) -> 1.9182225e-05 | AG11: =1-AE11-AF11 -> 0.9611737 | AI11: 680 | AJ11: 3.8795091 | AK11: 0.027459981 | AL11: =AJ11/100 -> 0.038795091 | AM11: =AK11/100 -> 0.00027459981 | AO11: =(AJ11/100-AE11)^2+(AK11/100-AF11)^2 -> 6.5382798e-08
A12: 670 | B12: 155.12254 | C12: 39.34784 | D12: =1.32711+0.0026/(A12/1000)^2+0.00005/(A12/1000)^4 -> 1.3331501 | E12: =B12*B$1 -> 863.25693 | F12: =C12*B$1 -> 218.97073 | G12: 0 | H12: 0.01 | J12: =F12*(1-G12)/(F12*(1-G12)+E12) -> 0.20233334 | K12: =(F12*(1-G12)+E12)*H12 -> 10.822277 | L12: =SQRT(1-1/D12^2) -> 0.6613209 | M12: =(D12-1)^2/(D12+1)^2 -> 0.020388931 | N12: =M12*EXP(-2*K12) -> 8.1149241e-12 | O12: =EXP(-K12) -> 1.9950097e-05 | P12: =J12/(1-J12)*(1-M12)/(1-M12*N12) -> 0.24848472 | Q12: =4/(1+L12)^2*(1-J12)/(1-J12*L12) -> 1.3346268 | R12: =(1-M12)/(1+M12) -> 0.96003694 | S12: =R12/(1+L12) -> 0.57787568 | T12: =2*S12/SQRT(Q12) -> 1.0004249 | U12: =SINH(SQRT(Q12)*K12) -> 134511.01 | V12: =COSH(SQRT(Q12)*K12) -> 134511.01 | W12: =(1-2*S12)-(1+2*S12)*M12 -> -0.19970482 | X12: =(1-2*S12)*N12-(1+2*S12) -> -2.1557514 | Y12: =R12*(1-L12^2)*P12/2 -> 0.067111904 | Z12: =Y12*Q12/(Q12-1) -> 0.26766938 | AA12: =(W12*(T12*U12+V12)*O12+X12)/((1+T12^2)*U12+2*T12*V12) -> -5.9965851e-06 | AB12: =(W12*O12+X12*(T12*U12+V12))/((1+T12^2)*U12+2*T12*V12) -> -1.0776467 | AC12: =M12+(1-M12)^2*N12/(1-M12*N12) -> 0.020388931 | AD12: =(1-M12)^2/(1-M12*N12)*O12 -> 1.9144868e-05 | AE12: =AC12+Z12*(1+AB12/SQRT(Q12)+N12) -> 0.038371737 | AF12: =AD12+Z12*(AA12/SQRT(Q12)+(1+M12)*O12) -> 2.320439e-05 | AG12: =1-AE12-AF12 -> 0.96160506 | AI12: 670 | AJ12: 3.8497685 | AK12: 0.026439699 | AL12: =AJ12/100 -> 0.038497685 | AM12: =AK12/100 -> 0.00026439699 | AO12: =(AJ12/100-AE12)^2+(AK12/100-AF12)^2 -> 7.4036896e-08
A13: 660 | B13: 135.08708 | C13: 33.978793 | D13: =1.32711+0.0026/(A13/1000)^2+0.00005/(A13/1000)^4 -> 1.3333423 | E13: =B13*B$1 -> 751.75963 | F13: =C13*B$1 -> 189.09198 | G13: 1.818576e-07 | H13: 0.01 | J13: =F13*(1-G13)/(F13*(1-G13)+E13) -> 0.20097957 | K13: =(F13*(1-G13)+E13)*H13 -> 9.4085157 | L13: =SQRT(1-1/D13^2) -> 0.66144354 | M13: =(D13-1)^2/(D13+1)^2 -> 0.020409103 | N13: =M13*EXP(-2*K13) -> 1.3730646e-10 | O13: =EXP(-K13) -> 8.2022599e-05 | P13: =J13/(1-J13)*(1-M13)/(1-M13*N13) -> 0.24639891 | Q13: =4/(1+L13)^2*(1-J13)/(1-J13*L13) -> 1.3353523 | R13: =(1-M13)/(1+M13) -> 0.95999819 | S13: =R13/(1+L13) -> 0.5778097 | T13: =2*S13/SQRT(Q13) -> 1.0000389 | U13: =SINH(SQRT(Q13)*K13) -> 26346.567 | V13: =COSH(SQRT(Q13)*K13) -> 26346.567 | W13: =(1-2*S13)-(1+2*S13)*M13 -> -0.19961366 | X13: =(1-2*S13)*N13-(1+2*S13) -> -2.1556194 | Y13: =R13*(1-L13^2)*P13/2 -> 0.066526687 | Z13: =Y13*Q13/(Q13-1) -> 0.26490518 | AA13: =(W13*(T13*U13+V13)*O13+X13)/((1+T13^2)*U13+2*T13*V13) -> -2.8639923e-05 | AB13: =(W13*O13+X13*(T13*U13+V13))/((1+T13^2)*U13+2*T13*V13) -> -1.0777887 | AC13: =M13+(1-M13)^2*N13/(1-M13*N13) -> 0.020409103 | AD13: =(1-M13)^2/(1-M13*N13)*O13 -> 7.8708749e-05 | AE13: =AC13+Z13*(1+AB13/SQRT(Q13)+N13) -> 0.038240787 | AF13: =AD13+Z13*(AA13/SQRT(Q13)+(1+M13)*O13) -> 9.4314965e-05 | AG13: =1-AE13-AF13 -> 0.9616649 | AI13: 660 | AJ13: 3.824049 | AK13: 0.025475295 | AL13: =AJ13/100 -> 0.03824049 | AM13: =AK13/100 -> 0.00025475295 | AO13: =(AJ13/100-AE13)^2+(AK13/100-AF13)^2 -> 2.5740435e-08
A14: 650 | B14: 10.931731 | C14: 8.1158242 | D14: =1.32711+0.0026/(A14/1000)^2+0.00005/(A14/1000)^4 -> 1.3335439 | E14: =B14*B$1 -> 60.835084 | F14: =C14*B$1 -> 45.164562 | G14: 0.66116045 | H14: 0.01 | J14: =F14*(1-G14)/(F14*(1-G14)+E14) -> 0.20099575 | K14: =(F14*(1-G14)+E14)*H14 -> 0.76138624 | L14: =SQRT(1-1/D14^2) -> 0.66157212 | M14: =(D14-1)^2/(D14+1)^2 -> 0.020430273 | N14: =M14*EXP(-2*K14) -> 0.0044559723 | O14: =EXP(-K14) -> 0.46701858 | P14: =J14/(1-J14)*(1-M14)/(1-M14*N14) -> 0.24644084 | Q14: =4/(1+L14)^2*(1-J14)/(1-J14*L14) -> 1.3351749 | R14: =(1-M14)/(1+M14) -> 0.95995753 | S14: =R14/(1+L14) -> 0.57774052 | T14: =2*S14/SQRT(Q14) -> 0.99998559 | U14: =SINH(SQRT(Q14)*K14) -> 0.99774765 | V14: =COSH(SQRT(Q14)*K14) -> 1.4126218 | W14: =(1-2*S14)-(1+2*S14)*M14 -> -0.1995181 | X14: =(1-2*S14)*N14-(1+2*S14) -> -2.1561739 | Y14: =R14*(1-L14^2)*P14/2 -> 0.066515069 | Z14: =Y14*Q14/(Q14-1) -> 0.26496391 | AA14: =(W14*(T14*U14+V14)*O14+X14)/((1+T14^2)*U14+2*T14*V14) -> -0.49386658 | AB14: =(W14*O14+X14*(T14*U14+V14))/((1+T14^2)*U14+2*T14*V14) -> -1.097425 | AC14: =M14+(1-M14)^2*N14/(1-M14*N14) -> 0.024706421 | AD14: =(1-M14)^2/(1-M14*N14)*O14 -> 0.44817168 | AE14: =AC14+Z14*(1+AB14/SQRT(Q14)+N14) -> 0.039203571 | AF14: =AD14+Z14*(AA14/SQRT(Q14)+(1+M14)*O14) -> 0.4611957 | AG14: =1-AE14-AF14 -> 0.49960073 | AI14: 650 | AJ14: 3.8259833 | AK14: 0.024317728 | AL14: =AJ14/100 -> 0.038259833 | AM14: =AK14/100 -> 0.00024317728 | AO14: =(AJ14/100-AE14)^2+(AK14/100-AF14)^2 -> 0.21247812
A15: 640 | B15: 11.017351 | C15: 8.1347419 | D15: =1.32711+0.0026/(A15/1000)^2+0.00005/(A15/1000)^4 -> 1.3337557 | E15: =B15*B$1 -> 61.311558 | F15: =C15*B$1 -> 45.269839 | G15: 0.65844119 | H15: 0.01 | J15: =F15*(1-G15)/(F15*(1-G15)+E15) -> 0.20140071 | K15: =(F15*(1-G15)+E15)*H15 -> 0.7677387 | L15: =SQRT(1-1/D15^2) -> 0.66170702 | M15: =(D15-1)^2/(D15+1)^2 -> 0.020452507 | N15: =M15*EXP(-2*K15) -> 0.0044045058 | O15: =EXP(-K15) -> 0.46406126 | P15: =J15/(1-J15)*(1-M15)/(1-M15*N15) -> 0.24705674 | Q15: =4/(1+L15)^2*(1-J15)/(1-J15*L15) -> 1.3347358 | R15: =(1-M15)/(1+M15) -> 0.95991483 | S15: =R15/(1+L15) -> 0.57766791 | T15: =2*S15/SQRT(Q15) -> 1.0000244 | U15: =SINH(SQRT(Q15)*K15) -> 1.0079365 | V15: =COSH(SQRT(Q15)*K15) -> 1.4198366 | W15: =(1-2*S15)-(1+2*S15)*M15 -> -0.19941785 | X15: =(1-2*S15)*N15-(1+2*S15) -> -2.15602 | Y15: =R15*(1-L15^2)*P15/2 -> 0.066657166 | Z15: =Y15*Q15/(Q15-1) -> 0.26579084 | AA15: =(W15*(T15*U15+V15)*O15+X15)/((1+T15^2)*U15+2*T15*V15) -> -0.490292 | AB15: =(W15*O15+X15*(T15*U15+V15))/((1+T15^2)*U15+2*T15*V15) -> -1.0970532 | AC15: =M15+(1-M15)^2*N15/(1-M15*N15) -> 0.02467907 | AD15: =(1-M15)^2/(1-M15*N15)*O15 -> 0.44531306 | AE15: =AC15+Z15*(1+AB15/SQRT(Q15)+N15) -> 0.039251802 | AF15: =AD15+Z15*(AA15/SQRT(Q15)+(1+M15)*O15) -> 0.45838207 | AG15: =1-AE15-AF15 -> 0.50236612 | AI15: 640 | AJ15: 3.8317863 | AK15: 0.02270155 | AL15: =AJ15/100 -> 0.038317863 | AM15: =AK15/100 -> 0.0002270155 | AO15: =(AJ15/100-AE15)^2+(AK15/100-AF15)^2 -> 0.20990693
... A39: 400 | B39: 23.538796 | C39: 9.4513618 | D39: =1.32711+0.0026/(A39/1000)^2+0.00005/(A39/1000)^4 -> 1.3453131 | E39: =B39*B$1 -> 130.9934 | F39: =C39*B$1 -> 52.596829 | G39: 0.34734932 | H39: 0.01 | J39: =F39*(1-G39)/(F39*(1-G39)+E39) -> 0.20764094 | K39: =(F39*(1-G39)+E39)*H39 -> 1.6532075 | L39: =SQRT(1-1/D39^2) -> 0.66893448 | M39: =(D39-1)^2/(D39+1)^2 -> 0.021678264 | N39: =M39*EXP(-2*K39) -> 0.00079445019 | O39: =EXP(-K39) -> 0.19143489 | P39: =J39/(1-J39)*(1-M39)/(1-M39*N39) -> 0.25637763 | Q39: =4/(1+L39)^2*(1-J39)/(1-J39*L39) -> 1.3214445 | R39: =(1-M39)/(1+M39) -> 0.95756342 | S39: =R39/(1+L39) -> 0.57375735 | T39: =2*S39/SQRT(Q39) -> 0.99823728 | U39: =SINH(SQRT(Q39)*K39) -> 3.2696324 | V39: =COSH(SQRT(Q39)*K39) -> 3.4191368 | W39: =(1-2*S39)-(1+2*S39)*M39 -> -0.19406909 | X39: =(1-2*S39)*N39-(1+2*S39) -> -2.1476319 | Y39: =R39*(1-L39^2)*P39/2 -> 0.067822052 | Z39: =Y39*Q39/(Q39-1) -> 0.27881351 | AA39: =(W39*(T39*U39+V39)*O39+X39)/((1+T39^2)*U39+2*T39*V39) -> -0.17941605 | AB39: =(W39*O39+X39*(T39*U39+V39))/((1+T39^2)*U39+2*T39*V39) -> -1.0775665 | AC39: =M39+(1-M39)^2*N39/(1-M39*N39) -> 0.022438656 | AD39: =(1-M39)^2/(1-M39*N39)*O39 -> 0.18322805 | AE39: =AC39+Z39*(1+AB39/SQRT(Q39)+N39) -> 0.040117105 | AF39: =AD39+Z39*(AA39/SQRT(Q39)+(1+M39)*O39) -> 0.19424359 | AG39: =1-AE39-AF39 -> 0.76563931 | AI39: 400 | AJ39: 3.9828953 | AK39: 0.011579266 | AL39: =AJ39/100 -> 0.039828953 | AM39: =AK39/100 -> 0.00011579266 | AO39: =(AJ39/100-AE39)^2+(AK39/100-AF39)^2 -> 0.037685684
AJ40: 4.0086629 | AK40: 0.012326134
AJ41: 4.0417621 | AK41: 0.012648021
AJ42: 4.0673211 | AK42: 0.012058524
AJ43: 4.1087935 | AK43: 0.016562062
AJ44: 4.1574376 | AK44: 0.017843092

Sheet Dilution2
A1: X= | B1: 11.13 | C1: g/L | AI1: dilution 2 | AK1: 11.13 | AL1: g/L
A3: l (nm) | B3: Abs,l (m2/kg) | C3: Ssca,l (m2/kg) | D3: n | E3: k (1/m) | F3: ss (1/m) | G3: g | H3: d (m) | J3: wtr | K3: ttr | L3: mc | M3: R1 | N3: Ctr | O3: Etr | P3: c | Q3: k2 | R3: g | S3: gbar | T3: j | U3: s | V3: c | W3: k1 | X3: k2 | Y3: D1 | Z3: D | AA3: A | AB3: B | AC3: R0dh | AD3: T0dh | AE3: Rdh | AF3: Tdh | AG3: Adh | AI3: l (nm) | AJ3: Rdh | AK3: Tdh | AL3: Rdh | AM3: Tdh | AO3: error
A4: 750 | B4: 0.75499281 | C4: 11.044146 | D4: =1.32711+0.0026/(A4/1000)^2+0.00005/(A4/1000)^4 -> 1.3318902 | E4: =B4*B$1 -> 8.40307 | F4: =C4*B$1 -> 122.92135 | G4: 0.81345528 | H4: 0.01 | J4: =F4*(1-G4)/(F4*(1-G4)+E4) -> 0.73181747 | K4: =(F4*(1-G4)+E4)*H4 -> 0.31333398 | L4: =SQRT(1-1/D4^2) -> 0.66051527 | M4: =(D4-1)^2/(D4+1)^2 -> 0.02025689 | N4: =M4*EXP(-2*K4) -> 0.010824662 | O4: =EXP(-K4) -> 0.73100573 | P4: =J4/(1-J4)*(1-M4)/(1-M4*N4) -> 2.6741129 | Q4: =4/(1+L4)^2*(1-J4)/(1-J4*L4) -> 0.75306188 | R4: =(1-M4)/(1+M4) -> 0.96029061 | S4: =R4/(1+L4) -> 0.57830881 | T4: =2*S4/SQRT(Q4) -> 1.3328291 | U4: =SINH(SQRT(Q4)*K4) -> 0.2752715 | V4: =COSH(SQRT(Q4)*K4) -> 1.0371954 | W4: =(1-2*S4)-(1+2*S4)*M4 -> -0.20030399 | X4: =(1-2*S4)*N4-(1+2*S4) -> -2.158313 | Y4: =R4*(1-L4^2)*P4/2 -> 0.72379496 | Z4: =Y4*Q4/(Q4-1) -> -2.2072834 | AA4: =(W4*(T4*U4+V4)*O4+X4)/((1+T4^2)*U4+2*T4*V4) -> -0.66983542 | AB4: =(W4*O4+X4*(T4*U4+V4))/((1+T4^2)*U4+2*T4*V4) -> -0.9001999 | AC4: =M4+(1-M4)^2*N4/(1-M4*N4) -> 0.030649724 | AD4: =(1-M4)^2/(1-M4*N4)*O4 -> 0.70184378 | AE4: =AC4+Z4*(1+AB4/SQRT(Q4)+N4) -> 0.089189784 | AF4: =AD4+Z4*(AA4/SQRT(Q4)+(1+M4)*O4) -> 0.75939137 | AG4: =1-AE4-AF4 -> 0.15141885 | AI4: 750 | AJ4: 16.395796 | AK4: 6.4919812 | AL4: =AJ4/100 -> 0.16395796 | AM4: =AK4/100 -> 0.064919812 | AO4: =(AJ4/100-AE4)^2+(AK4/100-AF4)^2 -> 0.48788102
A5: 740 | B5: 0.85349377 | C5: 15.018512 | D5: =1.32711+0.0026/(A5/1000)^2+0.00005/(A5/1000)^4 -> 1.3320247 | E5: =B5*B$1 -> 9.4993857 | F5: =C5*B$1 -> 167.15604 | G5: 0.85765019 | H5: 0.01 | J5: =F5*(1-G5)/(F5*(1-G5)+E5) -> 0.7146819 | K5: =(F5*(1-G5)+E5)*H5 -> 0.33294017 | L5: =SQRT(1-1/D5^2) -> 0.66060142 | M5: =(D5-1)^2/(D5+1)^2 -> 0.020270972 | N5: =M5*EXP(-2*K5) -> 0.010415651 | O5: =EXP(-K5) -> 0.71681308 | P5: =J5/(1-J5)*(1-M5)/(1-M5*N5) -> 2.4546023 | Q5: =4/(1+L5)^2*(1-J5)/(1-J5*L5) -> 0.78401288 | R5: =(1-M5)/(1+M5) -> 0.96026355 | S5: =R5/(1+L5) -> 0.57826251 | T5: =2*S5/SQRT(Q5) -> 1.3061511 | U5: =SINH(SQRT(Q5)*K5) -> 0.29908885 | V5: =COSH(SQRT(Q5)*K5) -> 1.0437692 | W5: =(1-2*S5)-(1+2*S5)*M5 -> -0.20023988 | X5: =(1-2*S5)*N5-(1+2*S5) -> -2.1581553 | Y5: =R5*(1-L5^2)*P5/2 -> 0.66422774 | Z5: =Y5*Q5/(Q5-1) -> -2.4110841 | AA5: =(W5*(T5*U5+V5)*O5+X5)/((1+T5^2)*U5+2*T5*V5) -> -0.66856768 | AB5: =(W5*O5+X5*(T5*U5+V5))/((1+T5^2)*U5+2*T5*V5) -> -0.91608023 | AC5: =M5+(1-M5)^2*N5/(1-M5*N5) -> 0.030270743 | AD5: =(1-M5)^2/(1-M5*N5)*O5 -> 0.68819193 | AE5: =AC5+Z5*(1+AB5/SQRT(Q5)+N5) -> 0.088578019 | AF5: =AD5+Z5*(AA5/SQRT(Q5)+(1+M5)*O5) -> 0.74538393 | AG5: =1-AE5-AF5 -> 0.16603806 | AI5: 740 | AJ5: 15.526474 | AK5: 5.1929103 | AL5: =AJ5/100 -> 0.15526474 | AM5: =AK5/100 -> 0.051929103 | AO5: =(AJ5/100-AE5)^2+(AK5/100-AF5)^2 -> 0.48532671
A6: 730 | B6: 1.0963247 | C6: 20.503745 | D6: =1.32711+0.0026/(A6/1000)^2+0.00005/(A6/1000)^4 -> 1.332165 | E6: =B6*B$1 -> 12.202093 | F6: =C6*B$1 -> 228.20668 | G6: 0.89014378 | H6: 0.01 | J6: =F6*(1-G6)/(F6*(1-G6)+E6) -> 0.67262052 | K6: =(F6*(1-G6)+E6)*H6 -> 0.37272016 | L6: =SQRT(1-1/D6^2) -> 0.66069127 | M6: =(D6-1)^2/(D6+1)^2 -> 0.020285666 | N6: =M6*EXP(-2*K6) -> 0.0096260617 | O6: =EXP(-K6) -> 0.68885797 | P6: =J6/(1-J6)*(1-M6)/(1-M6*N6) -> 2.0132742 | Q6: =4/(1+L6)^2*(1-J6)/(1-J6*L6) -> 0.85460831 | R6: =(1-M6)/(1+M6) -> 0.96023532 | S6: =R6/(1+L6) -> 0.57821423 | T6: =2*S6/SQRT(Q6) -> 1.2509364 | U6: =SINH(SQRT(Q6)*K6) -> 0.3514197 | V6: =COSH(SQRT(Q6)*K6) -> 1.0599509 | W6: =(1-2*S6)-(1+2*S6)*M6 -> -0.20017305 | X6: =(1-2*S6)*N6-(1+2*S6) -> -2.1579343 | Y6: =R6*(1-L6^2)*P6/2 -> 0.54467137 | Z6: =Y6*Q6/(Q6-1) -> -3.2015632 | AA6: =(W6*(T6*U6+V6)*O6+X6)/((1+T6^2)*U6+2*T6*V6) -> -0.66551568 | AB6: =(W6*O6+X6*(T6*U6+V6))/((1+T6^2)*U6+2*T6*V6) -> -0.94951952 | AC6: =M6+(1-M6)^2*N6/(1-M6*N6) -> 0.029526951 | AD6: =(1-M6)^2/(1-M6*N6)*O6 -> 0.6613227 | AE6: =AC6+Z6*(1+AB6/SQRT(Q6)+N6) -> 0.08552849 | AF6: =AD6+Z6*(AA6/SQRT(Q6)+(1+M6)*O6) -> 0.71598085 | AG6: =1-AE6-AF6 -> 0.19849066 | AI6: 730 | AJ6: 13.643057 | AK6: 3.2118122 | AL6: =AJ6/100 -> 0.13643057 | AM6: =AK6/100 -> 0.032118122 | AO6: =(AJ6/100-AE6)^2+(AK6/100-AF6)^2 -> 0.47025926
A7: 720 | B7: 1.8463148 | C7: 22.958765 | D7: =1.32711+0.0026/(A7/1000)^2+0.00005/(A7/1000)^4 -> 1.3323115 | E7: =B7*B$1 -> 20.549484 | F7: =C7*B$1 -> 255.53106 | G7: 0.89512069 | H7: 0.01 | J7: =F7*(1-G7)/(F7*(1-G7)+E7) -> 0.56600333 | K7: =(F7*(1-G7)+E7)*H7 -> 0.47349404 | L7: =SQRT(1-1/D7^2) -> 0.66078501 | M7: =(D7-1)^2/(D7+1)^2 -> 0.020301008 | N7: =M7*EXP(-2*K7) -> 0.0078749156 | O7: =EXP(-K7) -> 0.6228223 | P7: =J7/(1-J7)*(1-M7)/(1-M7*N7) -> 1.2778936 | Q7: =4/(1+L7)^2*(1-J7)/(1-J7*L7) -> 1.0054252 | R7: =(1-M7)/(1+M7) -> 0.96020585 | S7: =R7/(1+L7) -> 0.57816385 | T7: =2*S7/SQRT(Q7) -> 1.1532038 | U7: =SINH(SQRT(Q7)*K7) -> 0.4928156 | V7: =COSH(SQRT(Q7)*K7) -> 1.1148395 | W7: =(1-2*S7)-(1+2*S7)*M7 -> -0.20010332 | X7: =(1-2*S7)*N7-(1+2*S7) -> -2.1575588 | Y7: =R7*(1-L7^2)*P7/2 -> 0.34563482 | Z7: =Y7*Q7/(Q7-1) -> 64.055334 | AA7: =(W7*(T7*U7+V7)*O7+X7)/((1+T7^2)*U7+2*T7*V7) -> -0.63646846 | AB7: =(W7*O7+X7*(T7*U7+V7))/((1+T7^2)*U7+2*T7*V7) -> -1.0098569 | AC7: =M7+(1-M7)^2*N7/(1-M7*N7) -> 0.02786064 | AD7: =(1-M7)^2/(1-M7*N7)*O7 -> 0.59788672 | AE7: =AC7+Z7*(1+AB7/SQRT(Q7)+N7) -> 0.075660386 | AF7: =AD7+Z7*(AA7/SQRT(Q7)+(1+M7)*O7) -> 0.64382963 | AG7: =1-AE7-AF7 -> 0.28050998 | AI7: 720 | AJ7: 10.065453 | AK7: 0.92474509 | AL7: =AJ7/100 -> 0.10065453 | AM7: =AK7/100 -> 0.0092474509 | AO7: =(AJ7/100-AE7)^2+(AK7/100-AF7)^2 -> 0.40331926
A8: 710 | B8: 3.8823161 | C8: 34.245578 | D8: =1.32711+0.0026/(A8/1000)^2+0.00005/(A8/1000)^4 -> 1.3324645 | E8: =B8*B$1 -> 43.210178 | F8: =C8*B$1 -> 381.15329 | G8: 0.92839095 | H8: 0.01 | J8: =F8*(1-G8)/(F8*(1-G8)+E8) -> 0.38712621 | K8: =(F8*(1-G8)+E8)*H8 -> 0.70504203 | L8: =SQRT(1-1/D8^2) -> 0.66088288 | M8: =(D8-1)^2/(D8+1)^2 -> 0.020317038 | N8: =M8*EXP(-2*K8) -> 0.0049598515 | O8: =EXP(-K8) -> 0.49408781 | P8: =J8/(1-J8)*(1-M8)/(1-M8*N8) -> 0.61888627 | Q8: =4/(1+L8)^2*(1-J8)/(1-J8*L8) -> 1.1942347 | R8: =(1-M8)/(1+M8) -> 0.96017505 | S8: =R8/(1+L8) -> 0.57811123 | T8: =2*S8/SQRT(Q8) -> 1.0580266 | U8: =SINH(SQRT(Q8)*K8) -> 0.8490026 | V8: =COSH(SQRT(Q8)*K8) -> 1.3117947 | W8: =(1-2*S8)-(1+2*S8)*M8 -> -0.20003052 | X8: =(1-2*S8)*N8-(1+2*S8) -> -2.1569973 | Y8: =R8*(1-L8^2)*P8/2 -> 0.1673478 | Z8: =Y8*Q8/(Q8-1) -> 1.0289232 | AA8: =(W8*(T8*U8+V8)*O8+X8)/((1+T8^2)*U8+2*T8*V8) -> -0.51919323 | AB8: =(W8*O8+X8*(T8*U8+V8))/((1+T8^2)*U8+2*T8*V8) -> -1.0635401 | AC8: =M8+(1-M8)^2*N8/(1-M8*N8) -> 0.025077878 | AD8: =(1-M8)^2/(1-M8*N8)*O8 -> 0.47426275 | AE8: =AC8+Z8*(1+AB8/SQRT(Q8)+N8) -> 0.057740351 | AF8: =AD8+Z8*(AA8/SQRT(Q8)+(1+M8)*O8) -> 0.50412943 | AG8: =1-AE8-AF8 -> 0.43813022 | AI8: 710 | AJ8: 6.2773116 | AK8: 0.056870454 | AL8: =AJ8/100 -> 0.062773116 | AM8: =AK8/100 -> 0.00056870454 | AO8: =(AJ8/100-AE8)^2+(AK8/100-AF8)^2 -> 0.25359874
A9: 700 | B9: 5.4171948 | C9: 19.555807 | D9: =1.32711+0.0026/(A9/1000)^2+0.00005/(A9/1000)^4 -> 1.3326244 | E9: =B9*B$1 -> 60.293378 | F9: =C9*B$1 -> 217.65613 | G9: 0.90492578 | H9: 0.01 | J9: =F9*(1-G9)/(F9*(1-G9)+E9) -> 0.25551659 | K9: =(F9*(1-G9)+E9)*H9 -> 0.80986865 | L9: =SQRT(1-1/D9^2) -> 0.66098512 | M9: =(D9-1)^2/(D9+1)^2 -> 0.020333798 | N9: =M9*EXP(-2*K9) -> 0.0040250894 | O9: =EXP(-K9) -> 0.4449165 | P9: =J9/(1-J9)*(1-M9)/(1-M9*N9) -> 0.33626197 | Q9: =4/(1+L9)^2*(1-J9)/(1-J9*L9) -> 1.2987526 | R9: =(1-M9)/(1+M9) -> 0.96014285 | S9: =R9/(1+L9) -> 0.57805626 | T9: =2*S9/SQRT(Q9) -> 1.0144646 | U9: =SINH(SQRT(Q9)*K9) -> 1.0596781 | V9: =COSH(SQRT(Q9)*K9) -> 1.4570236 | W9: =(1-2*S9)-(1+2*S9)*M9 -> -0.19995448 | X9: =(1-2*S9)*N9-(1+2*S9) -> -2.1567409 | Y9: =R9*(1-L9^2)*P9/2 -> 0.090900884 | Z9: =Y9*Q9/(Q9-1) -> 0.39516902 | AA9: =(W9*(T9*U9+V9)*O9+X9)/((1+T9^2)*U9+2*T9*V9) -> -0.46647018 | AB9: =(W9*O9+X9*(T9*U9+V9))/((1+T9^2)*U9+2*T9*V9) -> -1.0868441 | AC9: =M9+(1-M9)^2*N9/(1-M9*N9) -> 0.024197177 | AD9: =(1-M9)^2/(1-M9*N9)*O9 -> 0.42704172 | AE9: =AC9+Z9*(1+AB9/SQRT(Q9)+N9) -> 0.044090813 | AF9: =AD9+Z9*(AA9/SQRT(Q9)+(1+M9)*O9) -> 0.44468424 | AG9: =1-AE9-AF9 -> 0.51122495 | AI9: 700 | AJ9: 4.436563 | AK9: 0.014913453 | AL9: =AJ9/100 -> 0.04436563 | AM9: =AK9/100 -> 0.00014913453 | AO9: =(AJ9/100-AE9)^2+(AK9/100-AF9)^2 -> 0.19761154
A10: 690 | B10: 5.7270313 | C10: 16.957604 | D10: =1.32711+0.0026/(A10/1000)^2+0.00005/(A10/1000)^4 -> 1.3327916 | E10: =B10*B$1 -> 63.741858 | F10: =C10*B$1 -> 188.73813 | G10: 0.90796551 | H10: 0.01 | J10: =F10*(1-G10)/(F10*(1-G10)+E10) -> 0.21415275 | K10: =(F10*(1-G10)+E10)*H10 -> 0.81112275 | L10: =SQRT(1-1/D10^2) -> 0.66109201 | M10: =(D10-1)^2/(D10+1)^2 -> 0.020351334 | N10: =M10*EXP(-2*K10) -> 0.0040184688 | O10: =EXP(-K10) -> 0.44435888 | P10: =J10/(1-J10)*(1-M10)/(1-M10*N10) -> 0.26698778 | Q10: =4/(1+L10)^2*(1-J10)/(1-J10*L10) -> 1.327114 | R10: =(1-M10)/(1+M10) -> 0.96010916 | S10: =R10/(1+L10) -> 0.57799878 | T10: =2*S10/SQRT(Q10) -> 1.0034663 | U10: =SINH(SQRT(Q10)*K10) -> 1.0764569 | V10: =COSH(SQRT(Q10)*K10) -> 1.4692718 | W10: =(1-2*S10)-(1+2*S10)*M10 -> -0.19987499 | X10: =(1-2*S10)*N10-(1+2*S10) -> -2.1566244 | Y10: =R10*(1-L10^2)*P10/2 -> 0.072153517 | Z10: =Y10*Q10/(Q10-1) -> 0.29272959 | AA10: =(W10*(T10*U10+V10)*O10+X10)/((1+T10^2)*U10+2*T10*V10) -> -0.46643225 | AB10: =(W10*O10+X10*(T10*U10+V10))/((1+T10^2)*U10+2*T10*V10) -> -1.0935435 | AC10: =M10+(1-M10)^2*N10/(1-M10*N10) -> 0.02420822 | AD10: =(1-M10)^2/(1-M10*N10)*O10 -> 0.42649121 | AE10: =AC10+Z10*(1+AB10/SQRT(Q10)+N10) -> 0.040239701 | AF10: =AD10+Z10*(AA10/SQRT(Q10)+(1+M10)*O10) -> 0.44069287 | AG10: =1-AE10-AF10 -> 0.51906743 | AI10: 690 | AJ10: 3.9628628 | AK10: 0.01396959 | AL10: =AJ10/100 -> 0.039628628 | AM10: =AK10/100 -> 0.0001396959 | AO10: =(AJ10/100-AE10)^2+(AK10/100-AF10)^2 -> 0.19408747
A11: 680 | B11: 5.6391288 | C11: 16.346999 | D11: =1.32711+0.0026/(A11/1000)^2+0.00005/(A11/1000)^4 -> 1.3329667 | E11: =B11*B$1 -> 62.763504 | F11: =C11*B$1 -> 181.9421 | G11: 0.90810778 | H11: 0.01 | J11: =F11*(1-G11)/(F11*(1-G11)+E11) -> 0.21034881 | K11: =(F11*(1-G11)+E11)*H11 -> 0.79482567 | L11: =SQRT(1-1/D11^2) -> 0.66120384 | M11: =(D11-1)^2/(D11+1)^2 -> 0.020369693 | N11: =M11*EXP(-2*K11) -> 0.0041553507 | O11: =EXP(-K11) -> 0.45165997 | P11: =J11/(1-J11)*(1-M11)/(1-M11*N11) -> 0.2609779 | Q11: =4/(1+L11)^2*(1-J11)/(1-J11*L11) -> 1.3295001 | R11: =(1-M11)/(1+M11) -> 0.9600739 | S11: =R11/(1+L11) -> 0.57793865 | T11: =2*S11/SQRT(Q11) -> 1.0024611 | U11: =SINH(SQRT(Q11)*K11) -> 1.0502533 | V11: =COSH(SQRT(Q11)*K11) -> 1.4501834 | W11: =(1-2*S11)-(1+2*S11)*M11 -> -0.19979185 | X11: =(1-2*S11)*N11-(1+2*S11) -> -2.156525 | Y11: =R11*(1-L11^2)*P11/2 -> 0.070508228 | Z11: =Y11*Q11/(Q11-1) -> 0.28449368 | AA11: =(W11*(T11*U11+V11)*O11+X11)/((1+T11^2)*U11+2*T11*V11) -> -0.47522511 | AB11: =(W11*O11+X11*(T11*U11+V11))/((1+T11^2)*U11+2*T11*V11) -> -1.0947259 | AC11: =M11+(1-M11)^2*N11/(1-M11*N11) -> 0.024357819 | AD11: =(1-M11)^2/(1-M11*N11)*O11 -> 0.43348371 | AE11: =AC11+Z11*(1+AB11/SQRT(Q11)+N11) -> 0.039927911 | AF11: =AD11+Z11*(AA11/SQRT(Q11)+(1+M11)*O11) -> 0.44734147 | AG11: =1-AE11-AF11 -> 0.51273062 | AI11: 680 | AJ11: 3.922471 | AK11: 0.016649055 | AL11: =AJ11/100 -> 0.03922471 | AM11: =AK11/100 -> 0.00016649055 | AO11: =(AJ11/100-AE11)^2+(AK11/100-AF11)^2 -> 0.19996596
A12: 670 | B12: 5.6752227 | C12: 16.245944 | D12: =1.32711+0.0026/(A12/1000)^2+0.00005/(A12/1000)^4 -> 1.3331501 | E12: =B12*B$1 -> 63.165229 | F12: =C12*B$1 -> 180.81736 | G12: 0.90810566 | H12: 0.01 | J12: =F12*(1-G12)/(F12*(1-G12)+E12) -> 0.20827046 | K12: =(F12*(1-G12)+E12)*H12 -> 0.79781321 | L12: =SQRT(1-1/D12^2) -> 0.6613209 | M12: =(D12-1)^2/(D12+1)^2 -> 0.020388931 | N12: =M12*EXP(-2*K12) -> 0.0041344972 | O12: =EXP(-K12) -> 0.45031263 | P12: =J12/(1-J12)*(1-M12)/(1-M12*N12) -> 0.25771584 | Q12: =4/(1+L12)^2*(1-J12)/(1-J12*L12) -> 1.330725 | R12: =(1-M12)/(1+M12) -> 0.96003694 | S12: =R12/(1+L12) -> 0.57787568 | T12: =2*S12/SQRT(Q12) -> 1.0018905 | U12: =SINH(SQRT(Q12)*K12) -> 1.0558711 | V12: =COSH(SQRT(Q12)*K12) -> 1.4542571 | W12: =(1-2*S12)-(1+2*S12)*M12 -> -0.19970482 | X12: =(1-2*S12)*N12-(1+2*S12) -> -2.1563953 | Y12: =R12*(1-L12^2)*P12/2 -> 0.069605088 | Z12: =Y12*Q12/(Q12-1) -> 0.2800672 | AA12: =(W12*(T12*U12+V12)*O12+X12)/((1+T12^2)*U12+2*T12*V12) -> -0.47364367 | AB12: =(W12*O12+X12*(T12*U12+V12))/((1+T12^2)*U12+2*T12*V12) -> -1.0948977 | AC12: =M12+(1-M12)^2*N12/(1-M12*N12) -> 0.024356885 | AD12: =(1-M12)^2/(1-M12*N12)*O12 -> 0.43217347 | AE12: =AC12+Z12*(1+AB12/SQRT(Q12)+N12) -> 0.039759587 | AF12: =AD12+Z12*(AA12/SQRT(Q12)+(1+M12)*O12) -> 0.44587009 | AG12: =1-AE12-AF12 -> 0.51437032 | AI12: 670 | AJ12: 3.9012102 | AK12: 0.016087652 | AL12: =AJ12/100 -> 0.039012102 | AM12: =AK12/100 -> 0.00016087652 | AO12: =(AJ12/100-AE12)^2+(AK12/100-AF12)^2 -> 0.19865726
A13: 660 | B13: 61.0282 | C13: 15.788 | D13: =1.32711+0.0026/(A13/1000)^2+0.00005/(A13/1000)^4 -> 1.3333423 | E13: =B13*B$1 -> 679.24386 | F13: =C13*B$1 -> 175.72044 | G13: 0.00015074901 | H13: 0.01 | J13: =F13*(1-G13)/(F13*(1-G13)+E13) -> 0.20550495 | K13: =(F13*(1-G13)+E13)*H13 -> 8.5493781 | L13: =SQRT(1-1/D13^2) -> 0.66144354 | M13: =(D13-1)^2/(D13+1)^2 -> 0.020409103 | N13: =M13*EXP(-2*K13) -> 7.6547044e-10 | O13: =EXP(-K13) -> 0.0001936655 | P13: =J13/(1-J13)*(1-M13)/(1-M13*N13) -> 0.25338204 | Q13: =4/(1+L13)^2*(1-J13)/(1-J13*L13) -> 1.332389 | R13: =(1-M13)/(1+M13) -> 0.95999819 | S13: =R13/(1+L13) -> 0.5778097 | T13: =2*S13/SQRT(Q13) -> 1.0011503 | U13: =SINH(SQRT(Q13)*K13) -> 9655.9338 | V13: =COSH(SQRT(Q13)*K13) -> 9655.9339 | W13: =(1-2*S13)-(1+2*S13)*M13 -> -0.19961366 | X13: =(1-2*S13)*N13-(1+2*S13) -> -2.1556194 | Y13: =R13*(1-L13^2)*P13/2 -> 0.068412104 | Z13: =Y13*Q13/(Q13-1) -> 0.27423149 | AA13: =(W13*(T13*U13+V13)*O13+X13)/((1+T13^2)*U13+2*T13*V13) -> -7.5064626e-05 | AB13: =(W13*O13+X13*(T13*U13+V13))/((1+T13^2)*U13+2*T13*V13) -> -1.0771901 | AC13: =M13+(1-M13)^2*N13/(1-M13*N13) -> 0.020409104 | AD13: =(1-M13)^2/(1-M13*N13)*O13 -> 0.00018584109 | AE13: =AC13+Z13*(1+AB13/SQRT(Q13)+N13) -> 0.038726522 | AF13: =AD13+Z13*(AA13/SQRT(Q13)+(1+M13)*O13) -> 0.00022220065 | AG13: =1-AE13-AF13 -> 0.96105128 | AI13: 660 | AJ13: 3.8686552 | AK13: 0.015839183 | AL13: =AJ13/100 -> 0.038686552 | AM13: =AK13/100 -> 0.00015839183 | AO13: =(AJ13/100-AE13)^2+(AK13/100-AF13)^2 -> 5.6691858e-09
A14: 650 | B14: 5.760127 | C14: 16.364713 | D14: =1.32711+0.0026/(A14/1000)^2+0.00005/(A14/1000)^4 -> 1.3335439 | E14: =B14*B$1 -> 64.110214 | F14: =C14*B$1 -> 182.13926 | G14: 0.90916074 | H14: 0.01 | J14: =F14*(1-G14)/(F14*(1-G14)+E14) -> 0.20513633 | K14: =(F14*(1-G14)+E14)*H14 -> 0.80655609 | L14: =SQRT(1-1/D14^2) -> 0.66157212 | M14: =(D14-1)^2/(D14+1)^2 -> 0.020430273 | N14: =M14*EXP(-2*K14) -> 0.0040710688 | O14: =EXP(-K14) -> 0.44639276 | P14: =J14/(1-J14)*(1-M14)/(1-M14*N14) -> 0.25282581 | Q14: =4/(1+L14)^2*(1-J14)/(1-J14*L14) -> 1.3324656 | R14: =(1-M14)/(1+M14) -> 0.95995753 | S14: =R14/(1+L14) -> 0.57774052 | T14: =2*S14/SQRT(Q14) -> 1.0010017 | U14: =SINH(SQRT(Q14)*K14) -> 1.0714833 | V14: =COSH(SQRT(Q14)*K14) -> 1.4656318 | W14: =(1-2*S14)-(1+2*S14)*M14 -> -0.1995181 | X14: =(1-2*S14)*N14-(1+2*S14) -> -2.156114 | Y14: =R14*(1-L14^2)*P14/2 -> 0.068238388 | Z14: =Y14*Q14/(Q14-1) -> 0.27348786 | AA14: =(W14*(T14*U14+V14)*O14+X14)/((1+T14^2)*U14+2*T14*V14) -> -0.46899516 | AB14: =(W14*O14+X14*(T14*U14+V14))/((1+T14^2)*U14+2*T14*V14) -> -1.0949681 | AC14: =M14+(1-M14)^2*N14/(1-M14*N14) -> 0.02433702 | AD14: =(1-M14)^2/(1-M14*N14)*O14 -> 0.42837486 | AE14: =AC14+Z14*(1+AB14/SQRT(Q14)+N14) -> 0.03951345 | AF14: =AD14+Z14*(AA14/SQRT(Q14)+(1+M14)*O14) -> 0.44183558 | AG14: =1-AE14-AF14 -> 0.51865097 | AI14: 650 | AJ14: 3.8700832 | AK14: 0.014559839 | AL14: =AJ14/100 -> 0.038700832 | AM14: =AK14/100 -> 0.00014559839 | AO14: =(AJ14/100-AE14)^2+(AK14/100-AF14)^2 -> 0.1950907
A15: 640 | B15: 5.8303265 | C15: 18.101361 | D15: =1.32711+0.0026/(A15/1000)^2+0.00005/(A15/1000)^4 -> 1.3337557 | E15: =B15*B$1 -> 64.891534 | F15: =C15*B$1 -> 201.46815 | G15: 0.91717434 | H15: 0.01 | J15: =F15*(1-G15)/(F15*(1-G15)+E15) -> 0.20454875 | K15: =(F15*(1-G15)+E15)*H15 -> 0.81578266 | L15: =SQRT(1-1/D15^2) -> 0.66170702 | M15: =(D15-1)^2/(D15+1)^2 -> 0.020452507 | N15: =M15*EXP(-2*K15) -> 0.0040009833 | O15: =EXP(-K15) -> 0.44229303 | P15: =J15/(1-J15)*(1-M15)/(1-M15*N15) -> 0.25190935 | Q15: =4/(1+L15)^2*(1-J15)/(1-J15*L15) -> 1.3326772 | R15: =(1-M15)/(1+M15) -> 0.95991483 | S15: =R15/(1+L15) -> 0.57766791 | T15: =2*S15/SQRT(Q15) -> 1.0007964 | U15: =SINH(SQRT(Q15)*K15) -> 1.0872645 | V15: =COSH(SQRT(Q15)*K15) -> 1.4772082 | W15: =(1-2*S15)-(1+2*S15)*M15 -> -0.19941785 | X15: =(1-2*S15)*N15-(1+2*S15) -> -2.1559573 | Y15: =R15*(1-L15^2)*P15/2 -> 0.067966425 | Z15: =Y15*Q15/(Q15-1) -> 0.27226783 | AA15: =(W15*(T15*U15+V15)*O15+X15)/((1+T15^2)*U15+2*T15*V15) -> -0.46409676 | AB15: =(W15*O15+X15*(T15*U15+V15))/((1+T15^2)*U15+2*T15*V15) -> -1.0946674 | AC15: =M15+(1-M15)^2*N15/(1-M15*N15) -> 0.024291818 | AD15: =(1-M15)^2/(1-M15*N15)*O15 -> 0.42442077 | AE15: =AC15+Z15*(1+AB15/SQRT(Q15)+N15) -> 0.03947289 | AF15: =AD15+Z15*(AA15/SQRT(Q15)+(1+M15)*O15) -> 0.43784916 | AG15: =1-AE15-AF15 -> 0.52267795 | AI15: 640 | AJ15: 3.8652947 | AK15: 0.01312137 | AL15: =AJ15/100 -> 0.038652947 | AM15: =AK15/100 -> 0.0001312137 | AO15: =(AJ15/100-AE15)^2+(AK15/100-AF15)^2 -> 0.19159767
... A39: 400 | B39: 6.1574518 | C39: 21.171321 | D39: =1.32711+0.0026/(A39/1000)^2+0.00005/(A39/1000)^4 -> 1.3453131 | E39: =B39*B$1 -> 68.532439 | F39: =C39*B$1 -> 235.6368 | G39: 0.9235343 | H39: 0.01 | J39: =F39*(1-G39)/(F39*(1-G39)+E39) -> 0.20818041 | K39: =(F39*(1-G39)+E39)*H39 -> 0.86550572 | L39: =SQRT(1-1/D39^2) -> 0.66893448 | M39: =(D39-1)^2/(D39+1)^2 -> 0.021678264 | N39: =M39*EXP(-2*K39) -> 0.0038393331 | O39: =EXP(-K39) -> 0.42083867 | P39: =J39/(1-J39)*(1-M39)/(1-M39*N39) -> 0.25723583 | Q39: =4/(1+L39)^2*(1-J39)/(1-J39*L39) -> 1.3210985 | R39: =(1-M39)/(1+M39) -> 0.95756342 | S39: =R39/(1+L39) -> 0.57375735 | T39: =2*S39/SQRT(Q39) -> 0.99836801 | U39: =SINH(SQRT(Q39)*K39) -> 1.1671992 | V39: =COSH(SQRT(Q39)*K39) -> 1.5369951 | W39: =(1-2*S39)-(1+2*S39)*M39 -> -0.19406909 | X39: =(1-2*S39)*N39-(1+2*S39) -> -2.1480811 | Y39: =R39*(1-L39^2)*P39/2 -> 0.068049079 | Z39: =Y39*Q39/(Q39-1) -> 0.27997495 | AA39: =(W39*(T39*U39+V39)*O39+X39)/((1+T39^2)*U39+2*T39*V39) -> -0.43869861 | AB39: =(W39*O39+X39*(T39*U39+V39))/((1+T39^2)*U39+2*T39*V39) -> -1.0901634 | AC39: =M39+(1-M39)^2*N39/(1-M39*N39) -> 0.025353247 | AD39: =(1-M39)^2/(1-M39*N39)*O39 -> 0.40282387 | AE39: =AC39+Z39*(1+AB39/SQRT(Q39)+N39) -> 0.040855025 | AF39: =AD39+Z39*(AA39/SQRT(Q39)+(1+M39)*O39) -> 0.41634172 | AG39: =1-AE39-AF39 -> 0.54280325 | AI39: 400 | AJ39: 3.9886249 | AK39: 0.0076282112 | AL39: =AJ39/100 -> 0.039886249 | AM39: =AK39/100 -> 7.6282112e-05 | AO39: =(AJ39/100-AE39)^2+(AK39/100-AF39)^2 -> 0.17327786

Sheet Dilution1
A1: X= | B1: 55.65 | C1: g/L | AI1: dilution 1 | AK1: 55.65 | AL1: g/L
A3: l (nm) | B3: Abs,l (m2/kg) | C3: Ssca,l (m2/kg) | D3: n | E3: k (1/m) | F3: ss (1/m) | G3: g | H3: d (m) | J3: wtr | K3: ttr | L3: mc | M3: R1 | N3: Ctr | O3: Etr | P3: c | Q3: k2 | R3: g | S3: gbar | T3: j | U3: s | V3: c | W3: k1 | X3: k2 | Y3: D1 | Z3: D | AA3: A | AB3: B | AC3: R0dh | AD3: T0dh | AE3: Rdh | AF3: Tdh | AG3: Adh | AI3: l (nm) | AJ3: Rdh | AK3: Tdh | AL3: Rdh | AM3: Tdh | AO3: error
A4: 750 | B4: 0.032544083 | C4: 0.53059607 | D4: =1.32711+0.0026/(A4/1000)^2+0.00005/(A4/1000)^4 -> 1.3318902 | E4: =B4*B$1 -> 1.8110782 | F4: =C4*B$1 -> 29.527671 | G4: 0.43476565 | H4: 0.01 | J4: =F4*(1-G4)/(F4*(1-G4)+E4) -> 0.90210987 | L4: =SQRT(1-1/D4^2) -> 0.66051527 | M4: =(D4-1)^2/(D4+1)^2 -> 0.02025689 | N4: =M4*EXP(-2*K4) -> #VALUE! | O4: =EXP(-K4) -> #VALUE! | P4: =J4/(1-J4)*(1-M4)/(1-M4*N4) -> #VALUE! | Q4: =4/(1+L4)^2*(1-J4)/(1-J4*L4) -> 0.35138115 | R4: =(1-M4)/(1+M4) -> 0.96029061 | S4: =R4/(1+L4) -> 0.57830881 | T4: =2*S4/SQRT(Q4) -> 1.9511946 | U4: =SINH(SQRT(Q4)*K4) -> #VALUE! | V4: =COSH(SQRT(Q4)*K4) -> #VALUE! | W4: =(1-2*S4)-(1+2*S4)*M4 -> -0.20030399 | X4: =(1-2*S4)*N4-(1+2*S4) -> #VALUE! | Y4: =R4*(1-L4^2)*P4/2 -> #VALUE! | Z4: =Y4*Q4/(Q4-1) -> #VALUE! | AA4: =(W4*(T4*U4+V4)*O4+X4)/((1+T4^2)*U4+2*T4*V4) -> #VALUE! | AB4: =(W4*O4+X4*(T4*U4+V4))/((1+T4^2)*U4+2*T4*V4) -> #VALUE! | AC4: =M4+(1-M4)^2*N4/(1-M4*N4) -> #VALUE! | AD4: =(1-M4)^2/(1-M4*N4)*O4 -> #VALUE! | AE4: =AC4+Z4*(1+AB4/SQRT(Q4)+N4) -> #VALUE! | AF4: =AD4+Z4*(AA4/SQRT(Q4)+(1+M4)*O4) -> #VALUE! | AG4: =1-AE4-AF4 -> #VALUE! | AI4: 750 | AJ4: 32.843529 | AK4: 0.24620349 | AL4: =AJ4/100 -> 0.32843529 | AM4: =AK4/100 -> 0.0024620349 | AO4: =(AJ4/100-AE4)^2+(AK4/100-AF4)^2 -> #VALUE!
A5: 740 | B5: 0.044854658 | C5: 0.36817307 | D5: =1.32711+0.0026/(A5/1000)^2+0.00005/(A5/1000)^4 -> 1.3320247 | E5: =B5*B$1 -> 2.4961617 | F5: =C5*B$1 -> 20.488831 | G5: 0.17690293 | H5: 0.01 | J5: =F5*(1-G5)/(F5*(1-G5)+E5) -> 0.87106908 | K5: =(F5*(1-G5)+E5)*H5 -> 0.19360459 | L5: =SQRT(1-1/D5^2) -> 0.66060142 | M5: =(D5-1)^2/(D5+1)^2 -> 0.020270972 | N5: =M5*EXP(-2*K5) -> 0.013762957 | O5: =EXP(-K5) -> 0.82398365 | P5: =J5/(1-J5)*(1-M5)/(1-M5*N5) -> 6.6209861 | Q5: =4/(1+L5)^2*(1-J5)/(1-J5*L5) -> 0.44049037 | R5: =(1-M5)/(1+M5) -> 0.96026355 | S5: =R5/(1+L5) -> 0.57826251 | T5: =2*S5/SQRT(Q5) -> 1.7425563 | U5: =SINH(SQRT(Q5)*K5) -> 0.12884818 | V5: =COSH(SQRT(Q5)*K5) -> 1.0082668 | W5: =(1-2*S5)-(1+2*S5)*M5 -> -0.20023988 | X5: =(1-2*S5)*N5-(1+2*S5) -> -2.1586793 | Y5: =R5*(1-L5^2)*P5/2 -> 1.7916722 | Z5: =Y5*Q5/(Q5-1) -> -1.4105465 | AA5: =(W5*(T5*U5+V5)*O5+X5)/((1+T5^2)*U5+2*T5*V5) -> -0.58554084 | AB5: =(W5*O5+X5*(T5*U5+V5))/((1+T5^2)*U5+2*T5*V5) -> -0.70059082 | AC5: =M5+(1-M5)^2*N5/(1-M5*N5) -> 0.033485294 | AD5: =(1-M5)^2/(1-M5*N5)*O5 -> 0.79113706 | AE5: =AC5+Z5*(1+AB5/SQRT(Q5)+N5) -> 0.092487599 | AF5: =AD5+Z5*(AA5/SQRT(Q5)+(1+M5)*O5) -> 0.84975648 | AG5: =1-AE5-AF5 -> 0.057755924 | AI5: 740 | AJ5: 28.081441 | AK5: 0.094653555 | AL5: =AJ5/100 -> 0.28081441 | AM5: =AK5/100 -> 0.00094653555 | AO5: =(AJ5/100-AE5)^2+(AK5/100-AF5)^2 -> 0.7559453
A6: 730 | B6: 0.069614578 | C6: 0.62720493 | D6: =1.32711+0.0026/(A6/1000)^2+0.00005/(A6/1000)^4 -> 1.332165 | E6: =B6*B$1 -> 3.8740513 | F6: =C6*B$1 -> 34.903955 | G6: 0.54880967 | H6: 0.01 | J6: =F6*(1-G6)/(F6*(1-G6)+E6) -> 0.80256974 | K6: =(F6*(1-G6)+E6)*H6 -> 0.19622378 | L6: =SQRT(1-1/D6^2) -> 0.66069127 | M6: =(D6-1)^2/(D6+1)^2 -> 0.020285666 | N6: =M6*EXP(-2*K6) -> 0.013700974 | O6: =EXP(-K6) -> 0.8218283 | P6: =J6/(1-J6)*(1-M6)/(1-M6*N6) -> 3.983724 | Q6: =4/(1+L6)^2*(1-J6)/(1-J6*L6) -> 0.60957883 | R6: =(1-M6)/(1+M6) -> 0.96023532 | S6: =R6/(1+L6) -> 0.57821423 | T6: =2*S6/SQRT(Q6) -> 1.4811663 | U6: =SINH(SQRT(Q6)*K6) -> 0.15380277 | V6: =COSH(SQRT(Q6)*K6) -> 1.0117585 | W6: =(1-2*S6)-(1+2*S6)*M6 -> -0.20017305 | X6: =(1-2*S6)*N6-(1+2*S6) -> -2.1585717 | Y6: =R6*(1-L6^2)*P6/2 -> 1.077757 | Z6: =Y6*Q6/(Q6-1) -> -1.6827414 | AA6: =(W6*(T6*U6+V6)*O6+X6)/((1+T6^2)*U6+2*T6*V6) -> -0.6772439 | AB6: =(W6*O6+X6*(T6*U6+V6))/((1+T6^2)*U6+2*T6*V6) -> -0.81418674 | AC6: =M6+(1-M6)^2*N6/(1-M6*N6) -> 0.033440067 | AD6: =(1-M6)^2/(1-M6*N6)*O6 -> 0.78904313 | AE6: =AC6+Z6*(1+AB6/SQRT(Q6)+N6) -> 0.082438781 | AF6: =AD6+Z6*(AA6/SQRT(Q6)+(1+M6)*O6) -> 0.83771107 | AG6: =1-AE6-AF6 -> 0.079850148 | AI6: 730 | AJ6: 21.068002 | AK6: 0.028878632 | AL6: =AJ6/100 -> 0.21068002 | AM6: =AK6/100 -> 0.00028878632 | AO6: =(AJ6/100-AE6)^2+(AK6/100-AF6)^2 -> 0.7177219
A7: 720 | B7: 0.1225055 | C7: 0.74042134 | D7: =1.32711+0.0026/(A7/1000)^2+0.00005/(A7/1000)^4 -> 1.3323115 | E7: =B7*B$1 -> 6.8174311 | F7: =C7*B$1 -> 41.204448 | G7: 0.69612055 | H7: 0.01 | J7: =F7*(1-G7)/(F7*(1-G7)+E7) -> 0.64747058 | K7: =(F7*(1-G7)+E7)*H7 -> 0.19338616 | L7: =SQRT(1-1/D7^2) -> 0.66078501 | M7: =(D7-1)^2/(D7+1)^2 -> 0.020301008 | N7: =M7*EXP(-2*K7) -> 0.013789373 | O7: =EXP(-K7) -> 0.82416366 | P7: =J7/(1-J7)*(1-M7)/(1-M7*N7) -> 1.7998608 | Q7: =4/(1+L7)^2*(1-J7)/(1-J7*L7) -> 0.89353211 | R7: =(1-M7)/(1+M7) -> 0.96020585 | S7: =R7/(1+L7) -> 0.57816385 | T7: =2*S7/SQRT(Q7) -> 1.2232799 | U7: =SINH(SQRT(Q7)*K7) -> 0.1838216 | V7: =COSH(SQRT(Q7)*K7) -> 1.0167548 | W7: =(1-2*S7)-(1+2*S7)*M7 -> -0.20010332 | X7: =(1-2*S7)*N7-(1+2*S7) -> -2.1584834 | Y7: =R7*(1-L7^2)*P7/2 -> 0.4868125 | Z7: =Y7*Q7/(Q7-1) -> -4.0855757 | AA7: =(W7*(T7*U7+V7)*O7+X7)/((1+T7^2)*U7+2*T7*V7) -> -0.80206747 | AB7: =(W7*O7+X7*(T7*U7+V7))/((1+T7^2)*U7+2*T7*V7) -> -0.96554762 | AC7: =M7+(1-M7)^2*N7/(1-M7*N7) -> 0.033539894 | AD7: =(1-M7)^2/(1-M7*N7)*O7 -> 0.79126212 | AE7: =AC7+Z7*(1+AB7/SQRT(Q7)+N7) -> 0.064852405 | AF7: =AD7+Z7*(AA7/SQRT(Q7)+(1+M7)*O7) -> 0.82236459 | AG7: =1-AE7-AF7 -> 0.112783 | AI7: 720 | AJ7: 12.667162 | AK7: 0.008984646 | AL7: =AJ7/100 -> 0.12667162 | AM7: =AK7/100 -> 8.984646e-05 | AO7: =(AJ7/100-AE7)^2+(AK7/100-AF7)^2 -> 0.67995737
A8: 710 | B8: 18.134758 | C8: 160.09549 | D8: =1.32711+0.0026/(A8/1000)^2+0.00005/(A8/1000)^4 -> 1.3324645 | E8: =B8*B$1 -> 1009.1993 | F8: =C8*B$1 -> 8909.3141 | G8: 0.91995167 | H8: 0.01 | J8: =F8*(1-G8)/(F8*(1-G8)+E8) -> 0.41406528 | K8: =(F8*(1-G8)+E8)*H8 -> 17.22375 | L8: =SQRT(1-1/D8^2) -> 0.66088288 | M8: =(D8-1)^2/(D8+1)^2 -> 0.020317038 | N8: =M8*EXP(-2*K8) -> 2.2258779e-17 | O8: =EXP(-K8) -> 3.3099426e-08 | P8: =J8/(1-J8)*(1-M8)/(1-M8*N8) -> 0.69231722 | Q8: =4/(1+L8)^2*(1-J8)/(1-J8*L8) -> 1.1697269 | R8: =(1-M8)/(1+M8) -> 0.96017505 | S8: =R8/(1+L8) -> 0.57811123 | T8: =2*S8/SQRT(Q8) -> 1.0690528 | U8: =SINH(SQRT(Q8)*K8) -> 61528563 | V8: =COSH(SQRT(Q8)*K8) -> 61528563 | W8: =(1-2*S8)-(1+2*S8)*M8 -> -0.20003052 | X8: =(1-2*S8)*N8-(1+2*S8) -> -2.1562225 | Y8: =R8*(1-L8^2)*P8/2 -> 0.18720364 | Z8: =Y8*Q8/(Q8-1) -> 1.2901736 | AA8: =(W8*(T8*U8+V8)*O8+X8)/((1+T8^2)*U8+2*T8*V8) -> -1.1386e-08 | AB8: =(W8*O8+X8*(T8*U8+V8))/((1+T8^2)*U8+2*T8*V8) -> -1.0421302 | AC8: =M8+(1-M8)^2*N8/(1-M8*N8) -> 0.020317038 | AD8: =(1-M8)^2/(1-M8*N8)*O8 -> 3.1768125e-08 | AE8: =AC8+Z8*(1+AB8/SQRT(Q8)+N8) -> 0.067328132 | AF8: =AD8+Z8*(AA8/SQRT(Q8)+(1+M8)*O8) -> 6.1757332e-08 | AG8: =1-AE8-AF8 -> 0.93267181 | AI8: 710 | AJ8: 6.7328134 | AK8: 0.00221083 | AL8: =AJ8/100 -> 0.067328134 | AM8: =AK8/100 -> 2.21083e-05 | AO8: =(AJ8/100-AE8)^2+(AK8/100-AF8)^2 -> 4.8605004e-10
A9: 700 | B9: 0.25756466 | C9: 0.57595623 | D9: =1.32711+0.0026/(A9/1000)^2+0.00005/(A9/1000)^4 -> 1.3326244 | E9: =B9*B$1 -> 14.333473 | F9: =C9*B$1 -> 32.051964 | G9: 0.84078765 | H9: 0.01 | J9: =F9*(1-G9)/(F9*(1-G9)+E9) -> 0.26255023 | K9: =(F9*(1-G9)+E9)*H9 -> 0.19436542 | L9: =SQRT(1-1/D9^2) -> 0.66098512 | M9: =(D9-1)^2/(D9+1)^2 -> 0.020333798 | N9: =M9*EXP(-2*K9) -> 0.013784622 | O9: =EXP(-K9) -> 0.82335698 | P9: =J9/(1-J9)*(1-M9)/(1-M9*N9) -> 0.34888301 | Q9: =4/(1+L9)^2*(1-J9)/(1-J9*L9) -> 1.2937193 | R9: =(1-M9)/(1+M9) -> 0.96014285 | S9: =R9/(1+L9) -> 0.57805626 | T9: =2*S9/SQRT(Q9) -> 1.0164361 | U9: =SINH(SQRT(Q9)*K9) -> 0.2228799 | V9: =COSH(SQRT(Q9)*K9) -> 1.0245367 | W9: =(1-2*S9)-(1+2*S9)*M9 -> -0.19995448 | X9: =(1-2*S9)*N9-(1+2*S9) -> -2.1582645 | Y9: =R9*(1-L9^2)*P9/2 -> 0.0943127 | Z9: =Y9*Q9/(Q9-1) -> 0.41541077 | AA9: =(W9*(T9*U9+V9)*O9+X9)/((1+T9^2)*U9+2*T9*V9) -> -0.93230642 | AB9: =(W9*O9+X9*(T9*U9+V9))/((1+T9^2)*U9+2*T9*V9) -> -1.1296962 | AC9: =M9+(1-M9)^2*N9/(1-M9*N9) -> 0.033567241 | AD9: =(1-M9)^2/(1-M9*N9)*O9 -> 0.79043501 | AE9: =AC9+Z9*(1+AB9/SQRT(Q9)+N9) -> 0.042113629 | AF9: =AD9+Z9*(AA9/SQRT(Q9)+(1+M9)*O9) -> 0.79892173 | AG9: =1-AE9-AF9 -> 0.15896464 | AI9: 700 | AJ9: 4.5216374 | AK9: 0.0025030755 | AL9: =AJ9/100 -> 0.045216374 | AM9: =AK9/100 -> 2.5030755e-05 | AO9: =(AJ9/100-AE9)^2+(AK9/100-AF9)^2 -> 0.63824556
A10: 690 | B10: 0.28057739 | C10: 0.57496498 | D10: =1.32711+0.0026/(A10/1000)^2+0.00005/(A10/1000)^4 -> 1.3327916 | E10: =B10*B$1 -> 15.614131 | F10: =C10*B$1 -> 31.996801 | G10: 0.85881151 | H10: 0.01 | J10: =F10*(1-G10)/(F10*(1-G10)+E10) -> 0.22440119 | K10: =(F10*(1-G10)+E10)*H10 -> 0.20131711 | L10: =SQRT(1-1/D10^2) -> 0.66109201 | M10: =(D10-1)^2/(D10+1)^2 -> 0.020351334 | N10: =M10*EXP(-2*K10) -> 0.013606018 | O10: =EXP(-K10) -> 0.8176531 | P10: =J10/(1-J10)*(1-M10)/(1-M10*N10) -> 0.2835167 | Q10: =4/(1+L10)^2*(1-J10)/(1-J10*L10) -> 1.3202267 | R10: =(1-M10)/(1+M10) -> 0.96010916 | S10: =R10/(1+L10) -> 0.57799878 | T10: =2*S10/SQRT(Q10) -> 1.0060803 | U10: =SINH(SQRT(Q10)*K10) -> 0.23338397 | V10: =COSH(SQRT(Q10)*K10) -> 1.026873 | W10: =(1-2*S10)-(1+2*S10)*M10 -> -0.19987499 | X10: =(1-2*S10)*N10-(1+2*S10) -> -2.1581201 | Y10: =R10*(1-L10^2)*P10/2 -> 0.07662046 | Z10: =Y10*Q10/(Q10-1) -> 0.31588989 | AA10: =(W10*(T10*U10+V10)*O10+X10)/((1+T10^2)*U10+2*T10*V10) -> -0.93235623 | AB10: =(W10*O10+X10*(T10*U10+V10))/((1+T10^2)*U10+2*T10*V10) -> -1.1381899 | AC10: =M10+(1-M10)^2*N10/(1-M10*N10) -> 0.033412803 | AD10: =(1-M10)^2/(1-M10*N10)*O10 -> 0.78492844 | AE10: =AC10+Z10*(1+AB10/SQRT(Q10)+N10) -> 0.040685828 | AF10: =AD10+Z10*(AA10/SQRT(Q10)+(1+M10)*O10) -> 0.79214689 | AG10: =1-AE10-AF10 -> 0.16716728 | AI10: 690 | AJ10: 4.0766184 | AK10: 0.0015901284 | AL10: =AJ10/100 -> 0.040766184 | AM10: =AK10/100 -> 1.5901284e-05 | AO10: =(AJ10/100-AE10)^2+(AK10/100-AF10)^2 -> 0.62747151
A11: 680 | B11: 0.27414704 | C11: 0.4423905 | D11: =1.32711+0.0026/(A11/1000)^2+0.00005/(A11/1000)^4 -> 1.3329667 | E11: =B11*B$1 -> 15.256283 | F11: =C11*B$1 -> 24.619031 | G11: 0.82102267 | H11: 0.01 | J11: =F11*(1-G11)/(F11*(1-G11)+E11) -> 0.22409366 | K11: =(F11*(1-G11)+E11)*H11 -> 0.19662531 | L11: =SQRT(1-1/D11^2) -> 0.66120384 | M11: =(D11-1)^2/(D11+1)^2 -> 0.020369693 | N11: =M11*EXP(-2*K11) -> 0.013746683 | O11: =EXP(-K11) -> 0.82149838 | P11: =J11/(1-J11)*(1-M11)/(1-M11*N11) -> 0.28301151 | Q11: =4/(1+L11)^2*(1-J11)/(1-J11*L11) -> 1.320296 | R11: =(1-M11)/(1+M11) -> 0.9600739 | S11: =R11/(1+L11) -> 0.57793865 | T11: =2*S11/SQRT(Q11) -> 1.0059493 | U11: =SINH(SQRT(Q11)*K11) -> 0.22785762 | V11: =COSH(SQRT(Q11)*K11) -> 1.0256311 | W11: =(1-2*S11)-(1+2*S11)*M11 -> -0.19979185 | X11: =(1-2*S11)*N11-(1+2*S11) -> -2.1580201 | Y11: =R11*(1-L11^2)*P11/2 -> 0.076461036 | Z11: =Y11*Q11/(Q11-1) -> 0.31518093 | AA11: =(W11*(T11*U11+V11)*O11+X11)/((1+T11^2)*U11+2*T11*V11) -> -0.93737894 | AB11: =(W11*O11+X11*(T11*U11+V11))/((1+T11^2)*U11+2*T11*V11) -> -1.1388666 | AC11: =M11+(1-M11)^2*N11/(1-M11*N11) -> 0.033565744 | AD11: =(1-M11)^2/(1-M11*N11)*O11 -> 0.78859272 | AE11: =AC11+Z11*(1+AB11/SQRT(Q11)+N11) -> 0.040689356 | AF11: =AD11+Z11*(AA11/SQRT(Q11)+(1+M11)*O11) -> 0.79566534 | AG11: =1-AE11-AF11 -> 0.1636453 | AI11: 680 | AJ11: 4.074549 | AK11: 0.00200738 | AL11: =AJ11/100 -> 0.04074549 | AM11: =AK11/100 -> 2.00738e-05 | AO11: =(AJ11/100-AE11)^2+(AK11/100-AF11)^2 -> 0.6330514
A12: 670 | B12: 0.27520987 | C12: 0.62420392 | D12: =1.32711+0.0026/(A12/1000)^2+0.00005/(A12/1000)^4 -> 1.3331501 | E12: =B12*B$1 -> 15.315429 | F12: =C12*B$1 -> 34.736948 | G12: 0.87475592 | H12: 0.01 | J12: =F12*(1-G12)/(F12*(1-G12)+E12) -> 0.221224 | K12: =(F12*(1-G12)+E12)*H12 -> 0.19666026 | L12: =SQRT(1-1/D12^2) -> 0.6613209 | M12: =(D12-1)^2/(D12+1)^2 -> 0.020388931 | N12: =M12*EXP(-2*K12) -> 0.013758704 | O12: =EXP(-K12) -> 0.82146967 | P12: =J12/(1-J12)*(1-M12)/(1-M12*N12) -> 0.27835256 | Q12: =4/(1+L12)^2*(1-J12)/(1-J12*L12) -> 1.3220876 | R12: =(1-M12)/(1+M12) -> 0.96003694 | S12: =R12/(1+L12) -> 0.57787568 | T12: =2*S12/SQRT(Q12) -> 1.0051579 | U12: =SINH(SQRT(Q12)*K12) -> 0.228056 | V12: =COSH(SQRT(Q12)*K12) -> 1.0256752 | W12: =(1-2*S12)-(1+2*S12)*M12 -> -0.19970482 | X12: =(1-2*S12)*N12-(1+2*S12) -> -2.1578943 | Y12: =R12*(1-L12^2)*P12/2 -> 0.075178749 | Z12: =Y12*Q12/(Q12-1) -> 0.30858961 | AA12: =(W12*(T12*U12+V12)*O12+X12)/((1+T12^2)*U12+2*T12*V12) -> -0.93785198 | AB12: =(W12*O12+X12*(T12*U12+V12))/((1+T12^2)*U12+2*T12*V12) -> -1.1395045 | AC12: =M12+(1-M12)^2*N12/(1-M12*N12) -> 0.033596008 | AD12: =(1-M12)^2/(1-M12*N12)*O12 -> 0.78853459 | AE12: =AC12+Z12*(1+AB12/SQRT(Q12)+N12) -> 0.04061046 | AF12: =AD12+Z12*(AA12/SQRT(Q12)+(1+M12)*O12) -> 0.79549881 | AG12: =1-AE12-AF12 -> 0.16389073 | AI12: 670 | AJ12: 4.0436437 | AK12: 0.0020662817 | AL12: =AJ12/100 -> 0.040436437 | AM12: =AK12/100 -> 2.0662817e-05 | AO12: =(AJ12/100-AE12)^2+(AK12/100-AF12)^2 -> 0.63278552
A13: 660 | B13: 17.902876 | C13: 160.85059 | D13: =1.32711+0.0026/(A13/1000)^2+0.00005/(A13/1000)^4 -> 1.3333423 | E13: =B13*B$1 -> 996.29504 | F13: =C13*B$1 -> 8951.3351 | G13: 0.96920458 | H13: 0.01 | J13: =F13*(1-G13)/(F13*(1-G13)+E13) -> 0.2167216 | K13: =(F13*(1-G13)+E13)*H13 -> 12.719552 | L13: =SQRT(1-1/D13^2) -> 0.66144354 | M13: =(D13-1)^2/(D13+1)^2 -> 0.020409103 | N13: =M13*EXP(-2*K13) -> 1.8270958e-13 | O13: =EXP(-K13) -> 2.992049e-06 | P13: =J13/(1-J13)*(1-M13)/(1-M13*N13) -> 0.27103838 | Q13: =4/(1+L13)^2*(1-J13)/(1-J13*L13) -> 1.3249549 | R13: =(1-M13)/(1+M13) -> 0.95999819 | S13: =R13/(1+L13) -> 0.5778097 | T13: =2*S13/SQRT(Q13) -> 1.0039551 | U13: =SINH(SQRT(Q13)*K13) -> 1141561.5 | V13: =COSH(SQRT(Q13)*K13) -> 1141561.5 | W13: =(1-2*S13)-(1+2*S13)*M13 -> -0.19961366 | X13: =(1-2*S13)*N13-(1+2*S13) -> -2.1556194 | Y13: =R13*(1-L13^2)*P13/2 -> 0.073179241 | Z13: =Y13*Q13/(Q13-1) -> 0.29837739 | AA13: =(W13*(T13*U13+V13)*O13+X13)/((1+T13^2)*U13+2*T13*V13) -> -7.6825291e-07 | AB13: =(W13*O13+X13*(T13*U13+V13))/((1+T13^2)*U13+2*T13*V13) -> -1.0756825 | AC13: =M13+(1-M13)^2*N13/(1-M13*N13) -> 0.020409103 | AD13: =(1-M13)^2/(1-M13*N13)*O13 -> 2.8711652e-06 | AE13: =AC13+Z13*(1+AB13/SQRT(Q13)+N13) -> 0.039950093 | AF13: =AD13+Z13*(AA13/SQRT(Q13)+(1+M13)*O13) -> 3.5830003e-06 | AG13: =1-AE13-AF13 -> 0.96004632 | AI13: 660 | AJ13: 3.9950113 | AK13: 0.0025550176 | AL13: =AJ13/100 -> 0.039950113 | AM13: =AK13/100 -> 2.5550176e-05 | AO13: =(AJ13/100-AE13)^2+(AK13/100-AF13)^2 -> 4.8255724e-10
A14: 650 | B14: 0.30157652 | C14: 0.62730818 | D14: =1.32711+0.0026/(A14/1000)^2+0.00005/(A14/1000)^4 -> 1.3335439 | E14: =B14*B$1 -> 16.782733 | F14: =C14*B$1 -> 34.9097 | G14: 0.86718217 | H14: 0.01 | J14: =F14*(1-G14)/(F14*(1-G14)+E14) -> 0.21646911 | K14: =(F14*(1-G14)+E14)*H14 -> 0.21419364 | L14: =SQRT(1-1/D14^2) -> 0.66157212 | M14: =(D14-1)^2/(D14+1)^2 -> 0.020430273 | N14: =M14*EXP(-2*K14) -> 0.013311529 | O14: =EXP(-K14) -> 0.80719206 | P14: =J14/(1-J14)*(1-M14)/(1-M14*N14) -> 0.27070313 | Q14: =4/(1+L14)^2*(1-J14)/(1-J14*L14) -> 1.3249616 | R14: =(1-M14)/(1+M14) -> 0.95995753 | S14: =R14/(1+L14) -> 0.57774052 | T14: =2*S14/SQRT(Q14) -> 1.0038323 | U14: =SINH(SQRT(Q14)*K14) -> 0.24905732 | V14: =COSH(SQRT(Q14)*K14) -> 1.0305482 | W14: =(1-2*S14)-(1+2*S14)*M14 -> -0.1995181 | X14: =(1-2*S14)*N14-(1+2*S14) -> -2.1575507 | Y14: =R14*(1-L14^2)*P14/2 -> 0.073063529 | Z14: =Y14*Q14/(Q14-1) -> 0.29790094 | AA14: =(W14*(T14*U14+V14)*O14+X14)/((1+T14^2)*U14+2*T14*V14) -> -0.92011039 | AB14: =(W14*O14+X14*(T14*U14+V14))/((1+T14^2)*U14+2*T14*V14) -> -1.138146 | AC14: =M14+(1-M14)^2*N14/(1-M14*N14) -> 0.033206916 | AD14: =(1-M14)^2/(1-M14*N14)*O14 -> 0.77475738 | AE14: =AC14+Z14*(1+AB14/SQRT(Q14)+N14) -> 0.040517152 | AF14: =AD14+Z14*(AA14/SQRT(Q14)+(1+M14)*O14) -> 0.78200555 | AG14: =1-AE14-AF14 -> 0.1774773 | AI14: 650 | AJ14: 3.9935607 | AK14: 0.0016622491 | AL14: =AJ14/100 -> 0.039935607 | AM14: =AK14/100 -> 1.6622491e-05 | AO14: =(AJ14/100-AE14)^2+(AK14/100-AF14)^2 -> 0.61150702
A15: 640 | B15: 0.28253746 | C15: 0.80350818 | D15: =1.32711+0.0026/(A15/1000)^2+0.00005/(A15/1000)^4 -> 1.3337557 | E15: =B15*B$1 -> 15.72321 | F15: =C15*B$1 -> 44.71523 | G15: 0.90397682 | H15: 0.01 | J15: =F15*(1-G15)/(F15*(1-G15)+E15) -> 0.21450359 | K15: =(F15*(1-G15)+E15)*H15 -> 0.20016908 | L15: =SQRT(1-1/D15^2) -> 0.66170702 | M15: =(D15-1)^2/(D15+1)^2 -> 0.020452507 | N15: =M15*EXP(-2*K15) -> 0.01370509 | O15: =EXP(-K15) -> 0.81859233 | P15: =J15/(1-J15)*(1-M15)/(1-M15*N15) -> 0.26757011 | Q15: =4/(1+L15)^2*(1-J15)/(1-J15*L15) -> 1.3261019 | R15: =(1-M15)/(1+M15) -> 0.95991483 | S15: =R15/(1+L15) -> 0.57766791 | T15: =2*S15/SQRT(Q15) -> 1.0032746 | U15: =SINH(SQRT(Q15)*K15) -> 0.23255442 | V15: =COSH(SQRT(Q15)*K15) -> 1.0266847 | W15: =(1-2*S15)-(1+2*S15)*M15 -> -0.19941785 | X15: =(1-2*S15)*N15-(1+2*S15) -> -2.1574647 | Y15: =R15*(1-L15^2)*P15/2 -> 0.072191778 | Z15: =Y15*Q15/(Q15-1) -> 0.29356978 | AA15: =(W15*(T15*U15+V15)*O15+X15)/((1+T15^2)*U15+2*T15*V15) -> -0.9352609 | AB15: =(W15*O15+X15*(T15*U15+V15))/((1+T15^2)*U15+2*T15*V15) -> -1.1404667 | AC15: =M15+(1-M15)^2*N15/(1-M15*N15) -> 0.03360641 | AD15: =(1-M15)^2/(1-M15*N15)*O15 -> 0.78567045 | AE15: =AC15+Z15*(1+AB15/SQRT(Q15)+N15) -> 0.040459093 | AF15: =AD15+Z15*(AA15/SQRT(Q15)+(1+M15)*O15) -> 0.7924723 | AG15: =1-AE15-AF15 -> 0.1670686 | AI15: 640 | AJ15: 3.9733919 | AK15: 0.0016303059 | AL15: =AJ15/100 -> 0.039733919 | AM15: =AK15/100 -> 1.6303059e-05 | AO15: =(AJ15/100-AE15)^2+(AK15/100-AF15)^2 -> 0.62798704
A16: 630 | B16: 0.30884079 | C16: 0.54406455 | D16: =1.32711+0.0026/(A16/1000)^2+0.00005/(A16/1000)^4 -> 1.3339782 | E16: =B16*B$1 -> 17.18699 | F16: =C16*B$1 -> 30.277192 | G16: 0.84475801 | H16: 0.01 | J16: =F16*(1-G16)/(F16*(1-G16)+E16) -> 0.2147499 | K16: =(F16*(1-G16)+E16)*H16 -> 0.21887282 | L16: =SQRT(1-1/D16^2) -> 0.66184869 | M16: =(D16-1)^2/(D16+1)^2 -> 0.02047588 | N16: =M16*EXP(-2*K16) -> 0.013216975 | O16: =EXP(-K16) -> 0.80342389 | P16: =J16/(1-J16)*(1-M16)/(1-M16*N16) -> 0.2679524 | Q16: =4/(1+L16)^2*(1-J16)/(1-J16*L16) -> 1.3257589 | R16: =(1-M16)/(1+M16) -> 0.95986994 | S16: =R16/(1+L16) -> 0.57759166 | T16: =2*S16/SQRT(Q16) -> 1.0032719 | U16: =SINH(SQRT(Q16)*K16) -> 0.25468975 | V16: =COSH(SQRT(Q16)*K16) -> 1.0319239 | W16: =(1-2*S16)-(1+2*S16)*M16 -> -0.19931259 | X16: =(1-2*S16)*N16-(1+2*S16) -> -2.1572344 | Y16: =R16*(1-L16^2)*P16/2 -> 0.072267428 | Z16: =Y16*Q16/(Q16-1) -> 0.29411075 | AA16: =(W16*(T16*U16+V16)*O16+X16)/((1+T16^2)*U16+2*T16*V16) -> -0.91545993 | AB16: =(W16*O16+X16*(T16*U16+V16))/((1+T16^2)*U16+2*T16*V16) -> -1.137822 | AC16: =M16+(1-M16)^2*N16/(1-M16*N16) -> 0.033160571 | AD16: =(1-M16)^2/(1-M16*N16)*O16 -> 0.77106779 | AE16: =AC16+Z16*(1+AB16/SQRT(Q16)+N16) -> 0.040520205 | AF16: =AD16+Z16*(AA16/SQRT(Q16)+(1+M16)*O16) -> 0.7783622 | AG16: =1-AE16-AF16 -> 0.18111759 | AI16: 630 | AJ16: 3.9778438 | AK16: 0.00061829123 | AL16: =AJ16/100 -> 0.039778438 | AM16: =AK16/100 -> 6.1829123e-06 | AO16: =(AJ16/100-AE16)^2+(AK16/100-AF16)^2 -> 0.60583864
... A26: 530 | B26: 0.26799112 | C26: 0.74580844 | D26: =1.32711+0.0026/(A26/1000)^2+0.00005/(A26/1000)^4 -> 1.3369996 | E26: =B26*B$1 -> 14.913706 | F26: =C26*B$1 -> 41.504239 | G26: 0.87279539 | H26: 0.01 | J26: =F26*(1-G26)/(F26*(1-G26)+E26) -> 0.26145044 | K26: =(F26*(1-G26)+E26)*H26 -> 0.20193237 | L26: =SQRT(1-1/D26^2) -> 0.66376256 | M26: =(D26-1)^2/(D26+1)^2 -> 0.020794169 | N26: =M26*EXP(-2*K26) -> 0.013884983 | O26: =EXP(-K26) -> 0.81715019 | P26: =J26/(1-J26)*(1-M26)/(1-M26*N26) -> 0.34674415 | Q26: =4/(1+L26)^2*(1-J26)/(1-J26*L26) -> 1.2913252 | R26: =(1-M26)/(1+M26) -> 0.95925884 | S26: =R26/(1+L26) -> 0.57655994 | T26: =2*S26/SQRT(Q26) -> 1.0147443 | U26: =SINH(SQRT(Q26)*K26) -> 0.23148798 | V26: =COSH(SQRT(Q26)*K26) -> 1.0264437 | W26: =(1-2*S26)-(1+2*S26)*M26 -> -0.19789222 | X26: =(1-2*S26)*N26-(1+2*S26) -> -2.1552459 | Y26: =R26*(1-L26^2)*P26/2 -> 0.093036287 | Z26: =Y26*Q26/(Q26-1) -> 0.4123917 | AA26: =(W26*(T26*U26+V26)*O26+X26)/((1+T26^2)*U26+2*T26*V26) -> -0.92409214 | AB26: =(W26*O26+X26*(T26*U26+V26))/((1+T26^2)*U26+2*T26*V26) -> -1.1281655 | AC26: =M26+(1-M26)^2*N26/(1-M26*N26) -> 0.034111548 | AD26: =(1-M26)^2/(1-M26*N26)*O26 -> 0.7837459 | AE26: =AC26+Z26*(1+AB26/SQRT(Q26)+N26) -> 0.042813216 | AF26: =AD26+Z26*(AA26/SQRT(Q26)+(1+M26)*O26) -> 0.7923822 | AG26: =1-AE26-AF26 -> 0.16480459 | AI26: 530 | AJ26: 4.5348668 | AK26: 0.0015848008 | AL26: =AJ26/100 -> 0.045348668 | AM26: =AK26/100 -> 1.5848008e-05 | AO26: =(AJ26/100-AE26)^2+(AK26/100-AF26)^2 -> 0.62785086
A27: 520 | B27: 0.2992727 | C27: 0.52485235 | D27: =1.32711+0.0026/(A27/1000)^2+0.00005/(A27/1000)^4 -> 1.3374092 | E27: =B27*B$1 -> 16.654526 | F27: =C27*B$1 -> 29.208033 | G27: 0.81659711 | H27: 0.01 | J27: =F27*(1-G27)/(F27*(1-G27)+E27) -> 0.24336692 | K27: =(F27*(1-G27)+E27)*H27 -> 0.22011363 | L27: =SQRT(1-1/D27^2) -> 0.66402058 | M27: =(D27-1)^2/(D27+1)^2 -> 0.020837442 | N27: =M27*EXP(-2*K27) -> 0.013417022 | O27: =EXP(-K27) -> 0.80242761 | P27: s | Q27: =4/(1+L27)^2*(1-J27)/(1-J27*L27) -> 1.303698 | R27: =(1-M27)/(1+M27) -> 0.95917579 | S27: =R27/(1+L27) -> 0.57642063 | T27: =2*S27/SQRT(Q27) -> 1.0096736 | U27: =SINH(SQRT(Q27)*K27) -> 0.25397901 | V27: =COSH(SQRT(Q27)*K27) -> 1.0317487 | W27: =(1-2*S27)-(1+2*S27)*M27 -> -0.19770096 | X27: =(1-2*S27)*N27-(1+2*S27) -> -2.1548919 | Y27: =R27*(1-L27^2)*P27/2 -> #VALUE! | Z27: =Y27*Q27/(Q27-1) -> #VALUE! | AA27: =(W27*(T27*U27+V27)*O27+X27)/((1+T27^2)*U27+2*T27*V27) -> -0.90867811 | AB27: =(W27*O27+X27*(T27*U27+V27))/((1+T27^2)*U27+2*T27*V27) -> -1.1302537 | AC27: =M27+(1-M27)^2*N27/(1-M27*N27) -> 0.033704734 | AD27: =(1-M27)^2/(1-M27*N27)*O27 -> 0.76955009 | AE27: =AC27+Z27*(1+AB27/SQRT(Q27)+N27) -> #VALUE! | AF27: =AD27+Z27*(AA27/SQRT(Q27)+(1+M27)*O27) -> #VALUE! | AG27: =1-AE27-AF27 -> #VALUE! | AI27: 520 | AJ27: 4.3238616 | AK27: 0.00069252392 | AL27: =AJ27/100 -> 0.043238616 | AM27: =AK27/100 -> 6.9252392e-06 | AO27: =(AJ27/100-AE27)^2+(AK27/100-AF27)^2 -> #VALUE!
A28: 510 | B28: 0.28675156 | C28: 0.76188173 | D28: =1.32711+0.0026/(A28/1000)^2+0.00005/(A28/1000)^4 -> 1.3378452 | E28: =B28*B$1 -> 15.957724 | F28: =C28*B$1 -> 42.398718 | G28: 0.8919884 | H28: 0.01 | J28: =F28*(1-G28)/(F28*(1-G28)+E28) -> 0.22298736 | K28: =(F28*(1-G28)+E28)*H28 -> 0.20537278 | L28: =SQRT(1-1/D28^2) -> 0.66429487 | M28: =(D28-1)^2/(D28+1)^2 -> 0.020883538 | N28: =M28*EXP(-2*K28) -> 0.013849036 | O28: =EXP(-K28) -> 0.81434369 | P28: =J28/(1-J28)*(1-M28)/(1-M28*N28) -> 0.28106848 | Q28: =4/(1+L28)^2*(1-J28)/(1-J28*L28) -> 1.3172065 | R28: =(1-M28)/(1+M28) -> 0.95908733 | S28: =R28/(1+L28) -> 0.57627248 | T28: =2*S28/SQRT(Q28) -> 1.0042248 | U28: =SINH(SQRT(Q28)*K28) -> 0.23789414 | V28: =COSH(SQRT(Q28)*K28) -> 1.0279074 | W28: =(1-2*S28)-(1+2*S28)*M28 -> -0.1974977 | X28: =(1-2*S28)*N28-(1+2*S28) -> -2.1546576 | Y28: =R28*(1-L28^2)*P28/2 -> 0.07530582 | Z28: =Y28*Q28/(Q28-1) -> 0.31270894 | AA28: =(W28*(T28*U28+V28)*O28+X28)/((1+T28^2)*U28+2*T28*V28) -> -0.92766264 | AB28: =(W28*O28+X28*(T28*U28+V28))/((1+T28^2)*U28+2*T28*V28) -> -1.1369084 | AC28: =M28+(1-M28)^2*N28/(1-M28*N28) -> 0.034164021 | AD28: =(1-M28)^2/(1-M28*N28)*O28 -> 0.78091194 | AE28: =AC28+Z28*(1+AB28/SQRT(Q28)+N28) -> 0.041434051 | AF28: =AD28+Z28*(AA28/SQRT(Q28)+(1+M28)*O28) -> 0.7881254 | AG28: =1-AE28-AF28 -> 0.17044054 | AI28: 510 | AJ28: 4.0955257 | AK28: 0.0011563608 | AL28: =AJ28/100 -> 0.040955257 | AM28: =AK28/100 -> 1.1563608e-05 | AO28: =(AJ28/100-AE28)^2+(AK28/100-AF28)^2 -> 0.62112366
A29: 500 | B29: 0.30489021 | C29: 0.53028393 | D29: =1.32711+0.0026/(A29/1000)^2+0.00005/(A29/1000)^4 -> 1.33831 | E29: =B29*B$1 -> 16.96714 | F29: =C29*B$1 -> 29.510301 | G29: 0.84434178 | H29: 0.01 | J29: =F29*(1-G29)/(F29*(1-G29)+E29) -> 0.21305103 | K29: =(F29*(1-G29)+E29)*H29 -> 0.21560661 | L29: =SQRT(1-1/D29^2) -> 0.66458684 | M29: =(D29-1)^2/(D29+1)^2 -> 0.020932712 | N29: =M29*EXP(-2*K29) -> 0.013600409 | O29: =EXP(-K29) -> 0.80605233 | P29: =J29/(1-J29)*(1-M29)/(1-M29*N29) -> 0.26513878 | Q29: =4/(1+L29)^2*(1-J29)/(1-J29*L29) -> 1.323425 | R29: =(1-M29)/(1+M29) -> 0.95899296 | S29: =R29/(1+L29) -> 0.57611471 | T29: =2*S29/SQRT(Q29) -> 1.0015884 | U29: =SINH(SQRT(Q29)*K29) -> 0.25058536 | V29: =COSH(SQRT(Q29)*K29) -> 1.0309185 | W29: =(1-2*S29)-(1+2*S29)*M29 -> -0.19728142 | X29: =(1-2*S29)*N29-(1+2*S29) -> -2.1542998 | Y29: =R29*(1-L29^2)*P29/2 -> 0.070981511 | Z29: =Y29*Q29/(Q29-1) -> 0.29044972 | AA29: =(W29*(T29*U29+V29)*O29+X29)/((1+T29^2)*U29+2*T29*V29) -> -0.91861072 | AB29: =(W29*O29+X29*(T29*U29+V29))/((1+T29^2)*U29+2*T29*V29) -> -1.137721 | AC29: =M29+(1-M29)^2*N29/(1-M29*N29) -> 0.033973406 | AD29: =(1-M29)^2/(1-M29*N29)*O29 -> 0.77287984 | AE29: =AC29+Z29*(1+AB29/SQRT(Q29)+N29) -> 0.041125333 | AF29: =AD29+Z29*(AA29/SQRT(Q29)+(1+M29)*O29) -> 0.77997043 | AG29: =1-AE29-AF29 -> 0.17890423 | AI29: 500 | AJ29: 3.9898376 | AK29: 0.00076422461 | AL29: =AJ29/100 -> 0.039898376 | AM29: =AK29/100 -> 7.6422461e-06 | AO29: =(AJ29/100-AE29)^2+(AK29/100-AF29)^2 -> 0.60834346
A30: 490 | B30: 0.30964361 | C30: 0.53620891 | D30: =1.32711+0.0026/(A30/1000)^2+0.00005/(A30/1000)^4 -> 1.3388062 | E30: =B30*B$1 -> 17.231667 | F30: =C30*B$1 -> 29.840026 | G30: 0.84558788 | H30: 0.01 | J30: =F30*(1-G30)/(F30*(1-G30)+E30) -> 0.21098 | K30: =(F30*(1-G30)+E30)*H30 -> 0.21839329 | L30: =SQRT(1-1/D30^2) -> 0.66489805 | M30: =(D30-1)^2/(D30+1)^2 -> 0.020985249 | N30: =M30*EXP(-2*K30) -> 0.013558765 | O30: =EXP(-K30) -> 0.80380925 | P30: =J30/(1-J30)*(1-M30)/(1-M30*N30) -> 0.26185815 | Q30: =4/(1+L30)^2*(1-J30)/(1-J30*L30) -> 1.3243897 | R30: =(1-M30)/(1+M30) -> 0.95889216 | S30: =R30/(1+L30) -> 0.57594647 | T30: =2*S30/SQRT(Q30) -> 1.0009312 | U30: =SINH(SQRT(Q30)*K30) -> 0.25398602 | V30: =COSH(SQRT(Q30)*K30) -> 1.0317504 | W30: =(1-2*S30)-(1+2*S30)*M30 -> -0.19705096 | X30: =(1-2*S30)*N30-(1+2*S30) -> -2.1539524 | Y30: =R30*(1-L30^2)*P30/2 -> 0.070043925 | Z30: =Y30*Q30/(Q30-1) -> 0.2859692 | AA30: =(W30*(T30*U30+V30)*O30+X30)/((1+T30^2)*U30+2*T30*V30) -> -0.91599095 | AB30: =(W30*O30+X30*(T30*U30+V30))/((1+T30^2)*U30+2*T30*V30) -> -1.1377104 | AC30: =M30+(1-M30)^2*N30/(1-M30*N30) -> 0.033984615 | AD30: =(1-M30)^2/(1-M30*N30)*O30 -> 0.77064624 | AE30: =AC30+Z30*(1+AB30/SQRT(Q30)+N30) -> 0.041119956 | AF30: =AD30+Z30*(AA30/SQRT(Q30)+(1+M30)*O30) -> 0.77771881 | AG30: =1-AE30-AF30 -> 0.18116123 | AI30: 490 | AJ30: 3.9710354 | AK30: 0.00071606782 | AL30: =AJ30/100 -> 0.039710354 | AM30: =AK30/100 -> 7.1606782e-06 | AO30: =(AJ30/100-AE30)^2+(AK30/100-AF30)^2 -> 0.6048374
A31: 480 | B31: 0.29948701 | C31: 0.81736882 | D31: =1.32711+0.0026/(A31/1000)^2+0.00005/(A31/1000)^4 -> 1.3393366 | E31: =B31*B$1 -> 16.666452 | F31: =C31*B$1 -> 45.486575 | G31: 0.90231278 | H31: 0.01 | J31: =F31*(1-G31)/(F31*(1-G31)+E31) -> 0.21049153 | K31: =(F31*(1-G31)+E31)*H31 -> 0.21109909 | L31: =SQRT(1-1/D31^2) -> 0.66523024 | M31: =(D31-1)^2/(D31+1)^2 -> 0.021041468 | N31: =M31*EXP(-2*K31) -> 0.013794872 | O31: =EXP(-K31) -> 0.80969383 | P31: =J31/(1-J31)*(1-M31)/(1-M31*N31) -> 0.26107675 | Q31: =4/(1+L31)^2*(1-J31)/(1-J31*L31) -> 1.3242883 | R31: =(1-M31)/(1+M31) -> 0.9587843 | S31: =R31/(1+L31) -> 0.57576681 | T31: =2*S31/SQRT(Q31) -> 1.0006573 | U31: =SINH(SQRT(Q31)*K31) -> 0.24532446 | V31: =COSH(SQRT(Q31)*K31) -> 1.0296524 | W31: =(1-2*S31)-(1+2*S31)*M31 -> -0.19680505 | X31: =(1-2*S31)*N31-(1+2*S31) -> -2.153624 | Y31: =R31*(1-L31^2)*P31/2 -> 0.069771752 | Z31: =Y31*Q31/(Q31-1) -> 0.2849252 | AA31: =(W31*(T31*U31+V31)*O31+X31)/((1+T31^2)*U31+2*T31*V31) -> -0.92365264 | AB31: =(W31*O31+X31*(T31*U31+V31))/((1+T31^2)*U31+2*T31*V31) -> -1.1386918 | AC31: =M31+(1-M31)^2*N31/(1-M31*N31) -> 0.034265757 | AD31: =(1-M31)^2/(1-M31*N31)*O31 -> 0.77620333 | AE31: =AC31+Z31*(1+AB31/SQRT(Q31)+N31) -> 0.041188556 | AF31: =AD31+Z31*(AA31/SQRT(Q31)+(1+M31)*O31) -> 0.78306924 | AG31: =1-AE31-AF31 -> 0.1757422 | AI31: 480 | AJ31: 3.9695714 | AK31: 0.001081776 | AL31: =AJ31/100 -> 0.039695714 | AM31: =AK31/100 -> 1.081776e-05 | AO31: =(AJ31/100-AE31)^2+(AK31/100-AF31)^2 -> 0.61318272
A32: 470 | B32: 0.31534311 | C32: 0.54341267 | D32: =1.32711+0.0026/(A32/1000)^2+0.00005/(A32/1000)^4 -> 1.3399047 | E32: =B32*B$1 -> 17.548844 | F32: =C32*B$1 -> 30.240915 | G32: 0.84669204 | H32: 0.01 | J32: =F32*(1-G32)/(F32*(1-G32)+E32) -> 0.20897767 | K32: =(F32*(1-G32)+E32)*H32 -> 0.22185017 | L32: =SQRT(1-1/D32^2) -> 0.66558535 | M32: =(D32-1)^2/(D32+1)^2 -> 0.021101726 | N32: =M32*EXP(-2*K32) -> 0.013540084 | O32: =EXP(-K32) -> 0.80103537 | P32: =J32/(1-J32)*(1-M32)/(1-M32*N32) -> 0.25868593 | Q32: =4/(1+L32)^2*(1-J32)/(1-J32*L32) -> 1.3248248 | R32: =(1-M32)/(1+M32) -> 0.95866871 | S32: =R32/(1+L32) -> 0.57557465 | T32: =2*S32/SQRT(Q32) -> 1.0001207 | U32: =SINH(SQRT(Q32)*K32) -> 0.25813592 | V32: =COSH(SQRT(Q32)*K32) -> 1.0327798 | W32: =(1-2*S32)-(1+2*S32)*M32 -> -0.19654227 | X32: =(1-2*S32)*N32-(1+2*S32) -> -2.1531959 | Y32: =R32*(1-L32^2)*P32/2 -> 0.069065879 | Z32: =Y32*Q32/(Q32-1) -> 0.2816909 | AA32: =(W32*(T32*U32+V32)*O32+X32)/((1+T32^2)*U32+2*T32*V32) -> -0.9125904 | AB32: =(W32*O32+X32*(T32*U32+V32))/((1+T32^2)*U32+2*T32*V32) -> -1.1374655 | AC32: =M32+(1-M32)^2*N32/(1-M32*N32) -> 0.034080109 | AD32: =(1-M32)^2/(1-M32*N32)*O32 -> 0.76780498 | AE32: =AC32+Z32*(1+AB32/SQRT(Q32)+N32) -> 0.041209099 | AF32: =AD32+Z32*(AA32/SQRT(Q32)+(1+M32)*O32) -> 0.77486931 | AG32: =1-AE32-AF32 -> 0.18392159 | AI32: 470 | AJ32: 3.9575152 | AK32: 0.00062734429 | AL32: =AJ32/100 -> 0.039575152 | AM32: =AK32/100 -> 6.2734429e-06 | AO32: =(AJ32/100-AE32)^2+(AK32/100-AF32)^2 -> 0.6004154
A33: 460 | B33: 0.29485607 | C33: 0.78148811 | D33: =1.32711+0.0026/(A33/1000)^2+0.00005/(A33/1000)^4 -> 1.340514 | E33: =B33*B$1 -> 16.40874 | F33: =C33*B$1 -> 43.489813 | G33: 0.90060849 | H33: 0.01 | J33: =F33*(1-G33)/(F33*(1-G33)+E33) -> 0.20850245 | K33: =(F33*(1-G33)+E33)*H33 -> 0.20731259 | L33: =SQRT(1-1/D33^2) -> 0.66596556 | M33: =(D33-1)^2/(D33+1)^2 -> 0.021166427 | N33: =M33*EXP(-2*K33) -> 0.013982284 | O33: =EXP(-K33) -> 0.81276555 | P33: =J33/(1-J33)*(1-M33)/(1-M33*N33) -> 0.25792831 | Q33: =4/(1+L33)^2*(1-J33)/(1-J33*L33) -> 1.324651 | R33: =(1-M33)/(1+M33) -> 0.95854461 | S33: =R33/(1+L33) -> 0.5753688 | T33: =2*S33/SQRT(Q33) -> 0.99982863 | U33: =SINH(SQRT(Q33)*K33) -> 0.24087374 | V33: =COSH(SQRT(Q33)*K33) -> 1.0286011 | W33: =(1-2*S33)-(1+2*S33)*M33 -> -0.19626104 | X33: =(1-2*S33)*N33-(1+2*S33) -> -2.1528453 | Y33: =R33*(1-L33^2)*P33/2 -> 0.068792106 | Z33: =Y33*Q33/(Q33-1) -> 0.28068767 | AA33: =(W33*(T33*U33+V33)*O33+X33)/((1+T33^2)*U33+2*T33*V33) -> -0.92784103 | AB33: =(W33*O33+X33*(T33*U33+V33))/((1+T33^2)*U33+2*T33*V33) -> -1.1394097 | AC33: =M33+(1-M33)^2*N33/(1-M33*N33) -> 0.034567031 | AD33: =(1-M33)^2/(1-M33*N33)*O33 -> 0.77895354 | AE33: =AC33+Z33*(1+AB33/SQRT(Q33)+N33) -> 0.041302405 | AF33: =AD33+Z33*(AA33/SQRT(Q33)+(1+M33)*O33) -> 0.78563557 | AG33: =1-AE33-AF33 -> 0.17306203 | AI33: 460 | AJ33: 3.956651 | AK33: 0.0011543402 | AL33: =AJ33/100 -> 0.03956651 | AM33: =AK33/100 -> 1.1543402e-05 | AO33: =(AJ33/100-AE33)^2+(AK33/100-AF33)^2 -> 0.61720812
A34: 450 | B34: 0.30282529 | C34: 0.52253579 | D34: =1.32711+0.0026/(A34/1000)^2+0.00005/(A34/1000)^4 -> 1.3411688 | E34: =B34*B$1 -> 16.852228 | F34: =C34*B$1 -> 29.079117 | G34: 0.84774766 | H34: 0.01 | J34: =F34*(1-G34)/(F34*(1-G34)+E34) -> 0.2080568 | K34: =(F34*(1-G34)+E34)*H34 -> 0.21279591 | L34: =SQRT(1-1/D34^2) -> 0.6663733 | M34: =(D34-1)^2/(D34+1)^2 -> 0.021236025 | N34: =M34*EXP(-2*K34) -> 0.013875257 | O34: =EXP(-K34) -> 0.80832109 | P34: =J34/(1-J34)*(1-M34)/(1-M34*N34) -> 0.25721354 | Q34: =4/(1+L34)^2*(1-J34)/(1-J34*L34) -> 1.3244223 | R34: =(1-M34)/(1+M34) -> 0.95841113 | S34: =R34/(1+L34) -> 0.57514792 | T34: =2*S34/SQRT(Q34) -> 0.99953107 | U34: =SINH(SQRT(Q34)*K34) -> 0.24734825 | V34: =COSH(SQRT(Q34)*K34) -> 1.0301365 | W34: =(1-2*S34)-(1+2*S34)*M34 -> -0.19595957 | X34: =(1-2*S34)*N34-(1+2*S34) -> -2.1523812 | Y34: =R34*(1-L34^2)*P34/2 -> 0.068524959 | Z34: =Y34*Q34/(Q34-1) -> 0.27974643 | AA34: =(W34*(T34*U34+V34)*O34+X34)/((1+T34^2)*U34+2*T34*V34) -> -0.92205363 | AB34: =(W34*O34+X34*(T34*U34+V34))/((1+T34^2)*U34+2*T34*V34) -> -1.1386229 | AC34: =M34+(1-M34)^2*N34/(1-M34*N34) -> 0.034532147 | AD34: =(1-M34)^2/(1-M34*N34)*O34 -> 0.7745828 | AE34: =AC34+Z34*(1+AB34/SQRT(Q34)+N34) -> 0.041382339 | AF34: =AD34+Z34*(AA34/SQRT(Q34)+(1+M34)*O34) -> 0.78137586 | AG34: =1-AE34-AF34 -> 0.1772418 | AI34: 450 | AJ34: 3.9567554 | AK34: 0.00093107096 | AL34: =AJ34/100 -> 0.039567554 | AM34: =AK34/100 -> 9.3107096e-06 | AO34: =(AJ34/100-AE34)^2+(AK34/100-AF34)^2 -> 0.61053698
A35: 440 | B35: 16.960348 | C35: 160.3602 | D35: =1.32711+0.0026/(A35/1000)^2+0.00005/(A35/1000)^4 -> 1.3418738 | E35: =B35*B$1 -> 943.84335 | F35: =C35*B$1 -> 8924.0451 | G35: 0.97203583 | H35: 0.01 | J35: =F35*(1-G35)/(F35*(1-G35)+E35) -> 0.20911194 | K35: =(F35*(1-G35)+E35)*H35 -> 11.933969 | L35: =SQRT(1-1/D35^2) -> 0.66681132 | M35: =(D35-1)^2/(D35+1)^2 -> 0.021311037 | N35: =M35*EXP(-2*K35) -> 9.1810203e-13 | O35: =EXP(-K35) -> 6.5636163e-06 | P35: =J35/(1-J35)*(1-M35)/(1-M35*N35) -> 0.25876676 | Q35: =4/(1+L35)^2*(1-J35)/(1-J35*L35) -> 1.3231835 | R35: =(1-M35)/(1+M35) -> 0.95826729 | S35: =R35/(1+L35) -> 0.57491048 | T35: =2*S35/SQRT(Q35) -> 0.99958605 | U35: =SINH(SQRT(Q35)*K35) -> 457926 | V35: =COSH(SQRT(Q35)*K35) -> 457926 | W35: =(1-2*S35)-(1+2*S35)*M35 -> -0.19563587 | X35: =(1-2*S35)*N35-(1+2*S35) -> -2.149821 | Y35: =R35*(1-L35^2)*P35/2 -> 0.068856008 | Z35: =Y35*Q35/(Q35-1) -> 0.28191148 | AA35: =(W35*(T35*U35+V35)*O35+X35)/((1+T35^2)*U35+2*T35*V35) -> -1.816331e-06 | AB35: =(W35*O35+X35*(T35*U35+V35))/((1+T35^2)*U35+2*T35*V35) -> -1.075133 | AC35: =M35+(1-M35)^2*N35/(1-M35*N35) -> 0.021311037 | AD35: =(1-M35)^2/(1-M35*N35)*O35 -> 6.2868423e-06 | AE35: =AC35+Z35*(1+AB35/SQRT(Q35)+N35) -> 0.039732041 | AF35: =AD35+Z35*(AA35/SQRT(Q35)+(1+M35)*O35) -> 7.731493e-06 | AG35: =1-AE35-AF35 -> 0.96026023 | AI35: 440 | AJ35: 3.9732034 | AK35: 0.00043174161 | AL35: =AJ35/100 -> 0.039732034 | AM35: =AK35/100 -> 4.3174161e-06 | AO35: =(AJ35/100-AE35)^2+(AK35/100-AF35)^2 -> 1.165597e-11
A36: 430 | B36: 15.248208 | C36: 131.51261 | D36: =1.32711+0.0026/(A36/1000)^2+0.00005/(A36/1000)^4 -> 1.3426342 | E36: =B36*B$1 -> 848.56276 | F36: =C36*B$1 -> 7318.6768 | G36: 0.96942215 | H36: 0.01 | J36: =F36*(1-G36)/(F36*(1-G36)+E36) -> 0.2086902 | K36: =(F36*(1-G36)+E36)*H36 -> 10.723521 | L36: =SQRT(1-1/D36^2) -> 0.66728271 | M36: =(D36-1)^2/(D36+1)^2 -> 0.021392048 | N36: =M36*EXP(-2*K36) -> 1.0373374e-11 | O36: =EXP(-K36) -> 2.2020838e-05 | P36: =J36/(1-J36)*(1-M36)/(1-M36*N36) -> 0.25808588 | Q36: =4/(1+L36)^2*(1-J36)/(1-J36*L36) -> 1.3228595 | R36: =(1-M36)/(1+M36) -> 0.95811197 | S36: =R36/(1+L36) -> 0.57465478 | T36: =2*S36/SQRT(Q36) -> 0.99926381 | U36: =SINH(SQRT(Q36)*K36) -> 113615.86 | V36: =COSH(SQRT(Q36)*K36) -> 113615.86 | W36: =(1-2*S36)-(1+2*S36)*M36 -> -0.19528769 | X36: =(1-2*S36)*N36-(1+2*S36) -> -2.1493096 | Y36: =R36*(1-L36^2)*P36/2 -> 0.068585947 | Z36: =Y36*Q36/(Q36-1) -> 0.28101875 | AA36: =(W36*(T36*U36+V36)*O36+X36)/((1+T36^2)*U36+2*T36*V36) -> -6.8838089e-06 | AB36: =(W36*O36+X36*(T36*U36+V36))/((1+T36^2)*U36+2*T36*V36) -> -1.0750505 | AC36: =M36+(1-M36)^2*N36/(1-M36*N36) -> 0.021392048 | AD36: =(1-M36)^2/(1-M36*N36)*O36 -> 2.1088773e-05 | AE36: =AC36+Z36*(1+AB36/SQRT(Q36)+N36) -> 0.039742716 | AF36: =AD36+Z36*(AA36/SQRT(Q36)+(1+M36)*O36) -> 2.5727494e-05 | AG36: =1-AE36-AF36 -> 0.96023156 | AI36: 430 | AJ36: 3.972811 | AK36: 0.0011359058 | AL36: =AJ36/100 -> 0.03972811 | AM36: =AK36/100 -> 1.1359058e-05 | AO36: =(AJ36/100-AE36)^2+(AK36/100-AF36)^2 -> 4.197799e-10
A37: 420 | B37: 15.251062 | C37: 131.5717 | D37: =1.32711+0.0026/(A37/1000)^2+0.00005/(A37/1000)^4 -> 1.3434561 | E37: =B37*B$1 -> 848.72161 | F37: =C37*B$1 -> 7321.9651 | G37: 0.96917358 | H37: 0.01 | J37: =F37*(1-G37)/(F37*(1-G37)+E37) -> 0.21007386 | K37: =(F37*(1-G37)+E37)*H37 -> 10.744316 | L37: =SQRT(1-1/D37^2) -> 0.66779096 | M37: =(D37-1)^2/(D37+1)^2 -> 0.021479727 | N37: =M37*EXP(-2*K37) -> 9.9915853e-12 | O37: =EXP(-K37) -> 2.156765e-05 | P37: =J37/(1-J37)*(1-M37)/(1-M37*N37) -> 0.2602288 | Q37: =4/(1+L37)^2*(1-J37)/(1-J37*L37) -> 1.3213229 | R37: =(1-M37)/(1+M37) -> 0.9579439 | S37: =R37/(1+L37) -> 0.57437888 | T37: =2*S37/SQRT(Q37) -> 0.99936464 | U37: =SINH(SQRT(Q37)*K37) -> 115533.55 | V37: =COSH(SQRT(Q37)*K37) -> 115533.55 | W37: =(1-2*S37)-(1+2*S37)*M37 -> -0.19491248 | X37: =(1-2*S37)*N37-(1+2*S37) -> -2.1487578 | Y37: =R37*(1-L37^2)*P37/2 -> 0.069058716 | Z37: =Y37*Q37/(Q37-1) -> 0.28397872 | AA37: =(W37*(T37*U37+V37)*O37+X37)/((1+T37^2)*U37+2*T37*V37) -> -6.7551659e-06 | AB37: =(W37*O37+X37*(T37*U37+V37))/((1+T37^2)*U37+2*T37*V37) -> -1.0747203 | AC37: =M37+(1-M37)^2*N37/(1-M37*N37) -> 0.021479727 | AD37: =(1-M37)^2/(1-M37*N37)*O37 -> 2.0651066e-05 | AE37: =AC37+Z37*(1+AB37/SQRT(Q37)+N37) -> 0.039950962 | AF37: =AD37+Z37*(AA37/SQRT(Q37)+(1+M37)*O37) -> 2.5238528e-05 | AG37: =1-AE37-AF37 -> 0.9600238 | AI37: 420 | AJ37: 3.9934831 | AK37: 0.00079084932 | AL37: =AJ37/100 -> 0.039934831 | AM37: =AK37/100 -> 7.9084932e-06 | AO37: =(AJ37/100-AE37)^2+(AK37/100-AF37)^2 -> 5.6054391e-10
A38: 410 | B38: 15.244917 | C38: 131.55126 | D38: =1.32711+0.0026/(A38/1000)^2+0.00005/(A38/1000)^4 -> 1.3443464 | E38: =B38*B$1 -> 848.37961 | F38: =C38*B$1 -> 7320.8278 | G38: 0.96905524 | H38: 0.01 | J38: =F38*(1-G38)/(F38*(1-G38)+E38) -> 0.21075155 | K38: =(F38*(1-G38)+E38)*H38 -> 10.749208 | L38: =SQRT(1-1/D38^2) -> 0.66834005 | M38: =(D38-1)^2/(D38+1)^2 -> 0.021574839 | N38: =M38*EXP(-2*K38) -> 9.938109e-12 | O38: =EXP(-K38) -> 2.1462391e-05 | P38: =J38/(1-J38)*(1-M38)/(1-M38*N38) -> 0.26126706 | Q38: =4/(1+L38)^2*(1-J38)/(1-J38*L38) -> 1.3201931 | R38: =(1-M38)/(1+M38) -> 0.95776161 | S38: =R38/(1+L38) -> 0.57408057 | T38: =2*S38/SQRT(Q38) -> 0.99927292 | U38: =SINH(SQRT(Q38)*K38) -> 115572.85 | V38: =COSH(SQRT(Q38)*K38) -> 115572.85 | W38: =(1-2*S38)-(1+2*S38)*M38 -> -0.19450738 | X38: =(1-2*S38)*N38-(1+2*S38) -> -2.1481611 | Y38: =R38*(1-L38^2)*P38/2 -> 0.069229262 | Z38: =Y38*Q38/(Q38-1) -> 0.28544024 | AA38: =(W38*(T38*U38+V38)*O38+X38)/((1+T38^2)*U38+2*T38*V38) -> -6.7382049e-06 | AB38: =(W38*O38+X38*(T38*U38+V38))/((1+T38^2)*U38+2*T38*V38) -> -1.0744712 | AC38: =M38+(1-M38)^2*N38/(1-M38*N38) -> 0.021574839 | AD38: =(1-M38)^2/(1-M38*N38)*O38 -> 2.0546286e-05 | AE38: =AC38+Z38*(1+AB38/SQRT(Q38)+N38) -> 0.040088855 | AF38: =AD38+Z38*(AA38/SQRT(Q38)+(1+M38)*O38) -> 2.5130745e-05 | AG38: =1-AE38-AF38 -> 0.95988601 | AI38: 410 | AJ38: 4.0072515 | AK38: 0.0007290412 | AL38: =AJ38/100 -> 0.040072515 | AM38: =AK38/100 -> 7.290412e-06 | AO38: =(AJ38/100-AE38)^2+(AK38/100-AF38)^2 -> 5.8526423e-10
A39: 400 | B39: 15.941009 | C39: 150.53797 | D39: =1.32711+0.0026/(A39/1000)^2+0.00005/(A39/1000)^4 -> 1.3453131 | E39: =B39*B$1 -> 887.11714 | F39: =C39*B$1 -> 8377.4378 | G39: 0.97113618 | H39: 0.01 | J39: =F39*(1-G39)/(F39*(1-G39)+E39) -> 0.21419092 | K39: =(F39*(1-G39)+E39)*H39 -> 11.28922 | L39: =SQRT(1-1/D39^2) -> 0.66893448 | M39: =(D39-1)^2/(D39+1)^2 -> 0.021678264 | N39: =M39*EXP(-2*K39) -> 3.3910392e-12 | O39: =EXP(-K39) -> 1.2507029e-05 | P39: =J39/(1-J39)*(1-M39)/(1-M39*N39) -> 0.26666481 | Q39: =4/(1+L39)^2*(1-J39)/(1-J39*L39) -> 1.3172233 | R39: =(1-M39)/(1+M39) -> 0.95756342 | S39: =R39/(1+L39) -> 0.57375735 | T39: =2*S39/SQRT(Q39) -> 0.99983551 | U39: =SINH(SQRT(Q39)*K39) -> 211827.95 | V39: =COSH(SQRT(Q39)*K39) -> 211827.95 | W39: =(1-2*S39)-(1+2*S39)*M39 -> -0.19406909 | X39: =(1-2*S39)*N39-(1+2*S39) -> -2.1475147 | Y39: =R39*(1-L39^2)*P39/2 -> 0.07054342 | Z39: =Y39*Q39/(Q39-1) -> 0.29292123 | AA39: =(W39*(T39*U39+V39)*O39+X39)/((1+T39^2)*U39+2*T39*V39) -> -3.7486341e-06 | AB39: =(W39*O39+X39*(T39*U39+V39))/((1+T39^2)*U39+2*T39*V39) -> -1.0738457 | AC39: =M39+(1-M39)^2*N39/(1-M39*N39) -> 0.021678264 | AD39: =(1-M39)^2/(1-M39*N39)*O39 -> 1.1970645e-05 | AE39: =AC39+Z39*(1+AB39/SQRT(Q39)+N39) -> 0.040528536 | AF39: =AD39+Z39*(AA39/SQRT(Q39)+(1+M39)*O39) -> 1.4756899e-05 | AG39: =1-AE39-AF39 -> 0.95945671 | AI39: 400 | AJ39: 4.0528543 | AK39: 0.001713053 | AL39: =AJ39/100 -> 0.040528543 | AM39: =AK39/100 -> 1.713053e-05 | AO39: =(AJ39/100-AE39)^2+(AK39/100-AF39)^2 -> 5.6341778e-12
G110: 0

Sheet Dilution0
A1: X= | B1: 111.3 | C1: g/L | AI1: dilution 1 | AK1: 111.3 | AL1: g/L
A3: l (nm) | B3: Abs,l (m2/kg) | C3: Ssca,l (m2/kg) | D3: n | E3: k (1/m) | F3: ss (1/m) | G3: g | H3: d (m) | J3: wtr | K3: ttr | L3: mc | M3: R1 | N3: Ctr | O3: Etr | P3: c | Q3: k2 | R3: g | S3: gbar | T3: j | U3: s | V3: c | W3: k1 | X3: k2 | Y3: D1 | Z3: D | AA3: A | AB3: B | AC3: R0dh | AD3: T0dh | AE3: Rdh | AF3: Tdh | AG3: Adh | AI3: l (nm) | AJ3: Rdh | AK3: Tdh | AL3: Rdh | AM3: Tdh | AO3: error
A4: 750 | B4: 0.0091486569 | C4: 0.31428944 | D4: =1.32711+0.0026/(A4/1000)^2+0.00005/(A4/1000)^4 -> 1.3318902 | E4: =B4*B$1 -> 1.0182455 | F4: =C4*B$1 -> 34.980414 | G4: 0.68672602 | H4: 0.01 | J4: =F4*(1-G4)/(F4*(1-G4)+E4) -> 0.91498112 | K4: =(F4*(1-G4)+E4)*H4*B$1 -> 13.330066 | L4: =SQRT(1-1/D4^2) -> 0.66051527 | M4: =(D4-1)^2/(D4+1)^2 -> 0.02025689 | N4: =M4*EXP(-2*K4) -> 5.3484062e-14 | O4: =EXP(-K4) -> 1.6248969e-06 | P4: =J4/(1-J4)*(1-M4)/(1-M4*N4) -> 10.544087 | Q4: =4/(1+L4)^2*(1-J4)/(1-J4*L4) -> 0.31173698 | R4: =(1-M4)/(1+M4) -> 0.96029061 | S4: =R4/(1+L4) -> 0.57830881 | T4: =2*S4/SQRT(Q4) -> 2.0715511 | U4: =SINH(SQRT(Q4)*K4) -> 853.6174 | V4: =COSH(SQRT(Q4)*K4) -> 853.61799 | W4: =(1-2*S4)-(1+2*S4)*M4 -> -0.20030399 | X4: =(1-2*S4)*N4-(1+2*S4) -> -2.1566176 | Y4: =R4*(1-L4^2)*P4/2 -> 2.8539397 | Z4: =Y4*Q4/(Q4-1) -> -1.2926432 | AA4: =(W4*(T4*U4+V4)*O4+X4)/((1+T4^2)*U4+2*T4*V4) -> -0.00026789591 | AB4: =(W4*O4+X4*(T4*U4+V4))/((1+T4^2)*U4+2*T4*V4) -> -0.70212652 | AC4: =M4+(1-M4)^2*N4/(1-M4*N4) -> 0.02025689 | AD4: =(1-M4)^2/(1-M4*N4)*O4 -> 1.5597329e-06 | AE4: =AC4+Z4*(1+AB4/SQRT(Q4)+N4) -> 0.35316201 | AF4: =AD4+Z4*(AA4/SQRT(Q4)+(1+M4)*O4) -> 0.00061964369 | AG4: =1-AE4-AF4 -> 0.64621835 | AI4: 750 | AJ4: 35.316063 | AK4: 0.061703638 | AL4: =AJ4/100 -> 0.35316063 | AM4: =AK4/100 -> 0.00061703638 | AO4: =(AJ4/100-AE4)^2+(AK4/100-AF4)^2 -> 8.7031423e-12
A5: 740 | B5: 0.012063833 | C5: 0.1846691 | D5: =1.32711+0.0026/(A5/1000)^2+0.00005/(A5/1000)^4 -> 1.3320247 | E5: =B5*B$1 -> 1.3427046 | F5: =C5*B$1 -> 20.553671 | G5: 0.51032962 | H5: 0.01 | J5: =F5*(1-G5)/(F5*(1-G5)+E5) -> 0.88229353 | K5: =(F5*(1-G5)+E5)*H5*B$1 -> 12.696245 | L5: =SQRT(1-1/D5^2) -> 0.66060142 | M5: =(D5-1)^2/(D5+1)^2 -> 0.020270972 | N5: =M5*EXP(-2*K5) -> 1.9013239e-13 | O5: =EXP(-K5) -> 3.0626034e-06 | P5: =J5/(1-J5)*(1-M5)/(1-M5*N5) -> 7.3437643 | Q5: =4/(1+L5)^2*(1-J5)/(1-J5*L5) -> 0.40929025 | R5: =(1-M5)/(1+M5) -> 0.96026355 | S5: =R5/(1+L5) -> 0.57826251 | T5: =2*S5/SQRT(Q5) -> 1.807754 | U5: =SINH(SQRT(Q5)*K5) -> 1684.7572 | V5: =COSH(SQRT(Q5)*K5) -> 1684.7575 | W5: =(1-2*S5)-(1+2*S5)*M5 -> -0.20023988 | X5: =(1-2*S5)*N5-(1+2*S5) -> -2.156525 | Y5: =R5*(1-L5^2)*P5/2 -> 1.9872596 | Z5: =Y5*Q5/(Q5-1) -> -1.37693 | AA5: =(W5*(T5*U5+V5)*O5+X5)/((1+T5^2)*U5+2*T5*V5) -> -0.00016258589 | AB5: =(W5*O5+X5*(T5*U5+V5))/((1+T5^2)*U5+2*T5*V5) -> -0.76806051 | AC5: =M5+(1-M5)^2*N5/(1-M5*N5) -> 0.020270972 | AD5: =(1-M5)^2/(1-M5*N5)*O5 -> 2.939698e-06 | AE5: =AC5+Z5*(1+AB5/SQRT(Q5)+N5) -> 0.29641232 | AF5: =AD5+Z5*(AA5/SQRT(Q5)+(1+M5)*O5) -> 0.00034856549 | AG5: =1-AE5-AF5 -> 0.70323911 | AI5: 740 | AJ5: 29.6411 | AK5: 0.034850318 | AL5: =AJ5/100 -> 0.296411 | AM5: =AK5/100 -> 0.00034850318 | AO5: =(AJ5/100-AE5)^2+(AK5/100-AF5)^2 -> 1.7612446e-12
A6: 730 | B6: 0.018143155 | C6: 0.46627819 | D6: =1.32711+0.0026/(A6/1000)^2+0.00005/(A6/1000)^4 -> 1.332165 | E6: =B6*B$1 -> 2.0193332 | F6: =C6*B$1 -> 51.896763 | G6: 0.83434869 | H6: 0.01 | J6: =F6*(1-G6)/(F6*(1-G6)+E6) -> 0.80978578 | K6: =(F6*(1-G6)+E6)*H6*B$1 -> 11.815719 | L6: =SQRT(1-1/D6^2) -> 0.66069127 | M6: =(D6-1)^2/(D6+1)^2 -> 0.020285666 | N6: =M6*EXP(-2*K6) -> 1.1070983e-12 | O6: =EXP(-K6) -> 7.3875163e-06 | P6: =J6/(1-J6)*(1-M6)/(1-M6*N6) -> 4.1708696 | Q6: =4/(1+L6)^2*(1-J6)/(1-J6*L6) -> 0.59332056 | R6: =(1-M6)/(1+M6) -> 0.96023532 | S6: =R6/(1+L6) -> 0.57821423 | T6: =2*S6/SQRT(Q6) -> 1.5013228 | U6: =SINH(SQRT(Q6)*K6) -> 4483.6047 | V6: =COSH(SQRT(Q6)*K6) -> 4483.6048 | W6: =(1-2*S6)-(1+2*S6)*M6 -> -0.20017305 | X6: =(1-2*S6)*N6-(1+2*S6) -> -2.1564285 | Y6: =R6*(1-L6^2)*P6/2 -> 1.1283874 | Z6: =Y6*Q6/(Q6-1) -> -1.6462486 | AA6: =(W6*(T6*U6+V6)*O6+X6)/((1+T6^2)*U6+2*T6*V6) -> -7.7463214e-05 | AB6: =(W6*O6+X6*(T6*U6+V6))/((1+T6^2)*U6+2*T6*V6) -> -0.86211523 | AC6: =M6+(1-M6)^2*N6/(1-M6*N6) -> 0.020285666 | AD6: =(1-M6)^2/(1-M6*N6)*O6 -> 7.090835e-06 | AE6: =AC6+Z6*(1+AB6/SQRT(Q6)+N6) -> 0.2165733 | AF6: =AD6+Z6*(AA6/SQRT(Q6)+(1+M6)*O6) -> 0.00016023894 | AG6: =1-AE6-AF6 -> 0.78326646 | AI6: 730 | AJ6: 21.657568 | AK6: 0.015735671 | AL6: =AJ6/100 -> 0.21657568 | AM6: =AK6/100 -> 0.00015735671 | AO6: =(AJ6/100-AE6)^2+(AK6/100-AF6)^2 -> 1.3975918e-11
A7: 720 | B7: 0.031510073 | C7: 0.33772082 | D7: =1.32711+0.0026/(A7/1000)^2+0.00005/(A7/1000)^4 -> 1.3323115 | E7: =B7*B$1 -> 3.5070711 | F7: =C7*B$1 -> 37.588328 | G7: 0.82693191 | H7: 0.01 | J7: =F7*(1-G7)/(F7*(1-G7)+E7) -> 0.64972761 | K7: =(F7*(1-G7)+E7)*H7*B$1 -> 11.143813 | L7: =SQRT(1-1/D7^2) -> 0.66078501 | M7: =(D7-1)^2/(D7+1)^2 -> 0.020301008 | N7: =M7*EXP(-2*K7) -> 4.2474102e-12 | O7: =EXP(-K7) -> 1.4464496e-05 | P7: =J7/(1-J7)*(1-M7)/(1-M7*N7) -> 1.8172642 | Q7: =4/(1+L7)^2*(1-J7)/(1-J7*L7) -> 0.89013161 | R7: =(1-M7)/(1+M7) -> 0.96020585 | S7: =R7/(1+L7) -> 0.57816385 | T7: =2*S7/SQRT(Q7) -> 1.2256143 | U7: =SINH(SQRT(Q7)*K7) -> 18410.615 | V7: =COSH(SQRT(Q7)*K7) -> 18410.615 | W7: =(1-2*S7)-(1+2*S7)*M7 -> -0.20010332 | X7: =(1-2*S7)*N7-(1+2*S7) -> -2.1563277 | Y7: =R7*(1-L7^2)*P7/2 -> 0.49151965 | Z7: =Y7*Q7/(Q7-1) -> -3.9821933 | AA7: =(W7*(T7*U7+V7)*O7+X7)/((1+T7^2)*U7+2*T7*V7) -> -2.4945891e-05 | AB7: =(W7*O7+X7*(T7*U7+V7))/((1+T7^2)*U7+2*T7*V7) -> -0.96886855 | AC7: =M7+(1-M7)^2*N7/(1-M7*N7) -> 0.020301008 | AD7: =(1-M7)^2/(1-M7*N7)*O7 -> 1.3883169e-05 | AE7: =AC7+Z7*(1+AB7/SQRT(Q7)+N7) -> 0.12751235 | AF7: =AD7+Z7*(AA7/SQRT(Q7)+(1+M7)*O7) -> 6.0405133e-05 | AG7: =1-AE7-AF7 -> 0.87242724 | AI7: 720 | AJ7: 12.751513 | AK7: 0.0052623737 | AL7: =AJ7/100 -> 0.12751513 | AM7: =AK7/100 -> 5.2623737e-05 | AO7: =(AJ7/100-AE7)^2+(AK7/100-AF7)^2 -> 6.8249127e-11
A8: 710 | B8: 0.05570472 | C8: 0.30450613 | D8: =1.32711+0.0026/(A8/1000)^2+0.00005/(A8/1000)^4 -> 1.3324645 | E8: =B8*B$1 -> 6.1999353 | F8: =C8*B$1 -> 33.891532 | G8: 0.87100742 | H8: 0.01 | J8: =F8*(1-G8)/(F8*(1-G8)+E8) -> 0.41353422 | K8: =(F8*(1-G8)+E8)*H8*B$1 -> 11.766293 | L8: =SQRT(1-1/D8^2) -> 0.66088288 | M8: =(D8-1)^2/(D8+1)^2 -> 0.020317038 | N8: =M8*EXP(-2*K8) -> 1.2240199e-12 | O8: =EXP(-K8) -> 7.7618285e-06 | P8: =J8/(1-J8)*(1-M8)/(1-M8*N8) -> 0.69080319 | Q8: =4/(1+L8)^2*(1-J8)/(1-J8*L8) -> 1.1702216 | R8: =(1-M8)/(1+M8) -> 0.96017505 | S8: =R8/(1+L8) -> 0.57811123 | T8: =2*S8/SQRT(Q8) -> 1.0688268 | U8: =SINH(SQRT(Q8)*K8) -> 168594.12 | V8: =COSH(SQRT(Q8)*K8) -> 168594.12 | W8: =(1-2*S8)-(1+2*S8)*M8 -> -0.20003052 | X8: =(1-2*S8)*N8-(1+2*S8) -> -2.1562225 | Y8: =R8*(1-L8^2)*P8/2 -> 0.18679424 | Z8: =Y8*Q8/(Q8-1) -> 1.2841535 | AA8: =(W8*(T8*U8+V8)*O8+X8)/((1+T8^2)*U8+2*T8*V8) -> -3.7386282e-06 | AB8: =(W8*O8+X8*(T8*U8+V8))/((1+T8^2)*U8+2*T8*V8) -> -1.0422441 | AC8: =M8+(1-M8)^2*N8/(1-M8*N8) -> 0.020317038 | AD8: =(1-M8)^2/(1-M8*N8)*O8 -> 7.4496377e-06 | AE8: =AC8+Z8*(1+AB8/SQRT(Q8)+N8) -> 0.067235213 | AF8: =AD8+Z8*(AA8/SQRT(Q8)+(1+M8)*O8) -> 1.3181444e-05 | AG8: =1-AE8-AF8 -> 0.93275161 | AI8: 710 | AJ8: 6.7235148 | AK8: 0.0012018219 | AL8: =AJ8/100 -> 0.067235148 | AM8: =AK8/100 -> 1.2018219e-05 | AO8: =(AJ8/100-AE8)^2+(AK8/100-AF8)^2 -> 1.3572763e-12
A9: 700 | B9: 0.066659059 | C9: 0.084438673 | D9: =1.32711+0.0026/(A9/1000)^2+0.00005/(A9/1000)^4 -> 1.3326244 | E9: =B9*B$1 -> 7.4191533 | F9: =C9*B$1 -> 9.3980243 | G9: 0.7159162 | H9: 0.01 | J9: =F9*(1-G9)/(F9*(1-G9)+E9) -> 0.264628 | K9: =(F9*(1-G9)+E9)*H9*B$1 -> 11.229034 | L9: =SQRT(1-1/D9^2) -> 0.66098512 | M9: =(D9-1)^2/(D9+1)^2 -> 0.020333798 | N9: =M9*EXP(-2*K9) -> 3.5875923e-12 | O9: =EXP(-K9) -> 1.3282881e-05 | P9: =J9/(1-J9)*(1-M9)/(1-M9*N9) -> 0.35253872 | Q9: =4/(1+L9)^2*(1-J9)/(1-J9*L9) -> 1.2922216 | R9: =(1-M9)/(1+M9) -> 0.96014285 | S9: =R9/(1+L9) -> 0.57805626 | T9: =2*S9/SQRT(Q9) -> 1.017025 | U9: =SINH(SQRT(Q9)*K9) -> 174828.65 | V9: =COSH(SQRT(Q9)*K9) -> 174828.65 | W9: =(1-2*S9)-(1+2*S9)*M9 -> -0.19995448 | X9: =(1-2*S9)*N9-(1+2*S9) -> -2.1561125 | Y9: =R9*(1-L9^2)*P9/2 -> 0.095300939 | Z9: =Y9*Q9/(Q9-1) -> 0.42142652 | AA9: =(W9*(T9*U9+V9)*O9+X9)/((1+T9^2)*U9+2*T9*V9) -> -4.3481281e-06 | AB9: =(W9*O9+X9*(T9*U9+V9))/((1+T9^2)*U9+2*T9*V9) -> -1.0689568 | AC9: =M9+(1-M9)^2*N9/(1-M9*N9) -> 0.020333798 | AD9: =(1-M9)^2/(1-M9*N9)*O9 -> 1.274819e-05 | AE9: =AC9+Z9*(1+AB9/SQRT(Q9)+N9) -> 0.045469951 | AF9: =AD9+Z9*(AA9/SQRT(Q9)+(1+M9)*O9) -> 1.6847807e-05 | AG9: =1-AE9-AF9 -> 0.9545132 | AI9: 700 | AJ9: 4.5470324 | AK9: 0.0013822328 | AL9: =AJ9/100 -> 0.045470324 | AM9: =AK9/100 -> 1.3822328e-05 | AO9: =(AJ9/100-AE9)^2+(AK9/100-AF9)^2 -> 9.2921108e-12
A10: 690 | B10: 0.078348416 | C10: 0.17796523 | D10: =1.32711+0.0026/(A10/1000)^2+0.00005/(A10/1000)^4 -> 1.3327916 | E10: =B10*B$1 -> 8.7201787 | F10: =C10*B$1 -> 19.80753 | G10: 0.87080761 | H10: 0.01 | J10: =F10*(1-G10)/(F10*(1-G10)+E10) -> 0.226877 | K10: =(F10*(1-G10)+E10)*H10*B$1 -> 12.553706 | L10: =SQRT(1-1/D10^2) -> 0.66109201 | M10: =(D10-1)^2/(D10+1)^2 -> 0.020351334 | N10: =M10*EXP(-2*K10) -> 2.5385301e-13 | O10: =EXP(-K10) -> 3.5317888e-06 | P10: =J10/(1-J10)*(1-M10)/(1-M10*N10) -> 0.28748303 | Q10: =4/(1+L10)^2*(1-J10)/(1-J10*L10) -> 1.3185464 | R10: =(1-M10)/(1+M10) -> 0.96010916 | S10: =R10/(1+L10) -> 0.57799878 | T10: =2*S10/SQRT(Q10) -> 1.0067212 | U10: =SINH(SQRT(Q10)*K10) -> 910746.07 | V10: =COSH(SQRT(Q10)*K10) -> 910746.07 | W10: =(1-2*S10)-(1+2*S10)*M10 -> -0.19987499 | X10: =(1-2*S10)*N10-(1+2*S10) -> -2.1559976 | Y10: =R10*(1-L10^2)*P10/2 -> 0.077692363 | Z10: =Y10*Q10/(Q10-1) -> 0.3215889 | AA10: =(W10*(T10*U10+V10)*O10+X10)/((1+T10^2)*U10+2*T10*V10) -> -9.3963999e-07 | AB10: =(W10*O10+X10*(T10*U10+V10))/((1+T10^2)*U10+2*T10*V10) -> -1.0743882 | AC10: =M10+(1-M10)^2*N10/(1-M10*N10) -> 0.020351334 | AD10: =(1-M10)^2/(1-M10*N10)*O10 -> 3.3894984e-06 | AE10: =AC10+Z10*(1+AB10/SQRT(Q10)+N10) -> 0.041045511 | AF10: =AD10+Z10*(AA10/SQRT(Q10)+(1+M10)*O10) -> 4.2852402e-06 | AG10: =1-AE10-AF10 -> 0.9589502 | AI10: 690 | AJ10: 4.1040771 | AK10: 0.0005192047 | AL10: =AJ10/100 -> 0.041040771 | AM10: =AK10/100 -> 5.192047e-06 | AO10: =(AJ10/100-AE10)^2+(AK10/100-AF10)^2 -> 2.328993e-11
A11: 680 | B11: 0.074893495 | C11: 0.14258824 | D11: =1.32711+0.0026/(A11/1000)^2+0.00005/(A11/1000)^4 -> 1.3329667 | E11: =B11*B$1 -> 8.335646 | F11: =C11*B$1 -> 15.870071 | G11: 0.84553553 | H11: 0.01 | J11: =F11*(1-G11)/(F11*(1-G11)+E11) -> 0.22725134 | K11: =(F11*(1-G11)+E11)*H11*B$1 -> 12.00594 | L11: =SQRT(1-1/D11^2) -> 0.66120384 | M11: =(D11-1)^2/(D11+1)^2 -> 0.020369693 | N11: =M11*EXP(-2*K11) -> 7.5990181e-13 | O11: =EXP(-K11) -> 6.1078237e-06 | P11: =J11/(1-J11)*(1-M11)/(1-M11*N11) -> 0.28809148 | Q11: =4/(1+L11)^2*(1-J11)/(1-J11*L11) -> 1.3181537 | R11: =(1-M11)/(1+M11) -> 0.9600739 | S11: =R11/(1+L11) -> 0.57793865 | T11: =2*S11/SQRT(Q11) -> 1.0067664 | U11: =SINH(SQRT(Q11)*K11) -> 484550.89 | V11: =COSH(SQRT(Q11)*K11) -> 484550.89 | W11: =(1-2*S11)-(1+2*S11)*M11 -> -0.19979185 | X11: =(1-2*S11)*N11-(1+2*S11) -> -2.1558773 | Y11: =R11*(1-L11^2)*P11/2 -> 0.077833488 | Z11: =Y11*Q11/(Q11-1) -> 0.32247462 | AA11: =(W11*(T11*U11+V11)*O11+X11)/((1+T11^2)*U11+2*T11*V11) -> -1.7129081e-06 | AB11: =(W11*O11+X11*(T11*U11+V11))/((1+T11^2)*U11+2*T11*V11) -> -1.0743041 | AC11: =M11+(1-M11)^2*N11/(1-M11*N11) -> 0.020369693 | AD11: =(1-M11)^2/(1-M11*N11)*O11 -> 5.861529e-06 | AE11: =AC11+Z11*(1+AB11/SQRT(Q11)+N11) -> 0.041099557 | AF11: =AD11+Z11*(AA11/SQRT(Q11)+(1+M11)*O11) -> 7.3901552e-06 | AG11: =1-AE11-AF11 -> 0.95889305 | AI11: 680 | AJ11: 4.1100698 | AK11: 0.00082645985 | AL11: =AJ11/100 -> 0.041100698 | AM11: =AK11/100 -> 8.2645985e-06 | AO11: =(AJ11/100-AE11)^2+(AK11/100-AF11)^2 -> 2.0659338e-12
A12: 670 | B12: 0.071272787 | C12: 0.19964541 | D12: =1.32711+0.0026/(A12/1000)^2+0.00005/(A12/1000)^4 -> 1.3331501 | E12: =B12*B$1 -> 7.9326612 | F12: =C12*B$1 -> 22.220535 | G12: 0.89734795 | H12: 0.01 | J12: =F12*(1-G12)/(F12*(1-G12)+E12) -> 0.22332707 | K12: =(F12*(1-G12)+E12)*H12*B$1 -> 11.367786 | L12: =SQRT(1-1/D12^2) -> 0.6613209 | M12: =(D12-1)^2/(D12+1)^2 -> 0.020388931 | N12: =M12*EXP(-2*K12) -> 2.7255906e-12 | O12: =EXP(-K12) -> 1.1562003e-05 | P12: =J12/(1-J12)*(1-M12)/(1-M12*N12) -> 0.28168057 | Q12: =4/(1+L12)^2*(1-J12)/(1-J12*L12) -> 1.3206689 | R12: =(1-M12)/(1+M12) -> 0.96003694 | S12: =R12/(1+L12) -> 0.57787568 | T12: =2*S12/SQRT(Q12) -> 1.0056976 | U12: =SINH(SQRT(Q12)*K12) -> 235803.45 | V12: =COSH(SQRT(Q12)*K12) -> 235803.45 | W12: =(1-2*S12)-(1+2*S12)*M12 -> -0.19970482 | X12: =(1-2*S12)*N12-(1+2*S12) -> -2.1557514 | Y12: =R12*(1-L12^2)*P12/2 -> 0.076077594 | Z12: =Y12*Q12/(Q12-1) -> 0.31332414 | AA12: =(W12*(T12*U12+V12)*O12+X12)/((1+T12^2)*U12+2*T12*V12) -> -3.423786e-06 | AB12: =(W12*O12+X12*(T12*U12+V12))/((1+T12^2)*U12+2*T12*V12) -> -1.0748137 | AC12: =M12+(1-M12)^2*N12/(1-M12*N12) -> 0.020388931 | AD12: =(1-M12)^2/(1-M12*N12)*O12 -> 1.1095336e-05 | AE12: =AC12+Z12*(1+AB12/SQRT(Q12)+N12) -> 0.040670928 | AF12: =AD12+Z12*(AA12/SQRT(Q12)+(1+M12)*O12) -> 1.3858376e-05 | AG12: =1-AE12-AF12 -> 0.95931521 | AI12: 670 | AJ12: 4.0668702 | AK12: 0.0011455699 | AL12: =AJ12/100 -> 0.040668702 | AM12: =AK12/100 -> 1.1455699e-05 | AO12: =(AJ12/100-AE12)^2+(AK12/100-AF12)^2 -> 1.072754e-11
A13: 660 | B13: 0.071007406 | C13: 0.20949826 | D13: =1.32711+0.0026/(A13/1000)^2+0.00005/(A13/1000)^4 -> 1.3333423 | E13: =B13*B$1 -> 7.9031243 | F13: =C13*B$1 -> 23.317157 | G13: 0.90510832 | H13: 0.01 | J13: =F13*(1-G13)/(F13*(1-G13)+E13) -> 0.21872911 | K13: =(F13*(1-G13)+E13)*H13*B$1 -> 11.258806 | L13: =SQRT(1-1/D13^2) -> 0.66144354 | M13: =(D13-1)^2/(D13+1)^2 -> 0.020409103 | N13: =M13*EXP(-2*K13) -> 3.3927306e-12 | O13: =EXP(-K13) -> 1.289326e-05 | P13: =J13/(1-J13)*(1-M13)/(1-M13*N13) -> 0.27425192 | Q13: =4/(1+L13)^2*(1-J13)/(1-J13*L13) -> 1.3236108 | R13: =(1-M13)/(1+M13) -> 0.95999819 | S13: =R13/(1+L13) -> 0.5778097 | T13: =2*S13/SQRT(Q13) -> 1.0044647 | U13: =SINH(SQRT(Q13)*K13) -> 211063.8 | V13: =COSH(SQRT(Q13)*K13) -> 211063.8 | W13: =(1-2*S13)-(1+2*S13)*M13 -> -0.19961366 | X13: =(1-2*S13)*N13-(1+2*S13) -> -2.1556194 | Y13: =R13*(1-L13^2)*P13/2 -> 0.074046884 | Z13: =Y13*Q13/(Q13-1) -> 0.30286154 | AA13: =(W13*(T13*U13+V13)*O13+X13)/((1+T13^2)*U13+2*T13*V13) -> -3.8258869e-06 | AB13: =(W13*O13+X13*(T13*U13+V13))/((1+T13^2)*U13+2*T13*V13) -> -1.075409 | AC13: =M13+(1-M13)^2*N13/(1-M13*N13) -> 0.020409103 | AD13: =(1-M13)^2/(1-M13*N13)*O13 -> 1.237235e-05 | AE13: =AC13+Z13*(1+AB13/SQRT(Q13)+N13) -> 0.040172088 | AF13: =AD13+Z13*(AA13/SQRT(Q13)+(1+M13)*O13) -> 1.5349763e-05 | AG13: =1-AE13-AF13 -> 0.95981256 | AI13: 660 | AJ13: 4.017279 | AK13: 0.0017366729 | AL13: =AJ13/100 -> 0.04017279 | AM13: =AK13/100 -> 1.7366729e-05 | AO13: =(AJ13/100-AE13)^2+(AK13/100-AF13)^2 -> 4.5614494e-12
A14: 650 | B14: 0.077104609 | C14: 0.14139366 | D14: =1.32711+0.0026/(A14/1000)^2+0.00005/(A14/1000)^4 -> 1.3335439 | E14: =B14*B$1 -> 8.581743 | F14: =C14*B$1 -> 15.737115 | G14: 0.84766366 | H14: 0.01 | J14: =F14*(1-G14)/(F14*(1-G14)+E14) -> 0.21835481 | K14: =(F14*(1-G14)+E14)*H14*B$1 -> 12.219713 | L14: =SQRT(1-1/D14^2) -> 0.66157212 | M14: =(D14-1)^2/(D14+1)^2 -> 0.020430273 | N14: =M14*EXP(-2*K14) -> 4.9701125e-13 | O14: =EXP(-K14) -> 4.9322607e-06 | P14: =J14/(1-J14)*(1-M14)/(1-M14*N14) -> 0.2736456 | Q14: =4/(1+L14)^2*(1-J14)/(1-J14*L14) -> 1.3237002 | R14: =(1-M14)/(1+M14) -> 0.95995753 | S14: =R14/(1+L14) -> 0.57774052 | T14: =2*S14/SQRT(Q14) -> 1.0043105 | U14: =SINH(SQRT(Q14)*K14) -> 637875.39 | V14: =COSH(SQRT(Q14)*K14) -> 637875.39 | W14: =(1-2*S14)-(1+2*S14)*M14 -> -0.1995181 | X14: =(1-2*S14)*N14-(1+2*S14) -> -2.155481 | Y14: =R14*(1-L14^2)*P14/2 -> 0.073857707 | Z14: =Y14*Q14/(Q14-1) -> 0.30202469 | AA14: =(W14*(T14*U14+V14)*O14+X14)/((1+T14^2)*U14+2*T14*V14) -> -1.332139e-06 | AB14: =(W14*O14+X14*(T14*U14+V14))/((1+T14^2)*U14+2*T14*V14) -> -1.0754227 | AC14: =M14+(1-M14)^2*N14/(1-M14*N14) -> 0.020430273 | AD14: =(1-M14)^2/(1-M14*N14)*O14 -> 4.7327846e-06 | AE14: =AC14+Z14*(1+AB14/SQRT(Q14)+N14) -> 0.040144593 | AF14: =AD14+Z14*(AA14/SQRT(Q14)+(1+M14)*O14) -> 5.9031821e-06 | AG14: =1-AE14-AF14 -> 0.9598495 | AI14: 650 | AJ14: 4.0146048 | AK14: 0.00071873227 | AL14: =AJ14/100 -> 0.040146048 | AM14: =AK14/100 -> 7.1873227e-06 | AO14: =(AJ14/100-AE14)^2+(AK14/100-AF14)^2 -> 3.7658645e-12
A15: 640 | B15: 0.077359245 | C15: 0.14167613 | D15: =1.32711+0.0026/(A15/1000)^2+0.00005/(A15/1000)^4 -> 1.3337557 | E15: =B15*B$1 -> 8.610084 | F15: =C15*B$1 -> 15.768554 | G15: 0.84976085 | H15: 0.01 | J15: =F15*(1-G15)/(F15*(1-G15)+E15) -> 0.21577778 | K15: =(F15*(1-G15)+E15)*H15*B$1 -> 12.219781 | L15: =SQRT(1-1/D15^2) -> 0.66170702 | M15: =(D15-1)^2/(D15+1)^2 -> 0.020452507 | N15: =M15*EXP(-2*K15) -> 4.974849e-13 | O15: =EXP(-K15) -> 4.9319274e-06 | P15: =J15/(1-J15)*(1-M15)/(1-M15*N15) -> 0.26952129 | Q15: =4/(1+L15)^2*(1-J15)/(1-J15*L15) -> 1.3252529 | R15: =(1-M15)/(1+M15) -> 0.95991483 | S15: =R15/(1+L15) -> 0.57766791 | T15: =2*S15/SQRT(Q15) -> 1.0035958 | U15: =SINH(SQRT(Q15)*K15) -> 643205.29 | V15: =COSH(SQRT(Q15)*K15) -> 643205.29 | W15: =(1-2*S15)-(1+2*S15)*M15 -> -0.19941785 | X15: =(1-2*S15)*N15-(1+2*S15) -> -2.1553358 | Y15: =R15*(1-L15^2)*P15/2 -> 0.072718217 | Z15: =Y15*Q15/(Q15-1) -> 0.29629258 | AA15: =(W15*(T15*U15+V15)*O15+X15)/((1+T15^2)*U15+2*T15*V15) -> -1.3256028e-06 | AB15: =(W15*O15+X15*(T15*U15+V15))/((1+T15^2)*U15+2*T15*V15) -> -1.0757338 | AC15: =M15+(1-M15)^2*N15/(1-M15*N15) -> 0.020452507 | AD15: =(1-M15)^2/(1-M15*N15)*O15 -> 4.7322499e-06 | AE15: =AC15+Z15*(1+AB15/SQRT(Q15)+N15) -> 0.039874887 | AF15: =AD15+Z15*(AA15/SQRT(Q15)+(1+M15)*O15) -> 5.8822495e-06 | AG15: =1-AE15-AF15 -> 0.96011923 | AI15: 640 | AJ15: 3.9876398 | AK15: 0.00072027388 | AL15: =AJ15/100 -> 0.039876398 | AM15: =AK15/100 -> 7.2027388e-06 | AO15: =(AJ15/100-AE15)^2+(AK15/100-AF15)^2 -> 4.0258862e-12
... A39: 400 | B39: 0.069758011 | C39: 0.21326813 | D39: =1.32711+0.0026/(A39/1000)^2+0.00005/(A39/1000)^4 -> 1.3453131 | E39: =B39*B$1 -> 7.7640666 | F39: =C39*B$1 -> 23.736742 | G39: 0.90929857 | H39: 0.01 | J39: =F39*(1-G39)/(F39*(1-G39)+E39) -> 0.21709705 | K39: =(F39*(1-G39)+E39)*H39*B$1 -> 11.037647 | L39: =SQRT(1-1/D39^2) -> 0.66893448 | M39: =(D39-1)^2/(D39+1)^2 -> 0.021678264 | N39: =M39*EXP(-2*K39) -> 5.6084965e-12 | O39: =EXP(-K39) -> 1.6084626e-05 | P39: =J39/(1-J39)*(1-M39)/(1-M39*N39) -> 0.27128619 | Q39: =4/(1+L39)^2*(1-J39)/(1-J39*L39) -> 1.3153365 | R39: =(1-M39)/(1+M39) -> 0.95756342 | S39: =R39/(1+L39) -> 0.57375735 | T39: =2*S39/SQRT(Q39) -> 1.0005524 | U39: =SINH(SQRT(Q39)*K39) -> 157270.47 | V39: =COSH(SQRT(Q39)*K39) -> 157270.47 | W39: =(1-2*S39)-(1+2*S39)*M39 -> -0.19406909 | X39: =(1-2*S39)*N39-(1+2*S39) -> -2.1475147 | Y39: =R39*(1-L39^2)*P39/2 -> 0.071765958 | Z39: =Y39*Q39/(Q39-1) -> 0.29935126 | AA39: =(W39*(T39*U39+V39)*O39+X39)/((1+T39^2)*U39+2*T39*V39) -> -4.972177e-06 | AB39: =(W39*O39+X39*(T39*U39+V39))/((1+T39^2)*U39+2*T39*V39) -> -1.0734609 | AC39: =M39+(1-M39)^2*N39/(1-M39*N39) -> 0.021678264 | AD39: =(1-M39)^2/(1-M39*N39)*O39 -> 1.5394812e-05 | AE39: =AC39+Z39*(1+AB39/SQRT(Q39)+N39) -> 0.040841947 | AF39: =AD39+Z39*(AA39/SQRT(Q39)+(1+M39)*O39) -> 1.901634e-05 | AG39: =1-AE39-AF39 -> 0.95913904 | AI39: 400 | AJ39: 4.0839629 | AK39: 0.0019656855 | AL39: =AJ39/100 -> 0.040839629 | AM39: =AK39/100 -> 1.9656855e-05 | AO39: =(AJ39/100-AE39)^2+(AK39/100-AF39)^2 -> 5.7847257e-12

Sheet comparison
A1: Direct measurements (single scattering) | F1: Retrieved by inverse method (multiple scattering)
