Workbook

Sheet read me
A1: This Excel file is provided in support of the manuscript entitled "Simple Method for Measuring the Spectral Absorption Cross-Section of Microalgae", Chemical Engineering Science, Vol. 146, No. 2, pp. 357-368.
A2: by Razmig Kandilian, Antoine Soulies, Jeremy Pruvost, Benoit Rousseau, Jack Legrand, and Laurent Pilon
A3: doi: 10.1016/j.ces.2016.02.039
A5: Software
A6: Excel has a built-in optimization package that you can activate by
A7: a. Under the menu Tools select Adds-In
A8: b. In Adds-In check the boxes for
A9: (i) Analysis ToolPak
A10: (ii) Analysis ToolPak- VBA
A11: (iii) Solver Add-in
A13: Data processing for a given dilution
A14: c. select the worksheet of interest
... A21: e. Note: you might have to optimize yourself manually before running the Excel Solver.

Sheet Low concentration
A1: Radiation characteristics obtained from direct measurements
A3: Cx (g/l) = | B3: 0.049 | F3: Cx (g/l) = | G3: 0.035
A4: Wavelength | B4: Abs(m2/kg) | C4: Ssca (m2/kg) | D4: Eext (m2/kg) | E4: Ssca,tr (m2/kg) | F4: Wavelength | G4: Abs(m2/kg) | H4: Ssca (m2/kg) | I4: Eext (m2/kg)
A5: 750 | B5: 0 | C5: 1559.2772 | D5: =B5+C5 -> 1559.2772 | E5: =C5*(1-0.97) -> 46.778315 | F5: 750 | G5: 0 | H5: 1570.2008 | I5: =G5+H5 -> 1570.2008
A6: 749 | B6: 0.040790902 | C6: 1562.034 | D6: =B6+C6 -> 1562.0748 | E6: =C6*(1-0.97) -> 46.86102 | F6: 749 | G6: -0.022986966 | H6: 1572.5986 | I6: =G6+H6 -> 1572.5757
A7: 748 | B7: 2.251428 | C7: 1564.9216 | D7: =B7+C7 -> 1567.173 | E7: =C7*(1-0.97) -> 46.947647 | F7: 748 | G7: -0.011799195 | H7: 1577.3785 | I7: =G7+H7 -> 1577.3667
A8: 747 | B8: 0.48816113 | C8: 1567.8072 | D8: =B8+C8 -> 1568.2954 | E8: =C8*(1-0.97) -> 47.034216 | F8: 747 | G8: -2.408963 | H8: 1581.0469 | I8: =G8+H8 -> 1578.6379
A9: 746 | B9: 0.29939191 | C9: 1571.2268 | D9: =B9+C9 -> 1571.5262 | E9: =C9*(1-0.97) -> 47.136804 | F9: 746 | G9: -2.2434274 | H9: 1584.5905 | I9: =G9+H9 -> 1582.347
A10: 745 | B10: -0.53907615 | C10: 1573.9758 | D10: =B10+C10 -> 1573.4367 | E10: =C10*(1-0.97) -> 47.219274 | F10: 745 | G10: -3.4801571 | H10: 1589.2421 | I10: =G10+H10 -> 1585.7619
A11: 744 | B11: 1.4155111 | C11: 1576.7978 | D11: =B11+C11 -> 1578.2133 | E11: =C11*(1-0.97) -> 47.303934 | F11: 744 | G11: -1.586857 | H11: 1591.0103 | I11: =G11+H11 -> 1589.4235
A12: 743 | B12: 0.6200166 | C12: 1580.6656 | D12: =B12+C12 -> 1581.2856 | E12: =C12*(1-0.97) -> 47.419967 | F12: 743 | G12: -0.88961817 | H12: 1593.5018 | I12: =G12+H12 -> 1592.6121
A13: 742 | B13: -0.8214718 | C13: 1583.7867 | D13: =B13+C13 -> 1582.9652 | E13: =C13*(1-0.97) -> 47.5136 | F13: 742 | G13: -1.8959939 | H13: 1598.0047 | I13: =G13+H13 -> 1596.1087
A14: 741 | B14: 1.5943434 | C14: 1586.9496 | D14: =B14+C14 -> 1588.5439 | E14: =C14*(1-0.97) -> 47.608488 | F14: 741 | G14: 0.33480788 | H14: 1600.9786 | I14: =G14+H14 -> 1601.3135
A15: 740 | B15: -0.98109793 | C15: 1592.3865 | D15: =B15+C15 -> 1591.4054 | E15: =C15*(1-0.97) -> 47.771594 | F15: 740 | G15: 0.82164918 | H15: 1604.4741 | I15: =G15+H15 -> 1605.2958
A16: 739 | B16: -1.3829379 | C16: 1596.731 | D16: =B16+C16 -> 1595.348 | E16: =C16*(1-0.97) -> 47.901929 | F16: 739 | G16: -2.9732185 | H16: 1609.3317 | I16: =G16+H16 -> 1606.3584
... A405: 350 | B405: 280.63603 | C405: 1705.2073 | D405: =B405+C405 -> 1985.8433 | E405: =C405*(1-0.97) -> 51.156218 | F405: 350 | G405: 289.22015 | H405: 1704.8952 | I405: =G405+H405 -> 1994.1154

Sheet Dilution6
A1: X= | B1: 0.1113 | C1: g/L | AI1: dilution 6
A3: l (nm) | B3: Abs,l (m2/kg) | C3: Ssca,l (m2/kg) | D3: n | E3: k (1/m) | F3: ss (1/m) | G3: g | H3: d (m) | J3: wtr | K3: ttr | L3: mc | M3: R1 | N3: Ctr | O3: Etr | P3: c | Q3: k2 | R3: g | S3: gbar | T3: j | U3: s | V3: c | W3: k1 | X3: k2 | Y3: D1 | Z3: D | AA3: A | AB3: B | AC3: R0dh | AD3: T0dh | AE3: Rdh | AF3: Tdh | AG3: Adh | AI3: l (nm) | AJ3: Rdh | AK3: Tdh | AL3: Rdh | AM3: Tdh | AO3: error
A4: 750 | B4: 42.908031 | C4: 120.03889 | D4: =1.32711+0.0026/(A4/1000)^2+0.00005/(A4/1000)^4 -> 1.3318902 | E4: =B4*B$1 -> 4.7756639 | F4: =C4*B$1 -> 13.360329 | G4: 0.39978825 | H4: 0.01 | J4: =F4*(1-G4)/(F4*(1-G4)+E4) -> 0.62674642 | K4: =(F4*(1-G4)+E4)*H4 -> 0.1279469 | L4: =SQRT(1-1/D4^2) -> 0.66051527 | M4: =(D4-1)^2/(D4+1)^2 -> 0.02025689 | N4: =M4*EXP(-2*K4) -> 0.015683374 | O4: =EXP(-K4) -> 0.8799001 | P4: =J4/(1-J4)*(1-M4)/(1-M4*N4) -> 1.6456524 | Q4: =4/(1+L4)^2*(1-J4)/(1-J4*L4) -> 0.92397987 | R4: =(1-M4)/(1+M4) -> 0.96029061 | S4: =R4/(1+L4) -> 0.57830881 | T4: =2*S4/SQRT(Q4) -> 1.2032574 | U4: =SINH(SQRT(Q4)*K4) -> 0.1232978 | V4: =COSH(SQRT(Q4)*K4) -> 1.0075725 | W4: =(1-2*S4)-(1+2*S4)*M4 -> -0.20030399 | X4: =(1-2*S4)*N4-(1+2*S4) -> -2.1590739 | Y4: =R4*(1-L4^2)*P4/2 -> 0.4454243 | Z4: =Y4*Q4/(Q4-1) -> -5.41387 | AA4: =(W4*(T4*U4+V4)*O4+X4)/((1+T4^2)*U4+2*T4*V4) -> -0.86659108 | AB4: =(W4*O4+X4*(T4*U4+V4))/((1+T4^2)*U4+2*T4*V4) -> -0.97998899 | AC4: =M4+(1-M4)^2*N4/(1-M4*N4) -> 0.035316091 | AD4: =(1-M4)^2/(1-M4*N4)*O4 -> 0.8448815 | AE4: =AC4+Z4*(1+AB4/SQRT(Q4)+N4) -> 0.05601329 | AF4: =AD4+Z4*(AA4/SQRT(Q4)+(1+M4)*O4) -> 0.86551713 | AG4: =1-AE4-AF4 -> 0.078469577 | AI4: 750 | AJ4: 5.6013234 | AK4: 86.551712 | AL4: =AJ4/100 -> 0.056013234 | AM4: =AK4/100 -> 0.86551712 | AO4: =(AJ4/100-AE4)^2+(AK4/100-AF4)^2 -> 3.2519433e-15
A5: 740 | B5: 44.333784 | C5: 197.96554 | D5: =1.32711+0.0026/(A5/1000)^2+0.00005/(A5/1000)^4 -> 1.3320247 | E5: =B5*B$1 -> 4.9343501 | F5: =C5*B$1 -> 22.033564 | G5: 0.63932258 | H5: 0.01 | J5: =F5*(1-G5)/(F5*(1-G5)+E5) -> 0.61693871 | K5: =(F5*(1-G5)+E5)*H5 -> 0.12881359 | L5: =SQRT(1-1/D5^2) -> 0.66060142 | M5: =(D5-1)^2/(D5+1)^2 -> 0.020270972 | N5: =M5*EXP(-2*K5) -> 0.015667096 | O5: =EXP(-K5) -> 0.87913783 | P5: =J5/(1-J5)*(1-M5)/(1-M5*N5) -> 1.5784022 | Q5: =4/(1+L5)^2*(1-J5)/(1-J5*L5) -> 0.93787763 | R5: =(1-M5)/(1+M5) -> 0.96026355 | S5: =R5/(1+L5) -> 0.57826251 | T5: =2*S5/SQRT(Q5) -> 1.1942134 | U5: =SINH(SQRT(Q5)*K5) -> 0.12507215 | V5: =COSH(SQRT(Q5)*K5) -> 1.0077912 | W5: =(1-2*S5)-(1+2*S5)*M5 -> -0.20023988 | X5: =(1-2*S5)*N5-(1+2*S5) -> -2.1589773 | Y5: =R5*(1-L5^2)*P5/2 -> 0.42712358 | Z5: =Y5*Q5/(Q5-1) -> -6.4483957 | AA5: =(W5*(T5*U5+V5)*O5+X5)/((1+T5^2)*U5+2*T5*V5) -> -0.87168399 | AB5: =(W5*O5+X5*(T5*U5+V5))/((1+T5^2)*U5+2*T5*V5) -> -0.98665512 | AC5: =M5+(1-M5)^2*N5/(1-M5*N5) -> 0.035314108 | AD5: =(1-M5)^2/(1-M5*N5)*O5 -> 0.8441252 | AE5: =AC5+Z5*(1+AB5/SQRT(Q5)+N5) -> 0.055566976 | AF5: =AD5+Z5*(AA5/SQRT(Q5)+(1+M5)*O5) -> 0.86431698 | AG5: =1-AE5-AF5 -> 0.080116043 | AI5: 740 | AJ5: 5.5566893 | AK5: 86.431688 | AL5: =AJ5/100 -> 0.055566893 | AM5: =AK5/100 -> 0.86431688 | AO5: =(AJ5/100-AE5)^2+(AK5/100-AF5)^2 -> 1.7918551e-14
A6: 730 | B6: 41.619884 | C6: 197.30954 | D6: =1.32711+0.0026/(A6/1000)^2+0.00005/(A6/1000)^4 -> 1.332165 | E6: =B6*B$1 -> 4.6322931 | F6: =C6*B$1 -> 21.960551 | G6: 0.64515778 | H6: 0.01 | J6: =F6*(1-G6)/(F6*(1-G6)+E6) -> 0.62717435 | K6: =(F6*(1-G6)+E6)*H6 -> 0.12424824 | L6: =SQRT(1-1/D6^2) -> 0.66069127 | M6: =(D6-1)^2/(D6+1)^2 -> 0.020285666 | N6: =M6*EXP(-2*K6) -> 0.015822263 | O6: =EXP(-K6) -> 0.88316058 | P6: =J6/(1-J6)*(1-M6)/(1-M6*N6) -> 1.6486231 | Q6: =4/(1+L6)^2*(1-J6)/(1-J6*L6) -> 0.92334421 | R6: =(1-M6)/(1+M6) -> 0.96023532 | S6: =R6/(1+L6) -> 0.57821423 | T6: =2*S6/SQRT(Q6) -> 1.2034747 | U6: =SINH(SQRT(Q6)*K6) -> 0.11967497 | V6: =COSH(SQRT(Q6)*K6) -> 1.0071356 | W6: =(1-2*S6)-(1+2*S6)*M6 -> -0.20017305 | X6: =(1-2*S6)*N6-(1+2*S6) -> -2.1589035 | Y6: =R6*(1-L6^2)*P6/2 -> 0.44601863 | Z6: =Y6*Q6/(Q6-1) -> -5.3724413 | AA6: =(W6*(T6*U6+V6)*O6+X6)/((1+T6^2)*U6+2*T6*V6) -> -0.86945081 | AB6: =(W6*O6+X6*(T6*U6+V6))/((1+T6^2)*U6+2*T6*V6) -> -0.97972147 | AC6: =M6+(1-M6)^2*N6/(1-M6*N6) -> 0.035477386 | AD6: =(1-M6)^2/(1-M6*N6)*O6 -> 0.84796517 | AE6: =AC6+Z6*(1+AB6/SQRT(Q6)+N6) -> 0.055659321 | AF6: =AD6+Z6*(AA6/SQRT(Q6)+(1+M6)*O6) -> 0.86809048 | AG6: =1-AE6-AF6 -> 0.076250199 | AI6: 730 | AJ6: 5.565922 | AK6: 86.809036 | AL6: =AJ6/100 -> 0.05565922 | AM6: =AK6/100 -> 0.86809036 | AO6: =(AJ6/100-AE6)^2+(AK6/100-AF6)^2 -> 2.4998925e-14
A7: 720 | B7: 42.656941 | C7: 210.12773 | D7: =1.32711+0.0026/(A7/1000)^2+0.00005/(A7/1000)^4 -> 1.3323115 | E7: =B7*B$1 -> 4.7477175 | F7: =C7*B$1 -> 23.387216 | G7: 0.66701949 | H7: 0.01 | J7: =F7*(1-G7)/(F7*(1-G7)+E7) -> 0.6212493 | K7: =(F7*(1-G7)+E7)*H7 -> 0.12535205 | L7: =SQRT(1-1/D7^2) -> 0.66078501 | M7: =(D7-1)^2/(D7+1)^2 -> 0.020301008 | N7: =M7*EXP(-2*K7) -> 0.015799313 | O7: =EXP(-K7) -> 0.88218628 | P7: =J7/(1-J7)*(1-M7)/(1-M7*N7) -> 1.6074758 | Q7: =4/(1+L7)^2*(1-J7)/(1-J7*L7) -> 0.9317766 | R7: =(1-M7)/(1+M7) -> 0.96020585 | S7: =R7/(1+L7) -> 0.57816385 | T7: =2*S7/SQRT(Q7) -> 1.1979123 | U7: =SINH(SQRT(Q7)*K7) -> 0.12129603 | V7: =COSH(SQRT(Q7)*K7) -> 1.0073295 | W7: =(1-2*S7)-(1+2*S7)*M7 -> -0.20010332 | X7: =(1-2*S7)*N7-(1+2*S7) -> -2.1587976 | Y7: =R7*(1-L7^2)*P7/2 -> 0.4347777 | Z7: =Y7*Q7/(Q7-1) -> -5.9380749 | AA7: =(W7*(T7*U7+V7)*O7+X7)/((1+T7^2)*U7+2*T7*V7) -> -0.87209176 | AB7: =(W7*O7+X7*(T7*U7+V7))/((1+T7^2)*U7+2*T7*V7) -> -0.98378825 | AC7: =M7+(1-M7)^2*N7/(1-M7*N7) -> 0.035470214 | AD7: =(1-M7)^2/(1-M7*N7)*O7 -> 0.84700298 | AE7: =AC7+Z7*(1+AB7/SQRT(Q7)+N7) -> 0.055473065 | AF7: =AD7+Z7*(AA7/SQRT(Q7)+(1+M7)*O7) -> 0.8669487 | AG7: =1-AE7-AF7 -> 0.077578238 | AI7: 720 | AJ7: 5.547302 | AK7: 86.694873 | AL7: =AJ7/100 -> 0.05547302 | AM7: =AK7/100 -> 0.86694873 | AO7: =(AJ7/100-AE7)^2+(AK7/100-AF7)^2 -> 3.065837e-15
A8: 710 | B8: 56.619725 | C8: 199.63287 | D8: =1.32711+0.0026/(A8/1000)^2+0.00005/(A8/1000)^4 -> 1.3324645 | E8: =B8*B$1 -> 6.3017754 | F8: =C8*B$1 -> 22.219139 | G8: 0.62672041 | H8: 0.01 | J8: =F8*(1-G8)/(F8*(1-G8)+E8) -> 0.56824517 | K8: =(F8*(1-G8)+E8)*H8 -> 0.14595726 | L8: =SQRT(1-1/D8^2) -> 0.66088288 | M8: =(D8-1)^2/(D8+1)^2 -> 0.020317038 | N8: =M8*EXP(-2*K8) -> 0.015173422 | O8: =EXP(-K8) -> 0.86419464 | P8: =J8/(1-J8)*(1-M8)/(1-M8*N8) -> 1.289787 | Q8: =4/(1+L8)^2*(1-J8)/(1-J8*L8) -> 1.0025753 | R8: =(1-M8)/(1+M8) -> 0.96017505 | S8: =R8/(1+L8) -> 0.57811123 | T8: =2*S8/SQRT(Q8) -> 1.1547365 | U8: =SINH(SQRT(Q8)*K8) -> 0.14666588 | V8: =COSH(SQRT(Q8)*K8) -> 1.0106982 | W8: =(1-2*S8)-(1+2*S8)*M8 -> -0.20003052 | X8: =(1-2*S8)*N8-(1+2*S8) -> -2.1585929 | Y8: =R8*(1-L8^2)*P8/2 -> 0.34876039 | Z8: =Y8*Q8/(Q8-1) -> 135.77487 | AA8: =(W8*(T8*U8+V8)*O8+X8)/((1+T8^2)*U8+2*T8*V8) -> -0.88274276 | AB8: =(W8*O8+X8*(T8*U8+V8))/((1+T8^2)*U8+2*T8*V8) -> -1.0163348 | AC8: =M8+(1-M8)^2*N8/(1-M8*N8) -> 0.034884656 | AD8: =(1-M8)^2/(1-M8*N8)*O8 -> 0.82969139 | AE8: =AC8+Z8*(1+AB8/SQRT(Q8)+N8) -> 0.054541671 | AF8: =AD8+Z8*(AA8/SQRT(Q8)+(1+M8)*O8) -> 0.8492722 | AG8: =1-AE8-AF8 -> 0.096186126 | AI8: 710 | AJ8: 5.4541671 | AK8: 84.927217 | AL8: =AJ8/100 -> 0.054541671 | AM8: =AK8/100 -> 0.84927217 | AO8: =(AJ8/100-AE8)^2+(AK8/100-AF8)^2 -> 1.195475e-15
A9: 700 | B9: 101.23723 | C9: 267.40946 | D9: =1.32711+0.0026/(A9/1000)^2+0.00005/(A9/1000)^4 -> 1.3326244 | E9: =B9*B$1 -> 11.267703 | F9: =C9*B$1 -> 29.762673 | G9: 0.67114426 | H9: 0.01 | J9: =F9*(1-G9)/(F9*(1-G9)+E9) -> 0.46485266 | K9: =(F9*(1-G9)+E9)*H9 -> 0.21055329 | L9: =SQRT(1-1/D9^2) -> 0.66098512 | M9: =(D9-1)^2/(D9+1)^2 -> 0.020333798 | N9: =M9*EXP(-2*K9) -> 0.013345481 | O9: =EXP(-K9) -> 0.81013588 | P9: =J9/(1-J9)*(1-M9)/(1-M9*N9) -> 0.85121239 | Q9: =4/(1+L9)^2*(1-J9)/(1-J9*L9) -> 1.1200362 | R9: =(1-M9)/(1+M9) -> 0.96014285 | S9: =R9/(1+L9) -> 0.57805626 | T9: =2*S9/SQRT(Q9) -> 1.092406 | U9: =SINH(SQRT(Q9)*K9) -> 0.22468093 | V9: =COSH(SQRT(Q9)*K9) -> 1.02493 | W9: =(1-2*S9)-(1+2*S9)*M9 -> -0.19995448 | X9: =(1-2*S9)*N9-(1+2*S9) -> -2.1581959 | Y9: =R9*(1-L9^2)*P9/2 -> 0.23010619 | Z9: =Y9*Q9/(Q9-1) -> 2.1470799 | AA9: =(W9*(T9*U9+V9)*O9+X9)/((1+T9^2)*U9+2*T9*V9) -> -0.86526783 | AB9: =(W9*O9+X9*(T9*U9+V9))/((1+T9^2)*U9+2*T9*V9) -> -1.0628166 | AC9: =M9+(1-M9)^2*N9/(1-M9*N9) -> 0.033145546 | AD9: =(1-M9)^2/(1-M9*N9)*O9 -> 0.77773561 | AE9: =AC9+Z9*(1+AB9/SQRT(Q9)+N9) -> 0.052671975 | AF9: =AD9+Z9*(AA9/SQRT(Q9)+(1+M9)*O9) -> 0.79710436 | AG9: =1-AE9-AF9 -> 0.15022366 | AI9: 700 | AJ9: 5.2671933 | AK9: 79.710415 | AL9: =AJ9/100 -> 0.052671933 | AM9: =AK9/100 -> 0.79710415 | AO9: =(AJ9/100-AE9)^2+(AK9/100-AF9)^2 -> 4.8427592e-14
A10: 690 | B10: 257.11766 | C10: 249.50817 | D10: =1.32711+0.0026/(A10/1000)^2+0.00005/(A10/1000)^4 -> 1.3327916 | E10: =B10*B$1 -> 28.617196 | F10: =C10*B$1 -> 27.77026 | G10: 0.52245499 | H10: 0.01 | J10: =F10*(1-G10)/(F10*(1-G10)+E10) -> 0.31666538 | K10: =(F10*(1-G10)+E10)*H10 -> 0.41878745 | L10: =SQRT(1-1/D10^2) -> 0.66109201 | M10: =(D10-1)^2/(D10+1)^2 -> 0.020351334 | N10: =M10*EXP(-2*K10) -> 0.0088072175 | O10: =EXP(-K10) -> 0.65784401 | P10: =J10/(1-J10)*(1-M10)/(1-M10*N10) -> 0.45406222 | Q10: =4/(1+L10)^2*(1-J10)/(1-J10*L10) -> 1.2529074 | R10: =(1-M10)/(1+M10) -> 0.96010916 | S10: =R10/(1+L10) -> 0.57799878 | T10: =2*S10/SQRT(Q10) -> 1.0327553 | U10: =SINH(SQRT(Q10)*K10) -> 0.48611996 | V10: =COSH(SQRT(Q10)*K10) -> 1.111896 | W10: =(1-2*S10)-(1+2*S10)*M10 -> -0.19987499 | X10: =(1-2*S10)*N10-(1+2*S10) -> -2.1573715 | Y10: =R10*(1-L10^2)*P10/2 -> 0.12271043 | Z10: =Y10*Q10/(Q10-1) -> 0.60790942 | AA10: =(W10*(T10*U10+V10)*O10+X10)/((1+T10^2)*U10+2*T10*V10) -> -0.71778559 | AB10: =(W10*O10+X10*(T10*U10+V10))/((1+T10^2)*U10+2*T10*V10) -> -1.0945439 | AC10: =M10+(1-M10)^2*N10/(1-M10*N10) -> 0.028805237 | AD10: =(1-M10)^2/(1-M10*N10)*O10 -> 0.63145365 | AE10: =AC10+Z10*(1+AB10/SQRT(Q10)+N10) -> 0.047622456 | AF10: =AD10+Z10*(AA10/SQRT(Q10)+(1+M10)*O10) -> 0.64967293 | AG10: =1-AE10-AF10 -> 0.30270461 | AI10: 690 | AJ10: 4.7622087 | AK10: 64.967306 | AL10: =AJ10/100 -> 0.047622087 | AM10: =AK10/100 -> 0.64967306 | AO10: =(AJ10/100-AE10)^2+(AK10/100-AF10)^2 -> 1.5288952e-13
A11: 680 | B11: 415.94397 | C11: 253.80439 | D11: =1.32711+0.0026/(A11/1000)^2+0.00005/(A11/1000)^4 -> 1.3329667 | E11: =B11*B$1 -> 46.294564 | F11: =C11*B$1 -> 28.248429 | G11: 0.42226734 | H11: 0.01 | J11: =F11*(1-G11)/(F11*(1-G11)+E11) -> 0.26064271 | K11: =(F11*(1-G11)+E11)*H11 -> 0.62614603 | L11: =SQRT(1-1/D11^2) -> 0.66120384 | M11: =(D11-1)^2/(D11+1)^2 -> 0.020369693 | N11: =M11*EXP(-2*K11) -> 0.0058226537 | O11: =EXP(-K11) -> 0.53464835 | P11: =J11/(1-J11)*(1-M11)/(1-M11*N11) -> 0.34538617 | Q11: =4/(1+L11)^2*(1-J11)/(1-J11*L11) -> 1.2948381 | R11: =(1-M11)/(1+M11) -> 0.9600739 | S11: =R11/(1+L11) -> 0.57793865 | T11: =2*S11/SQRT(Q11) -> 1.0157902 | U11: =SINH(SQRT(Q11)*K11) -> 0.77432987 | V11: =COSH(SQRT(Q11)*K11) -> 1.2647477 | W11: =(1-2*S11)-(1+2*S11)*M11 -> -0.19979185 | X11: =(1-2*S11)*N11-(1+2*S11) -> -2.1567849 | Y11: =R11*(1-L11^2)*P11/2 -> 0.093312757 | Z11: =Y11*Q11/(Q11-1) -> 0.4098009 | AA11: =(W11*(T11*U11+V11)*O11+X11)/((1+T11^2)*U11+2*T11*V11) -> -0.57350938 | AB11: =(W11*O11+X11*(T11*U11+V11))/((1+T11^2)*U11+2*T11*V11) -> -1.0937296 | AC11: =M11+(1-M11)^2*N11/(1-M11*N11) -> 0.025958215 | AD11: =(1-M11)^2/(1-M11*N11)*O11 -> 0.51314981 | AE11: =AC11+Z11*(1+AB11/SQRT(Q11)+N11) -> 0.044255063 | AF11: =AD11+Z11*(AA11/SQRT(Q11)+(1+M11)*O11) -> 0.53017144 | AG11: =1-AE11-AF11 -> 0.42557349 | AI11: 680 | AJ11: 4.425462 | AK11: 53.017152 | AL11: =AJ11/100 -> 0.04425462 | AM11: =AK11/100 -> 0.53017152 | AO11: =(AJ11/100-AE11)^2+(AK11/100-AF11)^2 -> 2.0251049e-13
A12: 670 | B12: 399.05416 | C12: 304.68229 | D12: =1.32711+0.0026/(A12/1000)^2+0.00005/(A12/1000)^4 -> 1.3331501 | E12: =B12*B$1 -> 44.414728 | F12: =C12*B$1 -> 33.911139 | G12: 0.5287421 | H12: 0.01 | J12: =F12*(1-G12)/(F12*(1-G12)+E12) -> 0.2646035 | K12: =(F12*(1-G12)+E12)*H12 -> 0.6039562 | L12: =SQRT(1-1/D12^2) -> 0.6613209 | M12: =(D12-1)^2/(D12+1)^2 -> 0.020388931 | N12: =M12*EXP(-2*K12) -> 0.0060926294 | O12: =EXP(-K12) -> 0.54664472 | P12: =J12/(1-J12)*(1-M12)/(1-M12*N12) -> 0.35251829 | Q12: =4/(1+L12)^2*(1-J12)/(1-J12*L12) -> 1.2918561 | R12: =(1-M12)/(1+M12) -> 0.96003694 | S12: =R12/(1+L12) -> 0.57787568 | T12: =2*S12/SQRT(Q12) -> 1.0168511 | U12: =SINH(SQRT(Q12)*K12) -> 0.74165237 | V12: =COSH(SQRT(Q12)*K12) -> 1.2450093 | W12: =(1-2*S12)-(1+2*S12)*M12 -> -0.19970482 | X12: =(1-2*S12)*N12-(1+2*S12) -> -2.1567003 | Y12: =R12*(1-L12^2)*P12/2 -> 0.095209774 | Z12: =Y12*Q12/(Q12-1) -> 0.42143142 | AA12: =(W12*(T12*U12+V12)*O12+X12)/((1+T12^2)*U12+2*T12*V12) -> -0.58778625 | AB12: =(W12*O12+X12*(T12*U12+V12))/((1+T12^2)*U12+2*T12*V12) -> -1.094114 | AC12: =M12+(1-M12)^2*N12/(1-M12*N12) -> 0.026236375 | AD12: =(1-M12)^2/(1-M12*N12)*O12 -> 0.52464613 | AE12: =AC12+Z12*(1+AB12/SQRT(Q12)+N12) -> 0.044556536 | AF12: =AD12+Z12*(AA12/SQRT(Q12)+(1+M12)*O12) -> 0.54177529 | AG12: =1-AE12-AF12 -> 0.41366817 | AI12: 670 | AJ12: 4.4555922 | AK12: 54.177542 | AL12: =AJ12/100 -> 0.044555922 | AM12: =AK12/100 -> 0.54177542 | AO12: =(AJ12/100-AE12)^2+(AK12/100-AF12)^2 -> 3.9317795e-13
A13: 660 | B13: 286.55043 | C13: 315.52738 | D13: =1.32711+0.0026/(A13/1000)^2+0.00005/(A13/1000)^4 -> 1.3333423 | E13: =B13*B$1 -> 31.893063 | F13: =C13*B$1 -> 35.118197 | G13: 0.60582833 | H13: 0.01 | J13: =F13*(1-G13)/(F13*(1-G13)+E13) -> 0.30266532 | K13: =(F13*(1-G13)+E13)*H13 -> 0.45735662 | L13: =SQRT(1-1/D13^2) -> 0.66144354 | M13: =(D13-1)^2/(D13+1)^2 -> 0.020409103 | N13: =M13*EXP(-2*K13) -> 0.0081765295 | O13: =EXP(-K13) -> 0.63295458 | P13: =J13/(1-J13)*(1-M13)/(1-M13*N13) -> 0.42524441 | Q13: =4/(1+L13)^2*(1-J13)/(1-J13*L13) -> 1.2634164 | R13: =(1-M13)/(1+M13) -> 0.95999819 | S13: =R13/(1+L13) -> 0.5778097 | T13: =2*S13/SQRT(Q13) -> 1.0281147 | U13: =SINH(SQRT(Q13)*K13) -> 0.53702112 | V13: =COSH(SQRT(Q13)*K13) -> 1.1350734 | W13: =(1-2*S13)-(1+2*S13)*M13 -> -0.19961366 | X13: =(1-2*S13)*N13-(1+2*S13) -> -2.1568918 | Y13: =R13*(1-L13^2)*P13/2 -> 0.11481423 | Z13: =Y13*Q13/(Q13-1) -> 0.5506801 | AA13: =(W13*(T13*U13+V13)*O13+X13)/((1+T13^2)*U13+2*T13*V13) -> -0.68924527 | AB13: =(W13*O13+X13*(T13*U13+V13))/((1+T13^2)*U13+2*T13*V13) -> -1.0950389 | AC13: =M13+(1-M13)^2*N13/(1-M13*N13) -> 0.028256597 | AD13: =(1-M13)^2/(1-M13*N13)*O13 -> 0.60748353 | AE13: =AC13+Z13*(1+AB13/SQRT(Q13)+N13) -> 0.046956693 | AF13: =AD13+Z13*(AA13/SQRT(Q13)+(1+M13)*O13) -> 0.62547694 | AG13: =1-AE13-AF13 -> 0.32756637 | AI13: 660 | AJ13: 4.6956682 | AK13: 62.54769 | AL13: =AJ13/100 -> 0.046956682 | AM13: =AK13/100 -> 0.6254769 | AO13: =(AJ13/100-AE13)^2+(AK13/100-AF13)^2 -> 1.6566185e-15
A14: 650 | B14: 248.14913 | C14: 219.59224 | D14: =1.32711+0.0026/(A14/1000)^2+0.00005/(A14/1000)^4 -> 1.3335439 | E14: =B14*B$1 -> 27.618999 | F14: =C14*B$1 -> 24.440616 | G14: 0.46301076 | H14: 0.01 | J14: =F14*(1-G14)/(F14*(1-G14)+E14) -> 0.32212248 | K14: =(F14*(1-G14)+E14)*H14 -> 0.40743346 | L14: =SQRT(1-1/D14^2) -> 0.66157212 | M14: =(D14-1)^2/(D14+1)^2 -> 0.020430273 | N14: =M14*EXP(-2*K14) -> 0.0090444456 | O14: =EXP(-K14) -> 0.66535572 | P14: =J14/(1-J14)*(1-M14)/(1-M14*N14) -> 0.46557045 | Q14: =4/(1+L14)^2*(1-J14)/(1-J14*L14) -> 1.2481227 | R14: =(1-M14)/(1+M14) -> 0.95995753 | S14: =R14/(1+L14) -> 0.57774052 | T14: =2*S14/SQRT(Q14) -> 1.0342706 | U14: =SINH(SQRT(Q14)*K14) -> 0.47106418 | V14: =COSH(SQRT(Q14)*K14) -> 1.1053965 | W14: =(1-2*S14)-(1+2*S14)*M14 -> -0.1995181 | X14: =(1-2*S14)*N14-(1+2*S14) -> -2.1568873 | Y14: =R14*(1-L14^2)*P14/2 -> 0.12565876 | Z14: =Y14*Q14/(Q14-1) -> 0.6320967 | AA14: =(W14*(T14*U14+V14)*O14+X14)/((1+T14^2)*U14+2*T14*V14) -> -0.72613417 | AB14: =(W14*O14+X14*(T14*U14+V14))/((1+T14^2)*U14+2*T14*V14) -> -1.0939104 | AC14: =M14+(1-M14)^2*N14/(1-M14*N14) -> 0.029110536 | AD14: =(1-M14)^2/(1-M14*N14)*O14 -> 0.63856463 | AE14: =AC14+Z14*(1+AB14/SQRT(Q14)+N14) -> 0.048001172 | AF14: =AD14+Z14*(AA14/SQRT(Q14)+(1+M14)*O14) -> 0.65688705 | AG14: =1-AE14-AF14 -> 0.29511178 | AI14: 650 | AJ14: 4.8001175 | AK14: 65.688694 | AL14: =AJ14/100 -> 0.048001175 | AM14: =AK14/100 -> 0.65688694 | AO14: =(AJ14/100-AE14)^2+(AK14/100-AF14)^2 -> 1.1627601e-14
A15: 640 | B15: 175.97706 | C15: 238.72779 | D15: =1.32711+0.0026/(A15/1000)^2+0.00005/(A15/1000)^4 -> 1.3337557 | E15: =B15*B$1 -> 19.586246 | F15: =C15*B$1 -> 26.570403 | G15: 0.56117142 | H15: 0.01 | J15: =F15*(1-G15)/(F15*(1-G15)+E15) -> 0.37316186 | K15: =(F15*(1-G15)+E15)*H15 -> 0.31246099 | L15: =SQRT(1-1/D15^2) -> 0.66170702 | M15: =(D15-1)^2/(D15+1)^2 -> 0.020452507 | N15: =M15*EXP(-2*K15) -> 0.010948292 | O15: =EXP(-K15) -> 0.73164417 | P15: =J15/(1-J15)*(1-M15)/(1-M15*N15) -> 0.58326322 | Q15: =4/(1+L15)^2*(1-J15)/(1-J15*L15) -> 1.2057786 | R15: =(1-M15)/(1+M15) -> 0.95991483 | S15: =R15/(1+L15) -> 0.57766791 | T15: =2*S15/SQRT(Q15) -> 1.0521422 | U15: =SINH(SQRT(Q15)*K15) -> 0.34987865 | V15: =COSH(SQRT(Q15)*K15) -> 1.0594409 | W15: =(1-2*S15)-(1+2*S15)*M15 -> -0.19941785 | X15: =(1-2*S15)*N15-(1+2*S15) -> -2.1570365 | Y15: =R15*(1-L15^2)*P15/2 -> 0.15736739 | Z15: =Y15*Q15/(Q15-1) -> 0.92210853 | AA15: =(W15*(T15*U15+V15)*O15+X15)/((1+T15^2)*U15+2*T15*V15) -> -0.79732811 | AB15: =(W15*O15+X15*(T15*U15+V15))/((1+T15^2)*U15+2*T15*V15) -> -1.0871878 | AC15: =M15+(1-M15)^2*N15/(1-M15*N15) -> 0.030959892 | AD15: =(1-M15)^2/(1-M15*N15)*O15 -> 0.70217954 | AE15: =AC15+Z15*(1+AB15/SQRT(Q15)+N15) -> 0.050201678 | AF15: =AD15+Z15*(AA15/SQRT(Q15)+(1+M15)*O15) -> 0.7210797 | AG15: =1-AE15-AF15 -> 0.22871862 | AI15: 640 | AJ15: 5.0201461 | AK15: 72.107965 | AL15: =AJ15/100 -> 0.050201461 | AM15: =AK15/100 -> 0.72107965 | AO15: =(AJ15/100-AE15)^2+(AK15/100-AF15)^2 -> 4.9483938e-14
... A26: 530 | B26: 96.352498 | C26: 279.54071 | D26: =1.32711+0.0026/(A26/1000)^2+0.00005/(A26/1000)^4 -> 1.3369996 | E26: =B26*B$1 -> 10.724033 | F26: =C26*B$1 -> 31.112881 | G26: 0.68075726 | H26: 0.01 | J26: =F26*(1-G26)/(F26*(1-G26)+E26) -> 0.48084216 | K26: =(F26*(1-G26)+E26)*H26 -> 0.20656595 | L26: =SQRT(1-1/D26^2) -> 0.66376256 | M26: =(D26-1)^2/(D26+1)^2 -> 0.020794169 | N26: =M26*EXP(-2*K26) -> 0.013756903 | O26: =EXP(-K26) -> 0.81337262 | P26: =J26/(1-J26)*(1-M26)/(1-M26*N26) -> 0.9071965 | Q26: =4/(1+L26)^2*(1-J26)/(1-J26*L26) -> 1.1018814 | R26: =(1-M26)/(1+M26) -> 0.95925884 | S26: =R26/(1+L26) -> 0.57655994 | T26: =2*S26/SQRT(Q26) -> 1.0985176 | U26: =SINH(SQRT(Q26)*K26) -> 0.21853652 | V26: =COSH(SQRT(Q26)*K26) -> 1.0236006 | W26: =(1-2*S26)-(1+2*S26)*M26 -> -0.19789222 | X26: =(1-2*S26)*N26-(1+2*S26) -> -2.1552263 | Y26: =R26*(1-L26^2)*P26/2 -> 0.24341347 | Z26: =Y26*Q26/(Q26-1) -> 2.6325978 | AA26: =(W26*(T26*U26+V26)*O26+X26)/((1+T26^2)*U26+2*T26*V26) -> -0.86360501 | AB26: =(W26*O26+X26*(T26*U26+V26))/((1+T26^2)*U26+2*T26*V26) -> -1.0561333 | AC26: =M26+(1-M26)^2*N26/(1-M26*N26) -> 0.033988669 | AD26: =(1-M26)^2/(1-M26*N26)*O26 -> 0.78012067 | AE26: =AC26+Z26*(1+AB26/SQRT(Q26)+N26) -> 0.054084157 | AF26: =AD26+Z26*(AA26/SQRT(Q26)+(1+M26)*O26) -> 0.80006058 | AG26: =1-AE26-AF26 -> 0.14585526 | AI26: 530 | AJ26: 5.4083755 | AK26: 80.006073 | AL26: =AJ26/100 -> 0.054083755 | AM26: =AK26/100 -> 0.80006073 | AO26: =(AJ26/100-AE26)^2+(AK26/100-AF26)^2 -> 1.8421682e-13
A27: 520 | B27: 126.25773 | C27: 302.78692 | D27: =1.32711+0.0026/(A27/1000)^2+0.00005/(A27/1000)^4 -> 1.3374092 | E27: =B27*B$1 -> 14.052486 | F27: =C27*B$1 -> 33.700184 | G27: 0.68037082 | H27: 0.01 | J27: =F27*(1-G27)/(F27*(1-G27)+E27) -> 0.43391642 | K27: =(F27*(1-G27)+E27)*H27 -> 0.24824048 | L27: =SQRT(1-1/D27^2) -> 0.66402058 | M27: =(D27-1)^2/(D27+1)^2 -> 0.020837442 | N27: =M27*EXP(-2*K27) -> 0.012683101 | O27: =EXP(-K27) -> 0.7801723 | P27: =J27/(1-J27)*(1-M27)/(1-M27*N27) -> 0.75074963 | Q27: =4/(1+L27)^2*(1-J27)/(1-J27*L27) -> 1.148741 | R27: =(1-M27)/(1+M27) -> 0.95917579 | S27: =R27/(1+L27) -> 0.57642063 | T27: =2*S27/SQRT(Q27) -> 1.075619 | U27: =SINH(SQRT(Q27)*K27) -> 0.26921269 | V27: =COSH(SQRT(Q27)*K27) -> 1.0356039 | W27: =(1-2*S27)-(1+2*S27)*M27 -> -0.19770096 | X27: =(1-2*S27)*N27-(1+2*S27) -> -2.1547798 | Y27: =R27*(1-L27^2)*P27/2 -> 0.2012958 | Z27: =Y27*Q27/(Q27-1) -> 1.5546267 | AA27: =(W27*(T27*U27+V27)*O27+X27)/((1+T27^2)*U27+2*T27*V27) -> -0.84000961 | AB27: =(W27*O27+X27*(T27*U27+V27))/((1+T27^2)*U27+2*T27*V27) -> -1.0716355 | AC27: =M27+(1-M27)^2*N27/(1-M27*N27) -> 0.033000698 | AD27: =(1-M27)^2/(1-M27*N27)*O27 -> 0.7481952 | AE27: =AC27+Z27*(1+AB27/SQRT(Q27)+N27) -> 0.052947205 | AF27: =AD27+Z27*(AA27/SQRT(Q27)+(1+M27)*O27) -> 0.7679187 | AG27: =1-AE27-AF27 -> 0.17913409 | AI27: 520 | AJ27: 5.2946663 | AK27: 76.791877 | AL27: =AJ27/100 -> 0.052946663 | AM27: =AK27/100 -> 0.76791877 | AO27: =(AJ27/100-AE27)^2+(AK27/100-AF27)^2 -> 2.9798148e-13 | AQ27: n_lambda = A + B/lambda^2 + C/lambda^4
A28: 510 | B28: 198.74426 | C28: 286.58254 | D28: =1.32711+0.0026/(A28/1000)^2+0.00005/(A28/1000)^4 -> 1.3378452 | E28: =B28*B$1 -> 22.120236 | F28: =C28*B$1 -> 31.896637 | G28: 0.60666364 | H28: 0.01 | J28: =F28*(1-G28)/(F28*(1-G28)+E28) -> 0.36191031 | K28: =(F28*(1-G28)+E28)*H28 -> 0.34666343 | L28: =SQRT(1-1/D28^2) -> 0.66429487 | M28: =(D28-1)^2/(D28+1)^2 -> 0.020883538 | N28: =M28*EXP(-2*K28) -> 0.010439893 | O28: =EXP(-K28) -> 0.70704326 | P28: =J28/(1-J28)*(1-M28)/(1-M28*N28) -> 0.55545424 | Q28: =4/(1+L28)^2*(1-J28)/(1-J28*L28) -> 1.2131231 | R28: =(1-M28)/(1+M28) -> 0.95908733 | S28: =R28/(1+L28) -> 0.57627248 | T28: =2*S28/SQRT(Q28) -> 1.0464186 | U28: =SINH(SQRT(Q28)*K28) -> 0.39116692 | V28: =COSH(SQRT(Q28)*K28) -> 1.0737838 | W28: =(1-2*S28)-(1+2*S28)*M28 -> -0.1974977 | X28: =(1-2*S28)*N28-(1+2*S28) -> -2.1541375 | Y28: =R28*(1-L28^2)*P28/2 -> 0.14882116 | Z28: =Y28*Q28/(Q28-1) -> 0.84710842 | AA28: =(W28*(T28*U28+V28)*O28+X28)/((1+T28^2)*U28+2*T28*V28) -> -0.76994895 | AB28: =(W28*O28+X28*(T28*U28+V28))/((1+T28^2)*U28+2*T28*V28) -> -1.0872952 | AC28: =M28+(1-M28)^2*N28/(1-M28*N28) -> 0.030894123 | AD28: =(1-M28)^2/(1-M28*N28)*O28 -> 0.6779683 | AE28: =AC28+Z28*(1+AB28/SQRT(Q28)+N28) -> 0.050600318 | AF28: =AD28+Z28*(AA28/SQRT(Q28)+(1+M28)*O28) -> 0.69724579 | AG28: =1-AE28-AF28 -> 0.2521539 | AI28: 510 | AJ28: 5.0599833 | AK28: 69.724598 | AL28: =AJ28/100 -> 0.050599833 | AM28: =AK28/100 -> 0.69724598 | AO28: =(AJ28/100-AE28)^2+(AK28/100-AF28)^2 -> 2.7301212e-13 | AQ28: =1.32711+0.0026/(A28/1000)^2+0.00005/(A28/1000)^4 -> 1.3378452
A29: 500 | B29: 303.77707 | C29: 286.41564 | D29: =1.32711+0.0026/(A29/1000)^2+0.00005/(A29/1000)^4 -> 1.33831 | E29: =B29*B$1 -> 33.810388 | F29: =C29*B$1 -> 31.878061 | G29: 0.53739372 | H29: 0.01 | J29: =F29*(1-G29)/(F29*(1-G29)+E29) -> 0.30370237 | K29: =(F29*(1-G29)+E29)*H29 -> 0.48557379 | L29: =SQRT(1-1/D29^2) -> 0.66458684 | M29: =(D29-1)^2/(D29+1)^2 -> 0.020932712 | N29: =M29*EXP(-2*K29) -> 0.0079261349 | O29: =EXP(-K29) -> 0.61534402 | P29: =J29/(1-J29)*(1-M29)/(1-M29*N29) -> 0.42710816 | Q29: =4/(1+L29)^2*(1-J29)/(1-J29*L29) -> 1.2593608 | R29: =(1-M29)/(1+M29) -> 0.95899296 | S29: =R29/(1+L29) -> 0.57611471 | T29: =2*S29/SQRT(Q29) -> 1.026748 | U29: =SINH(SQRT(Q29)*K29) -> 0.57228763 | V29: =COSH(SQRT(Q29)*K29) -> 1.1521776 | W29: =(1-2*S29)-(1+2*S29)*M29 -> -0.19728142 | X29: =(1-2*S29)*N29-(1+2*S29) -> -2.153436 | Y29: =R29*(1-L29^2)*P29/2 -> 0.11434307 | Z29: =Y29*Q29/(Q29-1) -> 0.55520789 | AA29: =(W29*(T29*U29+V29)*O29+X29)/((1+T29^2)*U29+2*T29*V29) -> -0.66767642 | AB29: =(W29*O29+X29*(T29*U29+V29))/((1+T29^2)*U29+2*T29*V29) -> -1.0921318 | AC29: =M29+(1-M29)^2*N29/(1-M29*N29) -> 0.02853175 | AD29: =(1-M29)^2/(1-M29*N29)*O29 -> 0.58994989 | AE29: =AC29+Z29*(1+AB29/SQRT(Q29)+N29) -> 0.047814615 | AF29: =AD29+Z29*(AA29/SQRT(Q29)+(1+M29)*O29) -> 0.60841637 | AG29: =1-AE29-AF29 -> 0.34376901 | AI29: 500 | AJ29: 4.7814624 | AK29: 60.841632 | AL29: =AJ29/100 -> 0.047814624 | AM29: =AK29/100 -> 0.60841632 | AO29: =(AJ29/100-AE29)^2+(AK29/100-AF29)^2 -> 2.7425435e-15 | AQ29: A = 1.32711
A30: 490 | B30: 387.69906 | C30: 271.7124 | D30: =1.32711+0.0026/(A30/1000)^2+0.00005/(A30/1000)^4 -> 1.3388062 | E30: =B30*B$1 -> 43.150905 | F30: =C30*B$1 -> 30.24159 | G30: 0.45667955 | H30: 0.01 | J30: =F30*(1-G30)/(F30*(1-G30)+E30) -> 0.27577012 | K30: =(F30*(1-G30)+E30)*H30 -> 0.59581779 | L30: =SQRT(1-1/D30^2) -> 0.66489805 | M30: =(D30-1)^2/(D30+1)^2 -> 0.020985249 | N30: =M30*EXP(-2*K30) -> 0.0063737256 | O30: =EXP(-K30) -> 0.55111169 | P30: =J30/(1-J30)*(1-M30)/(1-M30*N30) -> 0.37283621 | Q30: =4/(1+L30)^2*(1-J30)/(1-J30*L30) -> 1.2797642 | R30: =(1-M30)/(1+M30) -> 0.95889216 | S30: =R30/(1+L30) -> 0.57594647 | T30: =2*S30/SQRT(Q30) -> 1.0182329 | U30: =SINH(SQRT(Q30)*K30) -> 0.72623764 | V30: =COSH(SQRT(Q30)*K30) -> 1.2358888 | W30: =(1-2*S30)-(1+2*S30)*M30 -> -0.19705096 | X30: =(1-2*S30)*N30-(1+2*S30) -> -2.1528611 | Y30: =R30*(1-L30^2)*P30/2 -> 0.099729229 | Z30: =Y30*Q30/(Q30-1) -> 0.4562052 | AA30: =(W30*(T30*U30+V30)*O30+X30)/((1+T30^2)*U30+2*T30*V30) -> -0.59243085 | AB30: =(W30*O30+X30*(T30*U30+V30))/((1+T30^2)*U30+2*T30*V30) -> -1.0914016 | AC30: =M30+(1-M30)^2*N30/(1-M30*N30) -> 0.02709509 | AD30: =(1-M30)^2/(1-M30*N30)*O30 -> 0.52829461 | AE30: =AC30+Z30*(1+AB30/SQRT(Q30)+N30) -> 0.046079184 | AF30: =AD30+Z30*(AA30/SQRT(Q30)+(1+M30)*O30) -> 0.54608152 | AG30: =1-AE30-AF30 -> 0.40783929 | AI30: 490 | AJ30: 4.6079121 | AK30: 54.608118 | AL30: =AJ30/100 -> 0.046079121 | AM30: =AK30/100 -> 0.54608118 | AO30: =(AJ30/100-AE30)^2+(AK30/100-AF30)^2 -> 1.2028271e-13 | AQ30: B = 2.6 X 10^-3
A31: 480 | B31: 412.77839 | C31: 296.73884 | D31: =1.32711+0.0026/(A31/1000)^2+0.00005/(A31/1000)^4 -> 1.3393366 | E31: =B31*B$1 -> 45.942235 | F31: =C31*B$1 -> 33.027033 | G31: 0.48628048 | H31: 0.01 | J31: =F31*(1-G31)/(F31*(1-G31)+E31) -> 0.26970175 | K31: =(F31*(1-G31)+E31)*H31 -> 0.62908866 | L31: =SQRT(1-1/D31^2) -> 0.66523024 | M31: =(D31-1)^2/(D31+1)^2 -> 0.021041468 | N31: =M31*EXP(-2*K31) -> 0.0059793856 | O31: =EXP(-K31) -> 0.53307739 | P31: =J31/(1-J31)*(1-M31)/(1-M31*N31) -> 0.36157837 | Q31: =4/(1+L31)^2*(1-J31)/(1-J31*L31) -> 1.2837707 | R31: =(1-M31)/(1+M31) -> 0.9587843 | S31: =R31/(1+L31) -> 0.57576681 | T31: =2*S31/SQRT(Q31) -> 1.0163257 | U31: =SINH(SQRT(Q31)*K31) -> 0.7746873 | V31: =COSH(SQRT(Q31)*K31) -> 1.2649666 | W31: =(1-2*S31)-(1+2*S31)*M31 -> -0.19680505 | X31: =(1-2*S31)*N31-(1+2*S31) -> -2.1524397 | Y31: =R31*(1-L31^2)*P31/2 -> 0.096630422 | Z31: =Y31*Q31/(Q31-1) -> 0.43715338 | AA31: =(W31*(T31*U31+V31)*O31+X31)/((1+T31^2)*U31+2*T31*V31) -> -0.57107757 | AB31: =(W31*O31+X31*(T31*U31+V31))/((1+T31^2)*U31+2*T31*V31) -> -1.0907489 | AC31: =M31+(1-M31)^2*N31/(1-M31*N31) -> 0.026772591 | AD31: =(1-M31)^2/(1-M31*N31)*O31 -> 0.51094423 | AE31: =AC31+Z31*(1+AB31/SQRT(Q31)+N31) -> 0.045701919 | AF31: =AD31+Z31*(AA31/SQRT(Q31)+(1+M31)*O31) -> 0.52854837 | AG31: =1-AE31-AF31 -> 0.42574971 | AI31: 480 | AJ31: 4.5701401 | AK31: 52.854867 | AL31: =AJ31/100 -> 0.045701401 | AM31: =AK31/100 -> 0.52854867 | AO31: =(AJ31/100-AE31)^2+(AK31/100-AF31)^2 -> 3.5426293e-13 | AQ31: C = 5.0 X 10^-5
A32: 470 | B32: 422.12389 | C32: 300.45988 | D32: =1.32711+0.0026/(A32/1000)^2+0.00005/(A32/1000)^4 -> 1.3399047 | E32: =B32*B$1 -> 46.982389 | F32: =C32*B$1 -> 33.441185 | G32: 0.4872355 | H32: 0.01 | J32: =F32*(1-G32)/(F32*(1-G32)+E32) -> 0.26738648 | K32: =(F32*(1-G32)+E32)*H32 -> 0.64129842 | L32: =SQRT(1-1/D32^2) -> 0.66558535 | M32: =(D32-1)^2/(D32+1)^2 -> 0.021101726 | N32: =M32*EXP(-2*K32) -> 0.0058518508 | O32: =EXP(-K32) -> 0.52660822 | P32: =J32/(1-J32)*(1-M32)/(1-M32*N32) -> 0.35731866 | Q32: =4/(1+L32)^2*(1-J32)/(1-J32*L32) -> 1.2850283 | R32: =(1-M32)/(1+M32) -> 0.95866871 | S32: =R32/(1+L32) -> 0.57557465 | T32: =2*S32/SQRT(Q32) -> 1.0154892 | U32: =SINH(SQRT(Q32)*K32) -> 0.79271567 | V32: =COSH(SQRT(Q32)*K32) -> 1.276087 | W32: =(1-2*S32)-(1+2*S32)*M32 -> -0.19654227 | X32: =(1-2*S32)*N32-(1+2*S32) -> -2.1520338 | Y32: =R32*(1-L32^2)*P32/2 -> 0.095399576 | Z32: =Y32*Q32/(Q32-1) -> 0.43010171 | AA32: =(W32*(T32*U32+V32)*O32+X32)/((1+T32^2)*U32+2*T32*V32) -> -0.56342046 | AB32: =(W32*O32+X32*(T32*U32+V32))/((1+T32^2)*U32+2*T32*V32) -> -1.0904771 | AC32: =M32+(1-M32)^2*N32/(1-M32*N32) -> 0.026709907 | AD32: =(1-M32)^2/(1-M32*N32)*O32 -> 0.50468035 | AE32: =AC32+Z32*(1+AB32/SQRT(Q32)+N32) -> 0.045584836 | AF32: =AD32+Z32*(AA32/SQRT(Q32)+(1+M32)*O32) -> 0.52218455 | AG32: =1-AE32-AF32 -> 0.43223062 | AI32: 470 | AJ32: 4.5584719 | AK32: 52.218419 | AL32: =AJ32/100 -> 0.045584719 | AM32: =AK32/100 -> 0.52218419 | AO32: =(AJ32/100-AE32)^2+(AK32/100-AF32)^2 -> 1.4021702e-13
A33: 460 | B33: 419.59371 | C33: 296.95286 | D33: =1.32711+0.0026/(A33/1000)^2+0.00005/(A33/1000)^4 -> 1.340514 | E33: =B33*B$1 -> 46.70078 | F33: =C33*B$1 -> 33.050853 | G33: 0.48153029 | H33: 0.01 | J33: =F33*(1-G33)/(F33*(1-G33)+E33) -> 0.26843306 | K33: =(F33*(1-G33)+E33)*H33 -> 0.63836647 | L33: =SQRT(1-1/D33^2) -> 0.66596556 | M33: =(D33-1)^2/(D33+1)^2 -> 0.021166427 | N33: =M33*EXP(-2*K33) -> 0.0059043144 | O33: =EXP(-K33) -> 0.52815448 | P33: =J33/(1-J33)*(1-M33)/(1-M33*N33) -> 0.35920723 | Q33: =4/(1+L33)^2*(1-J33)/(1-J33*L33) -> 1.2838543 | R33: =(1-M33)/(1+M33) -> 0.95854461 | S33: =R33/(1+L33) -> 0.5753688 | T33: =2*S33/SQRT(Q33) -> 1.0155901 | U33: =SINH(SQRT(Q33)*K33) -> 0.78805777 | V33: =COSH(SQRT(Q33)*K33) -> 1.2731987 | W33: =(1-2*S33)-(1+2*S33)*M33 -> -0.19626104 | X33: =(1-2*S33)*N33-(1+2*S33) -> -2.1516276 | Y33: =R33*(1-L33^2)*P33/2 -> 0.095804226 | Z33: =Y33*Q33/(Q33-1) -> 0.43331626 | AA33: =(W33*(T33*U33+V33)*O33+X33)/((1+T33^2)*U33+2*T33*V33) -> -0.56522026 | AB33: =(W33*O33+X33*(T33*U33+V33))/((1+T33^2)*U33+2*T33*V33) -> -1.0903211 | AC33: =M33+(1-M33)^2*N33/(1-M33*N33) -> 0.026824147 | AD33: =(1-M33)^2/(1-M33*N33)*O33 -> 0.50609606 | AE33: =AC33+Z33*(1+AB33/SQRT(Q33)+N33) -> 0.045731962 | AF33: =AD33+Z33*(AA33/SQRT(Q33)+(1+M33)*O33) -> 0.52364331 | AG33: =1-AE33-AF33 -> 0.43062473 | AI33: 460 | AJ33: 4.573179 | AK33: 52.364334 | AL33: =AJ33/100 -> 0.04573179 | AM33: =AK33/100 -> 0.52364334 | AO33: =(AJ33/100-AE33)^2+(AK33/100-AF33)^2 -> 3.0892172e-14
A34: 450 | B34: 458.22728 | C34: 283.32766 | D34: =1.32711+0.0026/(A34/1000)^2+0.00005/(A34/1000)^4 -> 1.3411688 | E34: =B34*B$1 -> 51.000696 | F34: =C34*B$1 -> 31.534369 | G34: 0.42982939 | H34: 0.01 | J34: =F34*(1-G34)/(F34*(1-G34)+E34) -> 0.26065232 | K34: =(F34*(1-G34)+E34)*H34 -> 0.68980666 | L34: =SQRT(1-1/D34^2) -> 0.6663733 | M34: =(D34-1)^2/(D34+1)^2 -> 0.021236025 | N34: =M34*EXP(-2*K34) -> 0.0053445947 | O34: =EXP(-K34) -> 0.50167305 | P34: =J34/(1-J34)*(1-M34)/(1-M34*N34) -> 0.34509617 | Q34: =4/(1+L34)^2*(1-J34)/(1-J34*L34) -> 1.2889083 | R34: =(1-M34)/(1+M34) -> 0.95841113 | S34: =R34/(1+L34) -> 0.57514792 | T34: =2*S34/SQRT(Q34) -> 1.0132078 | U34: =SINH(SQRT(Q34)*K34) -> 0.86567958 | V34: =COSH(SQRT(Q34)*K34) -> 1.3226493 | W34: =(1-2*S34)-(1+2*S34)*M34 -> -0.19595957 | X34: =(1-2*S34)*N34-(1+2*S34) -> -2.1510991 | Y34: =R34*(1-L34^2)*P34/2 -> 0.091938008 | Z34: =Y34*Q34/(Q34-1) -> 0.41016358 | AA34: =(W34*(T34*U34+V34)*O34+X34)/((1+T34^2)*U34+2*T34*V34) -> -0.53383498 | AB34: =(W34*O34+X34*(T34*U34+V34))/((1+T34^2)*U34+2*T34*V34) -> -1.0892073 | AC34: =M34+(1-M34)^2*N34/(1-M34*N34) -> 0.026356615 | AD34: =(1-M34)^2/(1-M34*N34)*O34 -> 0.48064676 | AE34: =AC34+Z34*(1+AB34/SQRT(Q34)+N34) -> 0.04520157 | AF34: =AD34+Z34*(AA34/SQRT(Q34)+(1+M34)*O34) -> 0.49791961 | AG34: =1-AE34-AF34 -> 0.45687883 | AI34: 450 | AJ34: 4.5200315 | AK34: 49.791999 | AL34: =AJ34/100 -> 0.045200315 | AM34: =AK34/100 -> 0.49791999 | AO34: =(AJ34/100-AE34)^2+(AK34/100-AF34)^2 -> 1.725871e-12
A35: 440 | B35: 532.85264 | C35: 428.00687 | D35: =1.32711+0.0026/(A35/1000)^2+0.00005/(A35/1000)^4 -> 1.3418738 | E35: =B35*B$1 -> 59.306499 | F35: =C35*B$1 -> 47.637164 | G35: 0.58843773 | H35: 0.01 | J35: =F35*(1-G35)/(F35*(1-G35)+E35) -> 0.24844916 | K35: =(F35*(1-G35)+E35)*H35 -> 0.78912159 | L35: =SQRT(1-1/D35^2) -> 0.66681132 | M35: =(D35-1)^2/(D35+1)^2 -> 0.021311037 | N35: =M35*EXP(-2*K35) -> 0.0043972613 | O35: =EXP(-K35) -> 0.45424363 | P35: =J35/(1-J35)*(1-M35)/(1-M35*N35) -> 0.32356725 | Q35: =4/(1+L35)^2*(1-J35)/(1-J35*L35) -> 1.2969014 | R35: =(1-M35)/(1+M35) -> 0.95826729 | S35: =R35/(1+L35) -> 0.57491048 | T35: =2*S35/SQRT(Q35) -> 1.0096637 | U35: =SINH(SQRT(Q35)*K35) -> 1.0246032 | V35: =COSH(SQRT(Q35)*K35) -> 1.4317163 | W35: =(1-2*S35)-(1+2*S35)*M35 -> -0.19563587 | X35: =(1-2*S35)*N35-(1+2*S35) -> -2.1504798 | Y35: =R35*(1-L35^2)*P35/2 -> 0.08609896 | Z35: =Y35*Q35/(Q35-1) -> 0.37609077 | AA35: =(W35*(T35*U35+V35)*O35+X35)/((1+T35^2)*U35+2*T35*V35) -> -0.47773063 | AB35: =(W35*O35+X35*(T35*U35+V35))/((1+T35^2)*U35+2*T35*V35) -> -1.0871366 | AC35: =M35+(1-M35)^2*N35/(1-M35*N35) -> 0.02552327 | AD35: =(1-M35)^2/(1-M35*N35)*O35 -> 0.4351299 | AE35: =AC35+Z35*(1+AB35/SQRT(Q35)+N35) -> 0.044243951 | AF35: =AD35+Z35*(AA35/SQRT(Q35)+(1+M35)*O35) -> 0.45183823 | AG35: =1-AE35-AF35 -> 0.50391782 | AI35: 440 | AJ35: 4.4243994 | AK35: 45.183822 | AL35: =AJ35/100 -> 0.044243994 | AM35: =AK35/100 -> 0.45183822 | AO35: =(AJ35/100-AE35)^2+(AK35/100-AF35)^2 -> 1.8173152e-15
A36: 430 | B36: 522.9461 | C36: 1250.2215 | D36: =1.32711+0.0026/(A36/1000)^2+0.00005/(A36/1000)^4 -> 1.3426342 | E36: =B36*B$1 -> 58.203901 | F36: =C36*B$1 -> 139.14965 | G36: 0.86035048 | H36: 0.01 | J36: =F36*(1-G36)/(F36*(1-G36)+E36) -> 0.25029834 | K36: =(F36*(1-G36)+E36)*H36 -> 0.77636083 | L36: =SQRT(1-1/D36^2) -> 0.66728271 | M36: =(D36-1)^2/(D36+1)^2 -> 0.021392048 | N36: =M36*EXP(-2*K36) -> 0.0045280782 | O36: =EXP(-K36) -> 0.46007727 | P36: =J36/(1-J36)*(1-M36)/(1-M36*N36) -> 0.32675354 | Q36: =4/(1+L36)^2*(1-J36)/(1-J36*L36) -> 1.295076 | R36: =(1-M36)/(1+M36) -> 0.95811197 | S36: =R36/(1+L36) -> 0.57465478 | T36: =2*S36/SQRT(Q36) -> 1.0099256 | U36: =SINH(SQRT(Q36)*K36) -> 1.003023 | V36: =COSH(SQRT(Q36)*K36) -> 1.4163528 | W36: =(1-2*S36)-(1+2*S36)*M36 -> -0.19528769 | X36: =(1-2*S36)*N36-(1+2*S36) -> -2.1499856 | Y36: =R36*(1-L36^2)*P36/2 -> 0.086834276 | Z36: =Y36*Q36/(Q36-1) -> 0.3811119 | AA36: =(W36*(T36*U36+V36)*O36+X36)/((1+T36^2)*U36+2*T36*V36) -> -0.4846151 | AB36: =(W36*O36+X36*(T36*U36+V36))/((1+T36^2)*U36+2*T36*V36) -> -1.0871716 | AC36: =M36+(1-M36)^2*N36/(1-M36*N36) -> 0.025728889 | AD36: =(1-M36)^2/(1-M36*N36)*O36 -> 0.4406465 | AE36: =AC36+Z36*(1+AB36/SQRT(Q36)+N36) -> 0.044481326 | AF36: =AD36+Z36*(AA36/SQRT(Q36)+(1+M36)*O36) -> 0.45744457 | AG36: =1-AE36-AF36 -> 0.49807411 | AI36: 430 | AJ36: 4.4479933 | AK36: 45.744485 | AL36: =AJ36/100 -> 0.044479933 | AM36: =AK36/100 -> 0.45744485 | AO36: =(AJ36/100-AE36)^2+(AK36/100-AF36)^2 -> 2.0217926e-12
A37: 420 | B37: 495.28239 | C37: 615.71608 | D37: =1.32711+0.0026/(A37/1000)^2+0.00005/(A37/1000)^4 -> 1.3434561 | E37: =B37*B$1 -> 55.12493 | F37: =C37*B$1 -> 68.5292 | G37: 0.72229231 | H37: 0.01 | J37: =F37*(1-G37)/(F37*(1-G37)+E37) -> 0.25663576 | K37: =(F37*(1-G37)+E37)*H37 -> 0.74156015 | L37: =SQRT(1-1/D37^2) -> 0.66779096 | M37: =(D37-1)^2/(D37+1)^2 -> 0.021479727 | N37: =M37*EXP(-2*K37) -> 0.0048743622 | O37: =EXP(-K37) -> 0.47637012 | P37: =J37/(1-J37)*(1-M37)/(1-M37*N37) -> 0.33785536 | Q37: =4/(1+L37)^2*(1-J37)/(1-J37*L37) -> 1.2900974 | R37: =(1-M37)/(1+M37) -> 0.9579439 | S37: =R37/(1+L37) -> 0.57437888 | T37: =2*S37/SQRT(Q37) -> 1.0113866 | U37: =SINH(SQRT(Q37)*K37) -> 0.94546656 | V37: =COSH(SQRT(Q37)*K37) -> 1.3761929 | W37: =(1-2*S37)-(1+2*S37)*M37 -> -0.19491248 | X37: =(1-2*S37)*N37-(1+2*S37) -> -2.1494829 | Y37: =R37*(1-L37^2)*P37/2 -> 0.089659012 | Z37: =Y37*Q37/(Q37-1) -> 0.39872418 | AA37: =(W37*(T37*U37+V37)*O37+X37)/((1+T37^2)*U37+2*T37*V37) -> -0.50381001 | AB37: =(W37*O37+X37*(T37*U37+V37))/((1+T37^2)*U37+2*T37*V37) -> -1.0873121 | AC37: =M37+(1-M37)^2*N37/(1-M37*N37) -> 0.026147427 | AD37: =(1-M37)^2/(1-M37*N37)*O37 -> 0.45617307 | AE37: =AC37+Z37*(1+AB37/SQRT(Q37)+N37) -> 0.045120941 | AF37: =AD37+Z37*(AA37/SQRT(Q37)+(1+M37)*O37) -> 0.47333384 | AG37: =1-AE37-AF37 -> 0.48154522 | AI37: 420 | AJ37: 4.5120339 | AK37: 47.333331 | AL37: =AJ37/100 -> 0.045120339 | AM37: =AK37/100 -> 0.47333331 | AO37: =(AJ37/100-AE37)^2+(AK37/100-AF37)^2 -> 6.4510306e-13
A38: 410 | B38: 460.44817 | C38: 626.92972 | D38: =1.32711+0.0026/(A38/1000)^2+0.00005/(A38/1000)^4 -> 1.3443464 | E38: =B38*B$1 -> 51.247881 | F38: =C38*B$1 -> 69.777278 | G38: 0.73607709 | H38: 0.01 | J38: =F38*(1-G38)/(F38*(1-G38)+E38) -> 0.26435319 | K38: =(F38*(1-G38)+E38)*H38 -> 0.69663704 | L38: =SQRT(1-1/D38^2) -> 0.66834005 | M38: =(D38-1)^2/(D38+1)^2 -> 0.021574839 | N38: =M38*EXP(-2*K38) -> 0.0053561943 | O38: =EXP(-K38) -> 0.49825811 | P38: =J38/(1-J38)*(1-M38)/(1-M38*N38) -> 0.35163574 | Q38: =4/(1+L38)^2*(1-J38)/(1-J38*L38) -> 1.284075 | R38: =(1-M38)/(1+M38) -> 0.95776161 | S38: =R38/(1+L38) -> 0.57408057 | T38: =2*S38/SQRT(Q38) -> 1.0132291 | U38: =SINH(SQRT(Q38)*K38) -> 0.87398998 | V38: =COSH(SQRT(Q38)*K38) -> 1.3281033 | W38: =(1-2*S38)-(1+2*S38)*M38 -> -0.19450738 | X38: =(1-2*S38)*N38-(1+2*S38) -> -2.1489547 | Y38: =R38*(1-L38^2)*P38/2 -> 0.093174709 | Z38: =Y38*Q38/(Q38-1) -> 0.42116808 | AA38: =(W38*(T38*U38+V38)*O38+X38)/((1+T38^2)*U38+2*T38*V38) -> -0.52962158 | AB38: =(W38*O38+X38*(T38*U38+V38))/((1+T38^2)*U38+2*T38*V38) -> -1.0876971 | AC38: =M38+(1-M38)^2*N38/(1-M38*N38) -> 0.026703001 | AD38: =(1-M38)^2/(1-M38*N38)*O38 -> 0.47704549 | AE38: =AC38+Z38*(1+AB38/SQRT(Q38)+N38) -> 0.045860016 | AF38: =AD38+Z38*(AA38/SQRT(Q38)+(1+M38)*O38) -> 0.49457769 | AG38: =1-AE38-AF38 -> 0.45956229 | AI38: 410 | AJ38: 4.5859997 | AK38: 49.457741 | AL38: =AJ38/100 -> 0.045859997 | AM38: =AK38/100 -> 0.49457741 | AO38: =(AJ38/100-AE38)^2+(AK38/100-AF38)^2 -> 7.972944e-14
A39: 400 | B39: 406.35063 | C39: 430.69794 | D39: =1.32711+0.0026/(A39/1000)^2+0.00005/(A39/1000)^4 -> 1.3453131 | E39: =B39*B$1 -> 45.226825 | F39: =C39*B$1 -> 47.936681 | G39: 0.63435556 | H39: 0.01 | J39: =F39*(1-G39)/(F39*(1-G39)+E39) -> 0.27930668 | K39: =(F39*(1-G39)+E39)*H39 -> 0.62754605 | L39: =SQRT(1-1/D39^2) -> 0.66893448 | M39: =(D39-1)^2/(D39+1)^2 -> 0.021678264 | N39: =M39*EXP(-2*K39) -> 0.0061793803 | O39: =EXP(-K39) -> 0.53390036 | P39: =J39/(1-J39)*(1-M39)/(1-M39*N39) -> 0.37920209 | Q39: =4/(1+L39)^2*(1-J39)/(1-J39*L39) -> 1.2727842 | R39: =(1-M39)/(1+M39) -> 0.95756342 | S39: =R39/(1+L39) -> 0.57375735 | T39: =2*S39/SQRT(Q39) -> 1.0171403 | U39: =SINH(SQRT(Q39)*K39) -> 0.76862832 | V39: =COSH(SQRT(Q39)*K39) -> 1.261265 | W39: =(1-2*S39)-(1+2*S39)*M39 -> -0.19406909 | X39: =(1-2*S39)*N39-(1+2*S39) -> -2.1484262 | Y39: =R39*(1-L39^2)*P39/2 -> 0.10031399 | Z39: =Y39*Q39/(Q39-1) -> 0.46805523 | AA39: =(W39*(T39*U39+V39)*O39+X39)/((1+T39^2)*U39+2*T39*V39) -> -0.57151215 | AB39: =(W39*O39+X39*(T39*U39+V39))/((1+T39^2)*U39+2*T39*V39) -> -1.0879978 | AC39: =M39+(1-M39)^2*N39/(1-M39*N39) -> 0.027593424 | AD39: =(1-M39)^2/(1-M39*N39)*O39 -> 0.51107166 | AE39: =AC39+Z39*(1+AB39/SQRT(Q39)+N39) -> 0.047155303 | AF39: =AD39+Z39*(AA39/SQRT(Q39)+(1+M39)*O39) -> 0.52927636 | AG39: =1-AE39-AF39 -> 0.42356834 | AI39: 400 | AJ39: 4.7155287 | AK39: 52.927615 | AL39: =AJ39/100 -> 0.047155287 | AM39: =AK39/100 -> 0.52927615 | AO39: =(AJ39/100-AE39)^2+(AK39/100-AF39)^2 -> 4.3661601e-14
AJ40: 4.7768831 | AK40: 54.173581
AJ41: 4.8249624 | AK41: 54.870027
AJ42: 4.9097071 | AK42: 57.071188
AJ43: 4.9938095 | AK43: 59.010452
AJ44: 5.0588262 | AK44: 59.601741

Sheet Dilution5_quartz
A1: X= | B1: 0.5565 | C1: g/L | AI1: dilution 5
A3: l (nm) | B3: Abs,l (m2/kg) | C3: Ssca,l (m2/kg) | D3: n | E3: k (1/m) | F3: ss (1/m) | G3: g | H3: d (m) | I3: Ssca,tr,λ (m2/kg) | J3: wtr | K3: ttr | L3: mc | M3: R1 | N3: Ctr | O3: Etr | P3: c | Q3: k2 | R3: g | S3: gbar | T3: j | U3: s | V3: c | W3: k1 | X3: k2 | Y3: D1 | Z3: D | AA3: A | AB3: B | AC3: R0dh | AD3: T0dh | AE3: Rdh | AF3: Tdh | AG3: Adh | AI3: l (nm) | AJ3: Rdh | AK3: Tdh | AL3: Rdh | AM3: Tdh | AO3: error
A4: 750 | B4: 57.191617 | C4: 1.0014016 | D4: 1.4542411 | E4: =B4*B$1 -> 31.827135 | F4: =C4*B$1 -> 0.55727999 | G4: 0.0098324126 | H4: 0.01 | I4: =(1-G4)*C4 -> 0.9915554 | J4: =F4*(1-G4)/(F4*(1-G4)+E4) -> 0.017041962 | K4: =(F4*(1-G4)+E4)*H4 -> 0.32378935 | L4: =SQRT(1-1/D4^2) -> 0.72604812 | M4: =(D4-1)^2/(D4+1)^2 -> 0.034256135 | N4: =M4*EXP(-2*K4) -> 0.017926624 | O4: =EXP(-K4) -> 0.72340261 | P4: =J4/(1-J4)*(1-M4)/(1-M4*N4) -> 0.016753801 | Q4: =4/(1+L4)^2*(1-J4)/(1-J4*L4) -> 1.3362765 | R4: =(1-M4)/(1+M4) -> 0.93375696 | S4: =R4/(1+L4) -> 0.54097968 | T4: =2*S4/SQRT(Q4) -> 0.93597183 | U4: =SINH(SQRT(Q4)*K4) -> 0.38309297 | V4: =COSH(SQRT(Q4)*K4) -> 1.0708689 | W4: =(1-2*S4)-(1+2*S4)*M4 -> -0.15327924 | X4: =(1-2*S4)*N4-(1+2*S4) -> -2.0834286 | Y4: =R4*(1-L4^2)*P4/2 -> 0.0036986598 | Z4: =Y4*Q4/(Q4-1) -> 0.014697524 | AA4: =(W4*(T4*U4+V4)*O4+X4)/((1+T4^2)*U4+2*T4*V4) -> -0.82323782 | AB4: =(W4*O4+X4*(T4*U4+V4))/((1+T4^2)*U4+2*T4*V4) -> -1.1342851 | AC4: =M4+(1-M4)^2*N4/(1-M4*N4) -> 0.050985876 | AD4: =(1-M4)^2/(1-M4*N4)*O4 -> 0.67510413 | AE4: =AC4+Z4*(1+AB4/SQRT(Q4)+N4) -> 0.051525118 | AF4: =AD4+Z4*(AA4/SQRT(Q4)+(1+M4)*O4) -> 0.6756336 | AG4: =1-AE4-AF4 -> 0.27284128 | AI4: 750 | AJ4: 5.2243407 | AK4: 67.566328 | AL4: =AJ4/100 -> 0.052243407 | AM4: =AK4/100 -> 0.67566328 | AO4: =(AJ4/100-AE4)^2+(AK4/100-AF4)^2 -> 5.1681968e-07
A5: 740 | B5: 59.447268 | C5: 1.0018841 | D5: 1.4544398 | E5: =B5*B$1 -> 33.082405 | F5: =C5*B$1 -> 0.55754848 | G5: -0.14879127 | H5: 0.01 | I5: =(1-G5)*C5 -> 1.1509557 | J5: =F5*(1-G5)/(F5*(1-G5)+E5) -> 0.018993225 | K5: =(F5*(1-G5)+E5)*H5 -> 0.33722912 | L5: =SQRT(1-1/D5^2) -> 0.7261371 | M5: =(D5-1)^2/(D5+1)^2 -> 0.034280564 | N5: =M5*EXP(-2*K5) -> 0.017463628 | O5: =EXP(-K5) -> 0.71374529 | P5: =J5/(1-J5)*(1-M5)/(1-M5*N5) -> 0.018708447 | Q5: =4/(1+L5)^2*(1-J5)/(1-J5*L5) -> 1.3354043 | R5: =(1-M5)/(1+M5) -> 0.93371129 | S5: =R5/(1+L5) -> 0.54092533 | T5: =2*S5/SQRT(Q5) -> 0.9361834 | U5: =SINH(SQRT(Q5)*K5) -> 0.39963988 | V5: =COSH(SQRT(Q5)*K5) -> 1.0768993 | W5: =(1-2*S5)-(1+2*S5)*M5 -> -0.15321768 | X5: =(1-2*S5)*N5-(1+2*S5) -> -2.0832801 | Y5: =R5*(1-L5^2)*P5/2 -> 0.0041288476 | Z5: =Y5*Q5/(Q5-1) -> 0.01643891 | AA5: =(W5*(T5*U5+V5)*O5+X5)/((1+T5^2)*U5+2*T5*V5) -> -0.81047001 | AB5: =(W5*O5+X5*(T5*U5+V5))/((1+T5^2)*U5+2*T5*V5) -> -1.1323168 | AC5: =M5+(1-M5)^2*N5/(1-M5*N5) -> 0.050577145 | AD5: =(1-M5)^2/(1-M5*N5)*O5 -> 0.66604761 | AE5: =AC5+Z5*(1+AB5/SQRT(Q5)+N5) -> 0.051195399 | AF5: =AD5+Z5*(AA5/SQRT(Q5)+(1+M5)*O5) -> 0.66665371 | AG5: =1-AE5-AF5 -> 0.28215089 | AI5: 740 | AJ5: 5.1460538 | AK5: 66.666893 | AL5: =AJ5/100 -> 0.051460538 | AM5: =AK5/100 -> 0.66666893 | AO5: =(AJ5/100-AE5)^2+(AK5/100-AF5)^2 -> 7.0530098e-08
A6: 730 | B6: 62.745037 | C6: 1.0008161 | D6: 1.4546443 | E6: =B6*B$1 -> 34.917613 | F6: =C6*B$1 -> 0.55695418 | G6: 0.19897981 | H6: 0.01 | I6: =(1-G6)*C6 -> 0.80167394 | J6: =F6*(1-G6)/(F6*(1-G6)+E6) -> 0.012615506 | K6: =(F6*(1-G6)+E6)*H6 -> 0.35363745 | L6: =SQRT(1-1/D6^2) -> 0.72622859 | M6: =(D6-1)^2/(D6+1)^2 -> 0.034305704 | N6: =M6*EXP(-2*K6) -> 0.016912225 | O6: =EXP(-K6) -> 0.70212948 | P6: =J6/(1-J6)*(1-M6)/(1-M6*N6) -> 0.01234554 | Q6: =4/(1+L6)^2*(1-J6)/(1-J6*L6) -> 1.3376636 | R6: =(1-M6)/(1+M6) -> 0.93366429 | S6: =R6/(1+L6) -> 0.54086944 | T6: =2*S6/SQRT(Q6) -> 0.93529579 | U6: =SINH(SQRT(Q6)*K6) -> 0.42050732 | V6: =COSH(SQRT(Q6)*K6) -> 1.0848163 | W6: =(1-2*S6)-(1+2*S6)*M6 -> -0.15315439 | X6: =(1-2*S6)*N6-(1+2*S6) -> -2.0831213 | Y6: =R6*(1-L6^2)*P6/2 -> 0.0027236873 | Z6: =Y6*Q6/(Q6-1) -> 0.010789961 | AA6: =(W6*(T6*U6+V6)*O6+X6)/((1+T6^2)*U6+2*T6*V6) -> -0.79573547 | AB6: =(W6*O6+X6*(T6*U6+V6))/((1+T6^2)*U6+2*T6*V6) -> -1.1309696 | AC6: =M6+(1-M6)^2*N6/(1-M6*N6) -> 0.050086617 | AD6: =(1-M6)^2/(1-M6*N6)*O6 -> 0.65516183 | AE6: =AC6+Z6*(1+AB6/SQRT(Q6)+N6) -> 0.050507969 | AF6: =AD6+Z6*(AA6/SQRT(Q6)+(1+M6)*O6) -> 0.65557407 | AG6: =1-AE6-AF6 -> 0.29391797 | AI6: 730 | AJ6: 5.0942698 | AK6: 65.62122 | AL6: =AJ6/100 -> 0.050942698 | AM6: =AK6/100 -> 0.6562122 | AO6: =(AJ6/100-AE6)^2+(AK6/100-AF6)^2 -> 5.9620371e-07
A7: 720 | B7: 69.368522 | C7: 1.0024937 | D7: 1.4548549 | E7: =B7*B$1 -> 38.603582 | F7: =C7*B$1 -> 0.55788775 | G7: -0.32666469 | H7: 0.01 | I7: =(1-G7)*C7 -> 1.329973 | J7: =F7*(1-G7)/(F7*(1-G7)+E7) -> 0.0188119 | K7: =(F7*(1-G7)+E7)*H7 -> 0.39343712 | L7: =SQRT(1-1/D7^2) -> 0.72632277 | M7: =(D7-1)^2/(D7+1)^2 -> 0.0343316 | N7: =M7*EXP(-2*K7) -> 0.015629997 | O7: =EXP(-K7) -> 0.67473374 | P7: =J7/(1-J7)*(1-M7)/(1-M7*N7) -> 0.018524288 | Q7: =4/(1+L7)^2*(1-J7)/(1-J7*L7) -> 1.3351903 | R7: =(1-M7)/(1+M7) -> 0.93361587 | S7: =R7/(1+L7) -> 0.54081189 | T7: =2*S7/SQRT(Q7) -> 0.93606206 | U7: =SINH(SQRT(Q7)*K7) -> 0.47044085 | V7: =COSH(SQRT(Q7)*K7) -> 1.105131 | W7: =(1-2*S7)-(1+2*S7)*M7 -> -0.15308925 | X7: =(1-2*S7)*N7-(1+2*S7) -> -2.0828996 | Y7: =R7*(1-L7^2)*P7/2 -> 0.0040854548 | Z7: =Y7*Q7/(Q7-1) -> 0.016273919 | AA7: =(W7*(T7*U7+V7)*O7+X7)/((1+T7^2)*U7+2*T7*V7) -> -0.75977387 | AB7: =(W7*O7+X7*(T7*U7+V7))/((1+T7^2)*U7+2*T7*V7) -> -1.1256312 | AC7: =M7+(1-M7)^2*N7/(1-M7*N7) -> 0.048914639 | AD7: =(1-M7)^2/(1-M7*N7)*O7 -> 0.62953746 | AE7: =AC7+Z7*(1+AB7/SQRT(Q7)+N7) -> 0.049589729 | AF7: =AD7+Z7*(AA7/SQRT(Q7)+(1+M7)*O7) -> 0.63019448 | AG7: =1-AE7-AF7 -> 0.32021579 | AI7: 720 | AJ7: 4.9853308 | AK7: 63.022367 | AL7: =AJ7/100 -> 0.049853308 | AM7: =AK7/100 -> 0.63022367 | AO7: =(AJ7/100-AE7)^2+(AK7/100-AF7)^2 -> 7.0326059e-08
A8: 710 | B8: 90.396196 | C8: 1.4852605 | D8: 1.455072 | E8: =B8*B$1 -> 50.305483 | F8: =C8*B$1 -> 0.82654748 | G8: -0.15483707 | H8: 0.01 | I8: =(1-G8)*C8 -> 1.7152339 | J8: =F8*(1-G8)/(F8*(1-G8)+E8) -> 0.018621293 | K8: =(F8*(1-G8)+E8)*H8 -> 0.51260011 | L8: =SQRT(1-1/D8^2) -> 0.72641981 | M8: =(D8-1)^2/(D8+1)^2 -> 0.034358302 | N8: =M8*EXP(-2*K8) -> 0.012325169 | O8: =EXP(-K8) -> 0.59893625 | P8: =J8/(1-J8)*(1-M8)/(1-M8*N8) -> 0.018330451 | Q8: =4/(1+L8)^2*(1-J8)/(1-J8*L8) -> 1.3351146 | R8: =(1-M8)/(1+M8) -> 0.93356596 | S8: =R8/(1+L8) -> 0.54075258 | T8: =2*S8/SQRT(Q8) -> 0.93598593 | U8: =SINH(SQRT(Q8)*K8) -> 0.62753822 | V8: =COSH(SQRT(Q8)*K8) -> 1.1805949 | W8: =(1-2*S8)-(1+2*S8)*M8 -> -0.15302213 | X8: =(1-2*S8)*N8-(1+2*S8) -> -2.0825097 | Y8: =R8*(1-L8^2)*P8/2 -> 0.0040412827 | Z8: =Y8*Q8/(Q8-1) -> 0.016100688 | AA8: =(W8*(T8*U8+V8)*O8+X8)/((1+T8^2)*U8+2*T8*V8) -> -0.66262628 | AB8: =(W8*O8+X8*(T8*U8+V8))/((1+T8^2)*U8+2*T8*V8) -> -1.1139837 | AC8: =M8+(1-M8)^2*N8/(1-M8*N8) -> 0.045855946 | AD8: =(1-M8)^2/(1-M8*N8)*O8 -> 0.55872303 | AE8: =AC8+Z8*(1+AB8/SQRT(Q8)+N8) -> 0.046632494 | AF8: =AD8+Z8*(AA8/SQRT(Q8)+(1+M8)*O8) -> 0.55946441 | AG8: =1-AE8-AF8 -> 0.39390309 | AI8: 710 | AJ8: 4.7454321 | AK8: 55.916736 | AL8: =AJ8/100 -> 0.047454321 | AM8: =AK8/100 -> 0.55916736 | AO8: =(AJ8/100-AE8)^2+(AK8/100-AF8)^2 -> 7.636404e-07
A9: 700 | B9: 146.24241 | C9: 1.4779229 | D9: 1.455296 | E9: =B9*B$1 -> 81.383901 | F9: =C9*B$1 -> 0.82246407 | G9: -2.6107557 | H9: 0.01 | I9: =(1-G9)*C9 -> 5.3364183 | J9: =F9*(1-G9)/(F9*(1-G9)+E9) -> 0.035205565 | K9: =(F9*(1-G9)+E9)*H9 -> 0.84353618 | L9: =SQRT(1-1/D9^2) -> 0.72651988 | M9: =(D9-1)^2/(D9+1)^2 -> 0.034385862 | N9: =M9*EXP(-2*K9) -> 0.0063634656 | O9: =EXP(-K9) -> 0.43018661 | P9: =J9/(1-J9)*(1-M9)/(1-M9*N9) -> 0.035243188 | Q9: =4/(1+L9)^2*(1-J9)/(1-J9*L9) -> 1.3286308 | R9: =(1-M9)/(1+M9) -> 0.93351444 | S9: =R9/(1+L9) -> 0.54069139 | T9: =2*S9/SQRT(Q9) -> 0.93816081 | U9: =SINH(SQRT(Q9)*K9) -> 1.1329222 | V9: =COSH(SQRT(Q9)*K9) -> 1.5111296 | W9: =(1-2*S9)-(1+2*S9)*M9 -> -0.15295293 | X9: =(1-2*S9)*N9-(1+2*S9) -> -2.0819007 | Y9: =R9*(1-L9^2)*P9/2 -> 0.0077671837 | Z9: =Y9*Q9/(Q9-1) -> 0.031402165 | AA9: =(W9*(T9*U9+V9)*O9+X9)/((1+T9^2)*U9+2*T9*V9) -> -0.45338828 | AB9: =(W9*O9+X9*(T9*U9+V9))/((1+T9^2)*U9+2*T9*V9) -> -1.0924738 | AC9: =M9+(1-M9)^2*N9/(1-M9*N9) -> 0.040320524 | AD9: =(1-M9)^2/(1-M9*N9)*O9 -> 0.40119837 | AE9: =AC9+Z9*(1+AB9/SQRT(Q9)+N9) -> 0.04216008 | AF9: =AD9+Z9*(AA9/SQRT(Q9)+(1+M9)*O9) -> 0.40281995 | AG9: =1-AE9-AF9 -> 0.55501997 | AI9: 700 | AJ9: 4.3125553 | AK9: 40.257836 | AL9: =AJ9/100 -> 0.043125553 | AM9: =AK9/100 -> 0.40257836 | AO9: =(AJ9/100-AE9)^2+(AK9/100-AF9)^2 -> 9.9050494e-07
A10: 690 | B10: 319.73122 | C10: 2.4529968 | D10: 1.4555274 | E10: =B10*B$1 -> 177.93042 | F10: =C10*B$1 -> 1.3650927 | G10: -4.5037393 | H10: 0.01 | I10: =(1-G10)*C10 -> 13.500655 | J10: =F10*(1-G10)/(F10*(1-G10)+E10) -> 0.040514296 | K10: =(F10*(1-G10)+E10)*H10 -> 1.8544354 | L10: =SQRT(1-1/D10^2) -> 0.72662319 | M10: =(D10-1)^2/(D10+1)^2 -> 0.034414338 | N10: =M10*EXP(-2*K10) -> 0.00084332953 | O10: =EXP(-K10) -> 0.1565413 | P10: =J10/(1-J10)*(1-M10)/(1-M10*N10) -> 0.040773051 | Q10: =4/(1+L10)^2*(1-J10)/(1-J10*L10) -> 1.3264178 | R10: =(1-M10)/(1+M10) -> 0.93346121 | S10: =R10/(1+L10) -> 0.54062821 | T10: =2*S10/SQRT(Q10) -> 0.93883338 | U10: =SINH(SQRT(Q10)*K10) -> 4.1726489 | V10: =COSH(SQRT(Q10)*K10) -> 4.2908039 | W10: =(1-2*S10)-(1+2*S10)*M10 -> -0.15288149 | X10: =(1-2*S10)*N10-(1+2*S10) -> -2.081325 | Y10: =R10*(1-L10^2)*P10/2 -> 0.008982531 | Z10: =Y10*Q10/(Q10-1) -> 0.036501036 | AA10: =(W10*(T10*U10+V10)*O10+X10)/((1+T10^2)*U10+2*T10*V10) -> -0.14319131 | AB10: =(W10*O10+X10*(T10*U10+V10))/((1+T10^2)*U10+2*T10*V10) -> -1.0754857 | AC10: =M10+(1-M10)^2*N10/(1-M10*N10) -> 0.035200644 | AD10: =(1-M10)^2/(1-M10*N10)*O10 -> 0.14595641 | AE10: =AC10+Z10*(1+AB10/SQRT(Q10)+N10) -> 0.037646964 | AF10: =AD10+Z10*(AA10/SQRT(Q10)+(1+M10)*O10) -> 0.14732879 | AG10: =1-AE10-AF10 -> 0.81502425 | AI10: 690 | AJ10: 3.8509189 | AK10: 14.734239 | AL10: =AJ10/100 -> 0.038509189 | AM10: =AK10/100 -> 0.14734239 | AO10: =(AJ10/100-AE10)^2+(AK10/100-AF10)^2 -> 7.4361659e-07
A11: 680 | B11: 486.7325 | C11: 2.1618915 | D11: 1.4557667 | E11: =B11*B$1 -> 270.86664 | F11: =C11*B$1 -> 1.2030926 | G11: -6.8996107 | H11: 0.01 | I11: =(1-G11)*C11 -> 17.078101 | J11: =F11*(1-G11)/(F11*(1-G11)+E11) -> 0.03389786 | K11: =(F11*(1-G11)+E11)*H11 -> 2.803706 | L11: =SQRT(1-1/D11^2) -> 0.72672996 | M11: =(D11-1)^2/(D11+1)^2 -> 0.034443791 | N11: =M11*EXP(-2*K11) -> 0.00012642788 | O11: =EXP(-K11) -> 0.060585118 | P11: =J11/(1-J11)*(1-M11)/(1-M11*N11) -> 0.033878852 | Q11: =4/(1+L11)^2*(1-J11)/(1-J11*L11) -> 1.3288221 | R11: =(1-M11)/(1+M11) -> 0.93340616 | S11: =R11/(1+L11) -> 0.54056291 | T11: =2*S11/SQRT(Q11) -> 0.93787037 | U11: =SINH(SQRT(Q11)*K11) -> 12.644879 | V11: =COSH(SQRT(Q11)*K11) -> 12.684359 | W11: =(1-2*S11)-(1+2*S11)*M11 -> -0.15280767 | X11: =(1-2*S11)*N11-(1+2*S11) -> -2.0811361 | Y11: =R11*(1-L11^2)*P11/2 -> 0.007460807 | Z11: =Y11*Q11/(Q11-1) -> 0.030150302 | AA11: =(W11*(T11*U11+V11)*O11+X11)/((1+T11^2)*U11+2*T11*V11) -> -0.048535806 | AB11: =(W11*O11+X11*(T11*U11+V11))/((1+T11^2)*U11+2*T11*V11) -> -1.0741795 | AC11: =M11+(1-M11)^2*N11/(1-M11*N11) -> 0.03456166 | AD11: =(1-M11)^2/(1-M11*N11)*O11 -> 0.056483678 | AE11: =AC11+Z11*(1+AB11/SQRT(Q11)+N11) -> 0.036620381 | AF11: =AD11+Z11*(AA11/SQRT(Q11)+(1+M11)*O11) -> 0.057103791 | AG11: =1-AE11-AF11 -> 0.90627583 | AI11: 680 | AJ11: 3.7573844 | AK11: 5.7125162 | AL11: =AJ11/100 -> 0.037573844 | AM11: =AK11/100 -> 0.057125162 | AO11: =(AJ11/100-AE11)^2+(AK11/100-AF11)^2 -> 9.0954839e-07
A12: 670 | B12: 464.96521 | C12: 3.4000303 | D12: 1.4560144 | E12: =B12*B$1 -> 258.75314 | F12: =C12*B$1 -> 1.8921169 | G12: -3.4997581 | H12: 0.01 | I12: =(1-G12)*C12 -> 15.299314 | J12: =F12*(1-G12)/(F12*(1-G12)+E12) -> 0.031856015 | K12: =(F12*(1-G12)+E12)*H12 -> 2.6726721 | L12: =SQRT(1-1/D12^2) -> 0.72684041 | M12: =(D12-1)^2/(D12+1)^2 -> 0.034474287 | N12: =M12*EXP(-2*K12) -> 0.00016445301 | O12: =EXP(-K12) -> 0.069067425 | P12: =J12/(1-J12)*(1-M12)/(1-M12*N12) -> 0.031770043 | Q12: =4/(1+L12)^2*(1-J12)/(1-J12*L12) -> 1.3294425 | R12: =(1-M12)/(1+M12) -> 0.93334917 | S12: =R12/(1+L12) -> 0.54049532 | T12: =2*S12/SQRT(Q12) -> 0.9375343 | U12: =SINH(SQRT(Q12)*K12) -> 10.874003 | V12: =COSH(SQRT(Q12)*K12) -> 10.919887 | W12: =(1-2*S12)-(1+2*S12)*M12 -> -0.15273132 | X12: =(1-2*S12)*N12-(1+2*S12) -> -2.081004 | Y12: =R12*(1-L12^2)*P12/2 -> 0.0069935972 | Z12: =Y12*Q12/(Q12-1) -> 0.028222183 | AA12: =(W12*(T12*U12+V12)*O12+X12)/((1+T12^2)*U12+2*T12*V12) -> -0.056315808 | AB12: =(W12*O12+X12*(T12*U12+V12))/((1+T12^2)*U12+2*T12*V12) -> -1.0743807 | AC12: =M12+(1-M12)^2*N12/(1-M12*N12) -> 0.034627598 | AD12: =(1-M12)^2/(1-M12*N12)*O12 -> 0.064387774 | AE12: =AC12+Z12*(1+AB12/SQRT(Q12)+N12) -> 0.036556949 | AF12: =AD12+Z12*(AA12/SQRT(Q12)+(1+M12)*O12) -> 0.065025772 | AG12: =1-AE12-AF12 -> 0.89841728 | AI12: 670 | AJ12: 3.7423329 | AK12: 6.5152155 | AL12: =AJ12/100 -> 0.037423329 | AM12: =AK12/100 -> 0.065152155 | AO12: =(AJ12/100-AE12)^2+(AK12/100-AF12)^2 -> 7.6658807e-07
A13: 660 | B13: 345.62518 | C13: 1.9791828 | D13: 1.4562711 | E13: =B13*B$1 -> 192.34041 | F13: =C13*B$1 -> 1.1014152 | G13: -3.3786698 | H13: 0.01 | I13: =(1-G13)*C13 -> 8.666188 | J13: =F13*(1-G13)/(F13*(1-G13)+E13) -> 0.024460624 | K13: =(F13*(1-G13)+E13)*H13 -> 1.9716315 | L13: =SQRT(1-1/D13^2) -> 0.72695479 | M13: =(D13-1)^2/(D13+1)^2 -> 0.034505898 | N13: =M13*EXP(-2*K13) -> 0.00066889198 | O13: =EXP(-K13) -> 0.13922952 | P13: =J13/(1-J13)*(1-M13)/(1-M13*N13) -> 0.024209308 | Q13: =4/(1+L13)^2*(1-J13)/(1-J13*L13) -> 1.332094 | R13: =(1-M13)/(1+M13) -> 0.93329009 | S13: =R13/(1+L13) -> 0.54042532 | T13: =2*S13/SQRT(Q13) -> 0.93647944 | U13: =SINH(SQRT(Q13)*K13) -> 4.8154404 | V13: =COSH(SQRT(Q13)*K13) -> 4.9181771 | W13: =(1-2*S13)-(1+2*S13)*M13 -> -0.15265226 | X13: =(1-2*S13)*N13-(1+2*S13) -> -2.0809047 | Y13: =R13*(1-L13^2)*P13/2 -> 0.0053270229 | Z13: =Y13*Q13/(Q13-1) -> 0.021367732 | AA13: =(W13*(T13*U13+V13)*O13+X13)/((1+T13^2)*U13+2*T13*V13) -> -0.12500094 | AB13: =(W13*O13+X13*(T13*U13+V13))/((1+T13^2)*U13+2*T13*V13) -> -1.0761302 | AC13: =M13+(1-M13)^2*N13/(1-M13*N13) -> 0.035129439 | AD13: =(1-M13)^2/(1-M13*N13)*O13 -> 0.12978981 | AE13: =AC13+Z13*(1+AB13/SQRT(Q13)+N13) -> 0.036588415 | AF13: =AD13+Z13*(AA13/SQRT(Q13)+(1+M13)*O13) -> 0.13055327 | AG13: =1-AE13-AF13 -> 0.83285832 | AI13: 660 | AJ13: 3.7543491 | AK13: 13.051939 | AL13: =AJ13/100 -> 0.037543491 | AM13: =AK13/100 -> 0.13051939 | AO13: =(AJ13/100-AE13)^2+(AK13/100-AF13)^2 -> 9.1331884e-07
A14: 650 | B14: 305.56662 | C14: 2.1191913 | D14: 1.4565374 | E14: =B14*B$1 -> 170.04782 | F14: =C14*B$1 -> 1.1793299 | G14: -2.4004862 | H14: 0.01 | I14: =(1-G14)*C14 -> 7.2062808 | J14: =F14*(1-G14)/(F14*(1-G14)+E14) -> 0.023039978 | K14: =(F14*(1-G14)+E14)*H14 -> 1.7405812 | L14: =SQRT(1-1/D14^2) -> 0.72707337 | M14: =(D14-1)^2/(D14+1)^2 -> 0.034538701 | N14: =M14*EXP(-2*K14) -> 0.0010628119 | O14: =EXP(-K14) -> 0.17541842 | P14: =J14/(1-J14)*(1-M14)/(1-M14*N14) -> 0.022769636 | Q14: =4/(1+L14)^2*(1-J14)/(1-J14*L14) -> 1.3324534 | R14: =(1-M14)/(1+M14) -> 0.93322879 | S14: =R14/(1+L14) -> 0.54035272 | T14: =2*S14/SQRT(Q14) -> 0.93622735 | U14: =SINH(SQRT(Q14)*K14) -> 3.6615761 | V14: =COSH(SQRT(Q14)*K14) -> 3.7956738 | W14: =(1-2*S14)-(1+2*S14)*M14 -> -0.1525703 | X14: =(1-2*S14)*N14-(1+2*S14) -> -2.0807912 | Y14: =R14*(1-L14^2)*P14/2 -> 0.0050080761 | Z14: =Y14*Q14/(Q14-1) -> 0.02007207 | AA14: =(W14*(T14*U14+V14)*O14+X14)/((1+T14^2)*U14+2*T14*V14) -> -0.16269019 | AB14: =(W14*O14+X14*(T14*U14+V14))/((1+T14^2)*U14+2*T14*V14) -> -1.0772348 | AC14: =M14+(1-M14)^2*N14/(1-M14*N14) -> 0.035529401 | AD14: =(1-M14)^2/(1-M14*N14)*O14 -> 0.16351624 | AE14: =AC14+Z14*(1+AB14/SQRT(Q14)+N14) -> 0.036891133 | AF14: =AD14+Z14*(AA14/SQRT(Q14)+(1+M14)*O14) -> 0.16432989 | AG14: =1-AE14-AF14 -> 0.79877897 | AI14: 650 | AJ14: 3.7843511 | AK14: 16.427951 | AL14: =AJ14/100 -> 0.037843511 | AM14: =AK14/100 -> 0.16427951 | AO14: =(AJ14/100-AE14)^2+(AK14/100-AF14)^2 -> 9.0956258e-07
